From mboxrd@z Thu Jan  1 00:00:00 1970
Return-Path: <test-report-bounces@dpdk.org>
Received: from mails.dpdk.org (mails.dpdk.org [217.70.189.124])
	by inbox.dpdk.org (Postfix) with ESMTP id 15B84456C1
	for <public@inbox.dpdk.org>; Sat, 27 Jul 2024 00:44:24 +0200 (CEST)
Received: from mails.dpdk.org (localhost [127.0.0.1])
	by mails.dpdk.org (Postfix) with ESMTP id 0EE6E40696;
	Sat, 27 Jul 2024 00:44:24 +0200 (CEST)
Received: from mail-yw1-f225.google.com (mail-yw1-f225.google.com
 [209.85.128.225])
 by mails.dpdk.org (Postfix) with ESMTP id 3AC7340274
 for <test-report@dpdk.org>; Sat, 27 Jul 2024 00:44:22 +0200 (CEST)
Received: by mail-yw1-f225.google.com with SMTP id
 00721157ae682-6687f2f0986so1931537b3.0
 for <test-report@dpdk.org>; Fri, 26 Jul 2024 15:44:22 -0700 (PDT)
DKIM-Signature: v=1; a=rsa-sha256; c=relaxed/relaxed;
 d=iol.unh.edu; s=unh-iol; t=1722033861; x=1722638661; darn=dpdk.org;
 h=references:in-reply-to:cc:to:from:subject:message-id:date:from:to
 :cc:subject:date:message-id:reply-to;
 bh=2CVGSw2KIyI7QKf7ZnmVZmyPwgl010ELJEVCJCw17hY=;
 b=hlWmRkiofx8z8qNCpLMrMTlFp3DKI9O57kWguf4/LOsaLYJUqRiW/wS3wkIeBkGRp+
 0AlBlklMXeGsllQ10T85fSn+1fLkMVVxRr5wEAkdT3sC1mliB59dpWdRIIoAZJZ7RR17
 /0lUdJKOX871UKjZZ/fsMlgplNlNAS310VKpA=
X-Google-DKIM-Signature: v=1; a=rsa-sha256; c=relaxed/relaxed;
 d=1e100.net; s=20230601; t=1722033861; x=1722638661;
 h=references:in-reply-to:cc:to:from:subject:message-id:date
 :x-gm-message-state:from:to:cc:subject:date:message-id:reply-to;
 bh=2CVGSw2KIyI7QKf7ZnmVZmyPwgl010ELJEVCJCw17hY=;
 b=GeLPRCDDYLsNAqY05pnQS5xvsz3rRSAqObbTbZkYVsIC02dApaXk9XLrj0vtCprBoP
 9utUtbh7z5bL9mOeVEMa9X5Ua32R4XRLqRPxuH8Q/QoQYufBwTZPtuOQ7qYIw0rrgZde
 MbyT1bLuSeBKmfn9Yd3aO09sfBWsPAkIlQGQ+9pSme1OXgL4uGpNFHQriFTX+bBwGJfy
 yzrclkJj7DFzV0JDYZPNm4HZ7lm8q6JXGgJI/XAb9fEIlF/l6HeaAEWda11O4TYGZuSu
 zFDxRVVRSf+hBP2bQb/fINcpByX2smLhzd8UYC8JklC389hg8crv54xiBgXHCBm0IZHk
 GAJQ==
X-Gm-Message-State: AOJu0Yyl6f3Pg/8bWDeqHZ6Sn80xtkIV6GDr3qwQH/KQhzQg8jgrm808
 eBCnPZ0zBxP8KNqnztpLW+nUZ8A4hr1HocAry7kKY1/OT8trH0N6H375Hjrtx/NwdCOqdjP8aEK
 Kfxids6+zNqGVR8ugyUcNr2oZXmv2QcDOd6S+Qv7zoKEt5FTh1V6YtRVp
X-Google-Smtp-Source: AGHT+IHuLeq7ngVz31X8yTYOkYEo5vI3+fQYbegFRZEIzmMy05GiKQ7DcyaIGhpeOEYzX0onPeC5GJttCsvt
X-Received: by 2002:a81:5c04:0:b0:62f:9e2d:3e5d with SMTP id
 00721157ae682-67a0a8f2addmr14401467b3.43.1722033861603; 
 Fri, 26 Jul 2024 15:44:21 -0700 (PDT)
Received: from postal.iol.unh.edu (postal.iol.unh.edu.
 [2606:4100:3880:1234::84]) by smtp-relay.gmail.com with ESMTPS id
 00721157ae682-6756b7ce73csm3198077b3.66.2024.07.26.15.44.21
 (version=TLS1_2 cipher=ECDHE-ECDSA-AES128-GCM-SHA256 bits=128/128);
 Fri, 26 Jul 2024 15:44:21 -0700 (PDT)
X-Relaying-Domain: iol.unh.edu
Date: Fri, 26 Jul 2024 15:44:21 -0700 (PDT)
Message-ID: <66a426c5.810a0220.1d7acf.2cbeSMTPIN_ADDED_MISSING@mx.google.com>
Received: from [172.21.0.8] (unknown [172.18.0.240])
 by postal.iol.unh.edu (Postfix) with ESMTP id 43CBB605C381;
 Fri, 26 Jul 2024 18:44:21 -0400 (EDT)
Subject: |PENDING| pw142739-142738 [PATCH] [v4,4/4] eal: describe Arm CPU fea
From: dpdklab@iol.unh.edu
To: Test Report <test-report@dpdk.org>
Cc: dpdk-test-reports@iol.unh.edu
In-Reply-To: <20240726171528.2245682-4-wathsala.vithanage@arm.com>
References: <20240726171528.2245682-4-wathsala.vithanage@arm.com>
Content-Type: text/plain
X-BeenThere: test-report@dpdk.org
X-Mailman-Version: 2.1.29
Precedence: list
List-Id: automatic DPDK test reports <test-report.dpdk.org>
List-Unsubscribe: <https://mails.dpdk.org/options/test-report>,
 <mailto:test-report-request@dpdk.org?subject=unsubscribe>
List-Archive: <http://mails.dpdk.org/archives/test-report/>
List-Post: <mailto:test-report@dpdk.org>
List-Help: <mailto:test-report-request@dpdk.org?subject=help>
List-Subscribe: <https://mails.dpdk.org/listinfo/test-report>,
 <mailto:test-report-request@dpdk.org?subject=subscribe>
Errors-To: test-report-bounces@dpdk.org

Test-Label: iol-unit-arm64-testing
Test-Status: PENDING
http://dpdk.org/patch/142738

_Testing pending_

Submitter: Wathsala Wathawana Vithanage <wathsala.vithanage@arm.com>
Date: Friday, July 26 2024 17:15:27 
DPDK git baseline: Repo:dpdk
  Branch: master
  CommitID:82c47f005b9a0a1e3a649664b7713443d18abe43

142739-142738 --> testing pending

Upstream job id: Generic-Unit-Test-DPDK#245278

Test environment and result as below:

+-----------------------------+----------------+--------------+------------------------------+---------------------------+
|         Environment         | dpdk_unit_test | lpm_autotest | cryptodev_sw_snow3g_autotest | cryptodev_sw_zuc_autotest |
+=============================+================+==============+==============================+===========================+
| 32-bit Ubuntu 20.04.4 (ARM) | PASS           | SKIPPED      | SKIPPED                      | SKIPPED                   |
+-----------------------------+----------------+--------------+------------------------------+---------------------------+
| CentOS Stream 9 (ARM)       | PASS           | SKIPPED      | SKIPPED                      | SKIPPED                   |
+-----------------------------+----------------+--------------+------------------------------+---------------------------+
| Debian 11 (Buster) (ARM)    | PASS           | SKIPPED      | SKIPPED                      | SKIPPED                   |
+-----------------------------+----------------+--------------+------------------------------+---------------------------+
| Debian 12 (arm)             | PASS           | SKIPPED      | PASS                         | PASS                      |
+-----------------------------+----------------+--------------+------------------------------+---------------------------+
| Fedora 37 (ARM)             | PASS           | SKIPPED      | SKIPPED                      | SKIPPED                   |
+-----------------------------+----------------+--------------+------------------------------+---------------------------+
| Fedora 38 (ARM)             | PASS           | SKIPPED      | SKIPPED                      | SKIPPED                   |
+-----------------------------+----------------+--------------+------------------------------+---------------------------+
| Fedora 39 (ARM Clang)       | PEND           | SKIPPED      | SKIPPED                      | SKIPPED                   |
+-----------------------------+----------------+--------------+------------------------------+---------------------------+
| Fedora 38 (ARM Clang)       | PEND           | SKIPPED      | SKIPPED                      | SKIPPED                   |
+-----------------------------+----------------+--------------+------------------------------+---------------------------+
| Fedora 39 (ARM)             | PASS           | SKIPPED      | SKIPPED                      | SKIPPED                   |
+-----------------------------+----------------+--------------+------------------------------+---------------------------+
| Fedora 40 (ARM Clang)       | PEND           | SKIPPED      | SKIPPED                      | SKIPPED                   |
+-----------------------------+----------------+--------------+------------------------------+---------------------------+
| Fedora 40 (ARM)             | PEND           | SKIPPED      | SKIPPED                      | SKIPPED                   |
+-----------------------------+----------------+--------------+------------------------------+---------------------------+
| RHEL9 (ARM)                 | PEND           | SKIPPED      | SKIPPED                      | SKIPPED                   |
+-----------------------------+----------------+--------------+------------------------------+---------------------------+
| Ubuntu 20.04 (ARM)          | PEND           | SKIPPED      | SKIPPED                      | SKIPPED                   |
+-----------------------------+----------------+--------------+------------------------------+---------------------------+
| Ubuntu 22.04 (ARM)          | PEND           | SKIPPED      | SKIPPED                      | SKIPPED                   |
+-----------------------------+----------------+--------------+------------------------------+---------------------------+
| Ubuntu 20.04 ARM SVE        | SKIPPED        | PEND         | SKIPPED                      | SKIPPED                   |
+-----------------------------+----------------+--------------+------------------------------+---------------------------+


32-bit Ubuntu 20.04.4 (ARM)
	Kernel: 5.4.0-155-generic aarch64
	Compiler: gcc 9.4

CentOS Stream 9 (ARM)
	Kernel: Container Host Kernel
	Compiler: gcc 11.4.1

Debian 11 (Buster) (ARM)
	Kernel: Container Host Kernel
	Compiler: gcc 10.2.1

Debian 12 (arm)
	Kernel: Container Host Kernel
	Compiler: gcc 12.2.0

Fedora 37 (ARM)
	Kernel: Depends on container host
	Compiler: gcc 12.3.1

Fedora 38 (ARM)
	Kernel: Depends on container host
	Compiler: gcc 13.2.1

Fedora 39 (ARM Clang)
	Kernel: Depends on container host
	Compiler: clang 17.0.6

Fedora 38 (ARM Clang)
	Kernel: Depends on container host
	Compiler: clang 16.0.6

Fedora 39 (ARM)
	Kernel: Depends on container host
	Compiler: gcc 13.2.1

Fedora 40 (ARM Clang)
	Kernel: Depends on container host
	Compiler: clang 18.1.6

Fedora 40 (ARM)
	Kernel: Depends on container host
	Compiler: gcc 14.1.1

RHEL9 (ARM)
	Kernel: Depends on container host
	Compiler: gcc 11.4.1

Ubuntu 20.04 (ARM)
	Kernel: Container Host Kernel
	Compiler: gcc 9.4.0

Ubuntu 22.04 (ARM)
	Kernel: Container Host Kernel
	Compiler: gcc 11.4.0

Ubuntu 20.04 ARM SVE
	Kernel: 5.4.0-167-generic
	Compiler: gcc (Ubuntu 10.5.0-1ubuntu1~20.04) 10.5.0

To view detailed results, visit:
https://lab.dpdk.org/results/dashboard/patchsets/30635/

UNH-IOL DPDK Community Lab

To manage your email subscriptions, visit: 
https://lab.dpdk.org/results/dashboard/preferences/subscriptions/