From mboxrd@z Thu Jan  1 00:00:00 1970
Return-Path: <test-report-bounces@dpdk.org>
Received: from mails.dpdk.org (mails.dpdk.org [217.70.189.124])
	by inbox.dpdk.org (Postfix) with ESMTP id A421F456C2
	for <public@inbox.dpdk.org>; Sat, 27 Jul 2024 02:27:17 +0200 (CEST)
Received: from mails.dpdk.org (localhost [127.0.0.1])
	by mails.dpdk.org (Postfix) with ESMTP id 9FD3840696;
	Sat, 27 Jul 2024 02:27:17 +0200 (CEST)
Received: from mail-yb1-f225.google.com (mail-yb1-f225.google.com
 [209.85.219.225])
 by mails.dpdk.org (Postfix) with ESMTP id 3F79140274
 for <test-report@dpdk.org>; Sat, 27 Jul 2024 02:26:37 +0200 (CEST)
Received: by mail-yb1-f225.google.com with SMTP id
 3f1490d57ef6-dfef5980a69so246135276.3
 for <test-report@dpdk.org>; Fri, 26 Jul 2024 17:26:37 -0700 (PDT)
DKIM-Signature: v=1; a=rsa-sha256; c=relaxed/relaxed;
 d=iol.unh.edu; s=unh-iol; t=1722039996; x=1722644796; darn=dpdk.org;
 h=references:in-reply-to:cc:to:from:subject:message-id:date:from:to
 :cc:subject:date:message-id:reply-to;
 bh=AxYm+pdxOvn3a1GpzIcU53DoiTLDB3HgFAMoHQRx8fE=;
 b=A9IgURDyZRULz8cNEhQWY8sBoTVFzk2y9Ki5uRX7G23ckyf67j/UXJ9CcUCgzMLkM/
 SrfJI+zLYxNJ/8l4zwdeUtgNNCbWZaRCsrAWCaegdXhtzfC4fSwSvaSb9nF3XlG4ylSq
 D5xI3tPkzS6g9/KqdeHvEiPtpgmrnuZJGrAFM=
X-Google-DKIM-Signature: v=1; a=rsa-sha256; c=relaxed/relaxed;
 d=1e100.net; s=20230601; t=1722039996; x=1722644796;
 h=references:in-reply-to:cc:to:from:subject:message-id:date
 :x-gm-message-state:from:to:cc:subject:date:message-id:reply-to;
 bh=AxYm+pdxOvn3a1GpzIcU53DoiTLDB3HgFAMoHQRx8fE=;
 b=l6agQXrkXqT6h3+V1zvhrLxs0C8rtuEqGfutjUVpHbPsOo/BdsKxi7b4rltincwNcE
 tFdCTuuDimi5QEwxEMqvvb62WlunjbGTjRVn4zYUWYuddIE5NRjDhl13BsHpDam1TICo
 XAa6Eeg0DPtxQEB4naaDWd1PeGvY3HO+4E2QSOhLMVshkW+8ZJEJjxv+inw5x0L7fRzF
 ZzlT5DYcYVbLLbDBT1LhndBpNhZUjqhPlitj3IeUDi8gJacSrP74h5AgRMMcQSqh/KQp
 igy2d+Gjj4Ivghi0IbuJbtu8zAIUjtF7qqJ+aUUtND8l0+u48UPTBUX0vhyJ5w4XxQ5v
 RL6A==
X-Gm-Message-State: AOJu0Yxabia8YDjQMyhWuTxKcmf+MNrn9lrl09+8W4Gt/9H7axFjeiz1
 tGBli80R5nMf21+xH8UTOUpB/nwxs2tU+LrM/0pB7hUz6NVA2gTubYAakdiQ+VHb2KZZGArCCLA
 mRDyZIS+wqMnsdm4t8FwzMtm4yYGaXnxweQNGDWVeRR4qHnmY+nJaii9J
X-Google-Smtp-Source: AGHT+IE1tJ5wXM+yXLAsLvgAImt1u18hLdVFXuvAux+ARBj3wIwtwnVr6ekpqW5SyGQH/MBTZUGbq98VNQcK
X-Received: by 2002:a05:690c:f05:b0:62a:2a7d:b512 with SMTP id
 00721157ae682-67a063496d1mr19988587b3.10.1722039996622; 
 Fri, 26 Jul 2024 17:26:36 -0700 (PDT)
Received: from postal.iol.unh.edu (postal.iol.unh.edu.
 [2606:4100:3880:1234::84]) by smtp-relay.gmail.com with ESMTPS id
 6a1803df08f44-6bb3f8dd5e9sm2102586d6.12.2024.07.26.17.26.36
 (version=TLS1_2 cipher=ECDHE-ECDSA-AES128-GCM-SHA256 bits=128/128);
 Fri, 26 Jul 2024 17:26:36 -0700 (PDT)
X-Relaying-Domain: iol.unh.edu
Date: Fri, 26 Jul 2024 17:26:36 -0700 (PDT)
Message-ID: <66a43ebc.050a0220.2c738c.bdbdSMTPIN_ADDED_MISSING@mx.google.com>
Received: from [172.21.0.9] (unknown [172.18.0.240])
 by postal.iol.unh.edu (Postfix) with ESMTP id 53D98605C380;
 Fri, 26 Jul 2024 20:26:36 -0400 (EDT)
Subject: |PENDING| pw142734-142735 [PATCH] [v4,2/2] dts: mac filter test suit
From: dpdklab@iol.unh.edu
To: Test Report <test-report@dpdk.org>
Cc: dpdk-test-reports@iol.unh.edu
In-Reply-To: <20240726164602.25519-1-npratte@iol.unh.edu>
References: <20240726164602.25519-1-npratte@iol.unh.edu>
Content-Type: text/plain
X-BeenThere: test-report@dpdk.org
X-Mailman-Version: 2.1.29
Precedence: list
List-Id: automatic DPDK test reports <test-report.dpdk.org>
List-Unsubscribe: <https://mails.dpdk.org/options/test-report>,
 <mailto:test-report-request@dpdk.org?subject=unsubscribe>
List-Archive: <http://mails.dpdk.org/archives/test-report/>
List-Post: <mailto:test-report@dpdk.org>
List-Help: <mailto:test-report-request@dpdk.org?subject=help>
List-Subscribe: <https://mails.dpdk.org/listinfo/test-report>,
 <mailto:test-report-request@dpdk.org?subject=subscribe>
Errors-To: test-report-bounces@dpdk.org

Test-Label: iol-unit-amd64-testing
Test-Status: PENDING
http://dpdk.org/patch/142735

_Testing pending_

Submitter: Nicholas Pratte <npratte@iol.unh.edu>
Date: Friday, July 26 2024 16:46:02 
DPDK git baseline: Repo:dpdk
  Branch: master
  CommitID:82c47f005b9a0a1e3a649664b7713443d18abe43

142734-142735 --> testing pending

Upstream job id: Generic-Unit-Test-DPDK#245311

Test environment and result as below:

+---------------------+----------------+
|     Environment     | dpdk_unit_test |
+=====================+================+
| Windows Server 2022 | PEND           |
+---------------------+----------------+
| Windows Server 2019 | PASS           |
+---------------------+----------------+
| CentOS Stream 8     | PEND           |
+---------------------+----------------+
| CentOS Stream 9     | PASS           |
+---------------------+----------------+
| Debian Bullseye     | PASS           |
+---------------------+----------------+
| Debian 12           | PASS           |
+---------------------+----------------+
| Fedora 38           | PASS           |
+---------------------+----------------+
| Fedora 37           | PEND           |
+---------------------+----------------+
| Fedora 38 (Clang)   | PEND           |
+---------------------+----------------+
| Fedora 39           | PASS           |
+---------------------+----------------+
| Fedora 40 (Clang)   | PEND           |
+---------------------+----------------+
| RHEL8               | PEND           |
+---------------------+----------------+
| Fedora 39 (Clang)   | PEND           |
+---------------------+----------------+
| openSUSE Leap 15    | PEND           |
+---------------------+----------------+
| Ubuntu 20.04        | PEND           |
+---------------------+----------------+
| Ubuntu 22.04        | PEND           |
+---------------------+----------------+
| Ubuntu 24.04        | PEND           |
+---------------------+----------------+


Windows Server 2022
	Kernel: 10.0.20348.2031
	Compiler: clang 15.0.7, gcc 8.1.0 (MinGW), and MSVC VS 17.9

Windows Server 2019
	Kernel: 10.0.17763
	Compiler: clang 14.0 and gcc 8.1.0 (MinGW)

CentOS Stream 8
	Kernel: 5.4.0-167-generic
	Compiler: gcc 8.5.0 20210514

CentOS Stream 9
	Kernel: 5.4.0-167-generic
	Compiler: gcc 11.4.1 20230605

Debian Bullseye
	Kernel: 5.4.0-167-generic
	Compiler: gcc 10.2.1-6

Debian 12
	Kernel: Container Host Kernel
	Compiler: gcc 12.2.0

Fedora 38
	Kernel: Depends on container host
	Compiler: gcc 13.2.1

Fedora 37
	Kernel: Depends on container host system
	Compiler: gcc 12.3.1

Fedora 38 (Clang)
	Kernel: Depends on container host
	Compiler: clang 16.0.6

Fedora 39
	Kernel: Depends on container host
	Compiler: gcc 13.2.1

Fedora 40 (Clang)
	Kernel: Depends on container host
	Compiler: clang 18.1.6

RHEL8
	Kernel: 5.4.0-167-generic
	Compiler: gcc 8.5.0 20210514 (Red Hat 8.5.0-20)

Fedora 39 (Clang)
	Kernel: Depends on container host
	Compiler: clang 17.0.6

openSUSE Leap 15
	Kernel: 5.4.0-167-generic
	Compiler: gcc 7.5.0

Ubuntu 20.04
	Kernel: 5.4.0-167-generic
	Compiler: gcc 9.4.0-1ubuntu1~20.04.1

Ubuntu 22.04
	Kernel: 5.4.0-167-generic
	Compiler: gcc 11.4.0

Ubuntu 24.04
	Kernel: 5.4.0-167-generic
	Compiler: gcc 13.2.0

To view detailed results, visit:
https://lab.dpdk.org/results/dashboard/patchsets/30632/

UNH-IOL DPDK Community Lab

To manage your email subscriptions, visit: 
https://lab.dpdk.org/results/dashboard/preferences/subscriptions/