From mboxrd@z Thu Jan  1 00:00:00 1970
Return-Path: <test-report-bounces@dpdk.org>
Received: from mails.dpdk.org (mails.dpdk.org [217.70.189.124])
	by inbox.dpdk.org (Postfix) with ESMTP id 7C896456C2
	for <public@inbox.dpdk.org>; Sat, 27 Jul 2024 03:10:05 +0200 (CEST)
Received: from mails.dpdk.org (localhost [127.0.0.1])
	by mails.dpdk.org (Postfix) with ESMTP id 715B440673;
	Sat, 27 Jul 2024 03:10:05 +0200 (CEST)
Received: from mail-yb1-f228.google.com (mail-yb1-f228.google.com
 [209.85.219.228])
 by mails.dpdk.org (Postfix) with ESMTP id 33A8140274
 for <test-report@dpdk.org>; Sat, 27 Jul 2024 03:10:04 +0200 (CEST)
Received: by mail-yb1-f228.google.com with SMTP id
 3f1490d57ef6-e08a538bf7bso180454276.1
 for <test-report@dpdk.org>; Fri, 26 Jul 2024 18:10:04 -0700 (PDT)
DKIM-Signature: v=1; a=rsa-sha256; c=relaxed/relaxed;
 d=iol.unh.edu; s=unh-iol; t=1722042603; x=1722647403; darn=dpdk.org;
 h=references:in-reply-to:cc:to:from:subject:message-id:date:from:to
 :cc:subject:date:message-id:reply-to;
 bh=Hl9YBSeZqYwpd5tgOL+BSItU1zn/RiIoCuMA2VVeVQY=;
 b=ZAn++Uj4VPAIcJmg570wWr7WqxT1K7cLVAI1pNvRdGZK1Raqr+noRUK+JteZf3wTok
 XiVpLMWMa4R2CwabJmbsTgXkfiCpeDUYvugvB80kvj4OfYGi7/mgAWSX26VqEzRQgFcq
 hiEpOhA5scSPsAPRO+fT164F3CbwdfV35Yk/k=
X-Google-DKIM-Signature: v=1; a=rsa-sha256; c=relaxed/relaxed;
 d=1e100.net; s=20230601; t=1722042603; x=1722647403;
 h=references:in-reply-to:cc:to:from:subject:message-id:date
 :x-gm-message-state:from:to:cc:subject:date:message-id:reply-to;
 bh=Hl9YBSeZqYwpd5tgOL+BSItU1zn/RiIoCuMA2VVeVQY=;
 b=WU/1+cJEkLjz47X1lEcxHcixQ4RV/gX6Yr1Ehz+cINhGlvVCsFh2E4CN80iNtv66yL
 DfvgiqFdU+Lxx5aT+90t5RjFWxllllp7teuaS0JU500IFFrG33Tjd8YFMlUDYf58IhNH
 DdSE+hYh0BDjUFTRHawIEsqtfv1uzdRH56czycaXrEwV0CmBvMvvGl69ds7r3V2+djRT
 SV98UCQ+1ftf1K000ftwPwjF9w68/f+TNQtnlUBf2BU2WHKpMEQbMqUMM9U2v9gt5Ml5
 J9OL3XMp9U4z3GbguuRN0X0HKoQvPc3MzzhrUDhCeY5R2ug99VoXN4f6eBwtBRJM2oOn
 BRKQ==
X-Gm-Message-State: AOJu0YzBd6PCl5PtBBe9rsNuGlNif+qnWyYfR77oyUPxqmvLrqsGmpdO
 PhU1mfpbiHF97Sjf+6vDFDax2JlxU/8c2r5CWrilqXslJk74VkAJJtR764Yv61iQ3pzvk2g+74m
 i2Wdj6uOHmAk/r8dmStUCjNKxc5j8Slb7VLrWA1+H
X-Google-Smtp-Source: AGHT+IEBtqJtFNuM56mJpXS0HhFz6N5VkTYBbTZGYqtwr3b/cEC5UQI9lE4OkGXos7E5gkofPyJPBrZpuCuz
X-Received: by 2002:a81:ae09:0:b0:65f:7e5a:648a with SMTP id
 00721157ae682-67a2cb7ea5emr12212327b3.16.1722042603434; 
 Fri, 26 Jul 2024 18:10:03 -0700 (PDT)
Received: from postal.iol.unh.edu (postal.iol.unh.edu. [132.177.123.84])
 by smtp-relay.gmail.com with ESMTPS id
 00721157ae682-6756b7cfbb3sm3223647b3.68.2024.07.26.18.10.03
 (version=TLS1_2 cipher=ECDHE-ECDSA-AES128-GCM-SHA256 bits=128/128);
 Fri, 26 Jul 2024 18:10:03 -0700 (PDT)
X-Relaying-Domain: iol.unh.edu
Date: Fri, 26 Jul 2024 18:10:03 -0700 (PDT)
Message-ID: <66a448eb.0d0a0220.13faac.2b26SMTPIN_ADDED_MISSING@mx.google.com>
Received: from [172.21.0.6] (unknown [172.18.0.240])
 by postal.iol.unh.edu (Postfix) with ESMTP id 15FA4605C380;
 Fri, 26 Jul 2024 21:10:03 -0400 (EDT)
Subject: |PENDING| pw142734-142735 [PATCH] [v4,2/2] dts: mac filter test suit
From: dpdklab@iol.unh.edu
To: Test Report <test-report@dpdk.org>
Cc: dpdk-test-reports@iol.unh.edu
In-Reply-To: <20240726164602.25519-1-npratte@iol.unh.edu>
References: <20240726164602.25519-1-npratte@iol.unh.edu>
Content-Type: text/plain
X-BeenThere: test-report@dpdk.org
X-Mailman-Version: 2.1.29
Precedence: list
List-Id: automatic DPDK test reports <test-report.dpdk.org>
List-Unsubscribe: <https://mails.dpdk.org/options/test-report>,
 <mailto:test-report-request@dpdk.org?subject=unsubscribe>
List-Archive: <http://mails.dpdk.org/archives/test-report/>
List-Post: <mailto:test-report@dpdk.org>
List-Help: <mailto:test-report-request@dpdk.org?subject=help>
List-Subscribe: <https://mails.dpdk.org/listinfo/test-report>,
 <mailto:test-report-request@dpdk.org?subject=subscribe>
Errors-To: test-report-bounces@dpdk.org

Test-Label: iol-compile-amd64-testing
Test-Status: PENDING
http://dpdk.org/patch/142735

_Testing pending_

Submitter: Nicholas Pratte <npratte@iol.unh.edu>
Date: Friday, July 26 2024 16:46:02 
DPDK git baseline: Repo:dpdk
  Branch: master
  CommitID:82c47f005b9a0a1e3a649664b7713443d18abe43

142734-142735 --> testing pending

Upstream job id: Generic-DPDK-Compile-Meson#280437

Test environment and result as below:

+---------------------+--------------------+------------------+-------------------+
|     Environment     | dpdk_meson_compile | dpdk_compile_ovs | dpdk_compile_spdk |
+=====================+====================+==================+===================+
| FreeBSD 13.3        | PASS               | SKIPPED          | SKIPPED           |
+---------------------+--------------------+------------------+-------------------+
| Windows Server 2019 | PEND               | SKIPPED          | SKIPPED           |
+---------------------+--------------------+------------------+-------------------+
| CentOS Stream 8     | PASS               | PASS             | PASS              |
+---------------------+--------------------+------------------+-------------------+
| CentOS Stream 9     | PEND               | SKIPPED          | SKIPPED           |
+---------------------+--------------------+------------------+-------------------+
| Debian Bullseye     | PASS               | PASS             | PASS              |
+---------------------+--------------------+------------------+-------------------+
| Debian 12           | PASS               | PASS             | PASS              |
+---------------------+--------------------+------------------+-------------------+
| Fedora 37           | PASS               | PASS             | PASS              |
+---------------------+--------------------+------------------+-------------------+
| Fedora 38 (Clang)   | PEND               | PEND             | SKIPPED           |
+---------------------+--------------------+------------------+-------------------+
| Fedora 39 (Clang)   | PASS               | PASS             | PASS              |
+---------------------+--------------------+------------------+-------------------+
| Fedora 40 (Clang)   | PEND               | SKIPPED          | SKIPPED           |
+---------------------+--------------------+------------------+-------------------+
| Fedora 40           | PEND               | SKIPPED          | SKIPPED           |
+---------------------+--------------------+------------------+-------------------+
| RHEL8               | PEND               | SKIPPED          | SKIPPED           |
+---------------------+--------------------+------------------+-------------------+
| Ubuntu 22.04        | PASS               | PASS             | PASS              |
+---------------------+--------------------+------------------+-------------------+
| Fedora 38           | PEND               | SKIPPED          | SKIPPED           |
+---------------------+--------------------+------------------+-------------------+
| Ubuntu 24.04        | PEND               | PEND             | SKIPPED           |
+---------------------+--------------------+------------------+-------------------+


FreeBSD 13.3
	Kernel: 13.3-RELEASE-p1
	Compiler: clang 17.0.6

Windows Server 2019
	Kernel: 10.0.17763
	Compiler: clang 14.0 and gcc 8.1.0 (MinGW)

CentOS Stream 8
	Kernel: 5.4.0-167-generic
	Compiler: gcc 8.5.0 20210514

CentOS Stream 9
	Kernel: 5.4.0-167-generic
	Compiler: gcc 11.4.1 20230605

Debian Bullseye
	Kernel: 5.4.0-167-generic
	Compiler: gcc 10.2.1-6

Debian 12
	Kernel: Container Host Kernel
	Compiler: gcc 12.2.0

Fedora 37
	Kernel: Depends on container host system
	Compiler: gcc 12.3.1

Fedora 38 (Clang)
	Kernel: Depends on container host
	Compiler: clang 16.0.6

Fedora 39 (Clang)
	Kernel: Depends on container host
	Compiler: clang 17.0.6

Fedora 40 (Clang)
	Kernel: Depends on container host
	Compiler: clang 18.1.6

Fedora 40
	Kernel: Depends on container host
	Compiler: gcc 14.1.1

RHEL8
	Kernel: 5.4.0-167-generic
	Compiler: gcc 8.5.0 20210514 (Red Hat 8.5.0-20)

Ubuntu 22.04
	Kernel: 5.4.0-167-generic
	Compiler: gcc 11.4.0

Fedora 38
	Kernel: Depends on container host
	Compiler: gcc 13.2.1

Ubuntu 24.04
	Kernel: 5.4.0-167-generic
	Compiler: gcc 13.2.0

To view detailed results, visit:
https://lab.dpdk.org/results/dashboard/patchsets/30632/

UNH-IOL DPDK Community Lab

To manage your email subscriptions, visit: 
https://lab.dpdk.org/results/dashboard/preferences/subscriptions/