From mboxrd@z Thu Jan  1 00:00:00 1970
Return-Path: <test-report-bounces@dpdk.org>
Received: from mails.dpdk.org (mails.dpdk.org [217.70.189.124])
	by inbox.dpdk.org (Postfix) with ESMTP id 90D61456E5
	for <public@inbox.dpdk.org>; Mon, 29 Jul 2024 19:44:16 +0200 (CEST)
Received: from mails.dpdk.org (localhost [127.0.0.1])
	by mails.dpdk.org (Postfix) with ESMTP id 8B6D440E24;
	Mon, 29 Jul 2024 19:44:16 +0200 (CEST)
Received: from mail-yw1-f225.google.com (mail-yw1-f225.google.com
 [209.85.128.225])
 by mails.dpdk.org (Postfix) with ESMTP id 69A8940E72
 for <test-report@dpdk.org>; Mon, 29 Jul 2024 19:43:59 +0200 (CEST)
Received: by mail-yw1-f225.google.com with SMTP id
 00721157ae682-66acac24443so21959637b3.1
 for <test-report@dpdk.org>; Mon, 29 Jul 2024 10:43:59 -0700 (PDT)
DKIM-Signature: v=1; a=rsa-sha256; c=relaxed/relaxed;
 d=iol.unh.edu; s=unh-iol; t=1722275039; x=1722879839; darn=dpdk.org;
 h=references:in-reply-to:cc:to:from:subject:message-id:date:from:to
 :cc:subject:date:message-id:reply-to;
 bh=N0slz0AhmdTkymIBA8xqrGAhKvM2kqSad/nbuTfAdkE=;
 b=YVTonPhuiIHqCXa50ehuGtezenVCw+DGVL1C8cWkOcW58IcBv+qlKCc1wz43KozQHC
 kH7egJg6HV1z89B2RM8WbEClXietwIpxiSjxjEaTv1PyCneba40CfWBlKzkVMyusyz48
 Os5C1qZ3Ej+HqTq6cdt3CV0dqpacqvvUQcoPE=
X-Google-DKIM-Signature: v=1; a=rsa-sha256; c=relaxed/relaxed;
 d=1e100.net; s=20230601; t=1722275039; x=1722879839;
 h=references:in-reply-to:cc:to:from:subject:message-id:date
 :x-gm-message-state:from:to:cc:subject:date:message-id:reply-to;
 bh=N0slz0AhmdTkymIBA8xqrGAhKvM2kqSad/nbuTfAdkE=;
 b=pkm1MeH6xkeKAG3gVLFmOp7PGSIgMoeOfVL5KFnW0CQXc7VX7WxH9HV+Yi7YMKByYC
 6ohAKx9VTOorP/bpVrijb9aqnpv6+41N7pjC2PAuYwpbpyGtQ1GQFLswxBKslBHHOrzf
 w9ZbbB/omECWqSb6sdSQNRfuoLNwR7kJbDYSmtEZImAEERHyCipdpwuu5+VE+Wo0EW0A
 tZrnVyZ9bmVWQahT9xqpYzGt2O2HcGx/N2+9c9fiQKh4oUo0B1HBgjHOjlKfbMRTC7J7
 IDEYxqdY/pdOPT3gU7QHMtpdYJlSgrfe6Kqxs6kQjYhZtQOTM5iW7+BQuwO4uxfk116x
 C2LA==
X-Gm-Message-State: AOJu0YztzN260h3Je20jChkRoseo7fO1Wz5OvvMQKnjz4qgLmoCdx4GL
 6rB4kt9DTj2goZP3/BFoA7qu0JFjWUXxgEjazHhwaO0VZdnJZGsD8DvhtvDOHLvgjAAM/4p0tSd
 yX+giZfPak0rD+4iygezU0PbDnlPTMy1vNlKlP5+S
X-Google-Smtp-Source: AGHT+IFDmBApHXx313KfyMfwSoZO8QBLBUI/4ZxeyUcMaa4BH0iydilugnHcr1gzalsUSERfmLkxBRfmVe3R
X-Received: by 2002:a81:9c0f:0:b0:66a:8b03:5cfb with SMTP id
 00721157ae682-67a075a67e3mr87509627b3.27.1722275038909; 
 Mon, 29 Jul 2024 10:43:58 -0700 (PDT)
Received: from postal.iol.unh.edu (postal.iol.unh.edu. [132.177.123.84])
 by smtp-relay.gmail.com with ESMTPS id
 6a1803df08f44-6bb3f8dd8ffsm5025496d6.15.2024.07.29.10.43.58
 (version=TLS1_2 cipher=ECDHE-ECDSA-AES128-GCM-SHA256 bits=128/128);
 Mon, 29 Jul 2024 10:43:58 -0700 (PDT)
X-Relaying-Domain: iol.unh.edu
Date: Mon, 29 Jul 2024 10:43:58 -0700 (PDT)
Message-ID: <66a7d4de.050a0220.2065b4.c0b2SMTPIN_ADDED_MISSING@mx.google.com>
Received: from [172.21.0.6] (unknown [172.18.0.240])
 by postal.iol.unh.edu (Postfix) with ESMTP id 98950605C351;
 Mon, 29 Jul 2024 13:43:58 -0400 (EDT)
Subject: |PENDING| pw142744 [PATCH] [RFC] dmadev: add QoS capability
From: dpdklab@iol.unh.edu
To: Test Report <test-report@dpdk.org>
Cc: dpdk-test-reports@iol.unh.edu
In-Reply-To: <20240729115558.263574-1-vattunuru@marvell.com>
References: <20240729115558.263574-1-vattunuru@marvell.com>
Content-Type: text/plain
X-BeenThere: test-report@dpdk.org
X-Mailman-Version: 2.1.29
Precedence: list
List-Id: automatic DPDK test reports <test-report.dpdk.org>
List-Unsubscribe: <https://mails.dpdk.org/options/test-report>,
 <mailto:test-report-request@dpdk.org?subject=unsubscribe>
List-Archive: <http://mails.dpdk.org/archives/test-report/>
List-Post: <mailto:test-report@dpdk.org>
List-Help: <mailto:test-report-request@dpdk.org?subject=help>
List-Subscribe: <https://mails.dpdk.org/listinfo/test-report>,
 <mailto:test-report-request@dpdk.org?subject=subscribe>
Errors-To: test-report-bounces@dpdk.org

Test-Label: iol-compile-amd64-testing
Test-Status: PENDING
http://dpdk.org/patch/142744

_Testing pending_

Submitter: Vamsi Krishna Attunuru <vattunuru@marvell.com>
Date: Monday, July 29 2024 11:55:58 
DPDK git baseline: Repo:dpdk
  Branch: master
  CommitID:82c47f005b9a0a1e3a649664b7713443d18abe43

142744 --> testing pending

Upstream job id: Generic-VM-DPDK-Compile-Meson#28331

Test environment and result as below:

+---------------------+--------------------+----------------------+
|     Environment     | dpdk_meson_compile | dpdk_mingw64_compile |
+=====================+====================+======================+
| Windows Server 2019 | PASS               | PASS                 |
+---------------------+--------------------+----------------------+
| Windows Server 2022 | PASS               | PEND                 |
+---------------------+--------------------+----------------------+
| FreeBSD 13.3        | PASS               | SKIPPED              |
+---------------------+--------------------+----------------------+
| FreeBSD 14.1        | PASS               | SKIPPED              |
+---------------------+--------------------+----------------------+


Windows Server 2019
	Kernel: 10.0.17763
	Compiler: clang 14.0 and gcc 8.1.0 (MinGW)

Windows Server 2022
	Kernel: 10.0.20348.2031
	Compiler: clang 15.0.7, gcc 8.1.0 (MinGW), and MSVC VS 17.9

FreeBSD 13.3
	Kernel: 13.3-RELEASE-p1
	Compiler: clang 17.0.6

FreeBSD 14.1
	Kernel: 14.1
	Compiler: clang 18.1.5

To view detailed results, visit:
https://lab.dpdk.org/results/dashboard/patchsets/30640/

UNH-IOL DPDK Community Lab

To manage your email subscriptions, visit: 
https://lab.dpdk.org/results/dashboard/preferences/subscriptions/