From mboxrd@z Thu Jan 1 00:00:00 1970 Return-Path: Received: from mails.dpdk.org (mails.dpdk.org [217.70.189.124]) by inbox.dpdk.org (Postfix) with ESMTP id B39C6456E5 for ; Mon, 29 Jul 2024 19:44:53 +0200 (CEST) Received: from mails.dpdk.org (localhost [127.0.0.1]) by mails.dpdk.org (Postfix) with ESMTP id AD4E040E24; Mon, 29 Jul 2024 19:44:53 +0200 (CEST) Received: from mail-qv1-f98.google.com (mail-qv1-f98.google.com [209.85.219.98]) by mails.dpdk.org (Postfix) with ESMTP id B96B840DD0 for ; Mon, 29 Jul 2024 19:44:51 +0200 (CEST) Received: by mail-qv1-f98.google.com with SMTP id 6a1803df08f44-6b7a3e468a9so26635806d6.1 for ; Mon, 29 Jul 2024 10:44:51 -0700 (PDT) DKIM-Signature: v=1; a=rsa-sha256; c=relaxed/relaxed; d=iol.unh.edu; s=unh-iol; t=1722275091; x=1722879891; darn=dpdk.org; h=references:in-reply-to:cc:to:from:subject:message-id:date:from:to :cc:subject:date:message-id:reply-to; bh=n8812wHx6Bx+iu6YngcS4dxEfCT5R5jzkmKmoMtz3UM=; b=PzNyEvbpCRgeLvTgmPqFT6wIPYW+ImTkqjIImROphfj7bMuHdnS8l2WsSQ1FYWOT5R gyrFjj7YqElstcuODKnC3LlJux6f6pYEYle2DpzyCMdaqN48CK6yN1Z9HMJY8wERVANi P7u0RzauPU4S4T+4VQvdEKijDZUBd2B8hd+dU= X-Google-DKIM-Signature: v=1; a=rsa-sha256; c=relaxed/relaxed; d=1e100.net; s=20230601; t=1722275091; x=1722879891; h=references:in-reply-to:cc:to:from:subject:message-id:date :x-gm-message-state:from:to:cc:subject:date:message-id:reply-to; bh=n8812wHx6Bx+iu6YngcS4dxEfCT5R5jzkmKmoMtz3UM=; b=M0txBVh9eRD5s2qczjYx82B7VTe07gIIsEjoEKAJrDIKB9cImyWkumgPG/jWeEwb3Y S0rPZZkA/2g1MysTV+TcB9+wUNF5LTZytVD9x2Jz26tuGETwBTxr0X7fNGH2PbLhToxJ Utl136BDEjNe9Z4+cKgrQ1UVJ70rZpX8bl6Osd9u4T6hsHmxHDyq23RXiniHlZ/SEY0s NYtY4yHc6ghtlr2sF4iGNbORwHwFMt9BKIaK4WNOh738+OehIZf3yzqTUxZ3OWx5boj5 9+BJ2ica2YjRAsNyhKCQt4DtNP9h9G/2qnkk9Dp9P5CDc2EN20GGqYuL/p7U6BuD0H3q SylQ== X-Gm-Message-State: AOJu0YylFf5pqzBxv/imzq7BZ3wSasxn2YMNn6i/ZKGHEnipyfS1sNjg aMWWlDP2dRMXUeFLG8EDU1imHrLej73zO4ecnwceQG7R/nlTktOew7340af4xbeumBpiJ0uMNCe /I1XubZrBxiE44gBtsfcXex29n0G5IvmPpcD5oJvQXSHUXrHirV1XMKT+ X-Google-Smtp-Source: AGHT+IFERFxllV8ZaBZWiDrbWUgm3s+lYTd0suTwOtTbbfBeh1+gMszT2rJzEO6rcjnhg130bP0SuHm+mkb9 X-Received: by 2002:a05:6214:4113:b0:6b5:32de:bfe7 with SMTP id 6a1803df08f44-6bb55a6e61bmr96722586d6.22.1722275090937; Mon, 29 Jul 2024 10:44:50 -0700 (PDT) Received: from postal.iol.unh.edu (postal.iol.unh.edu. [2606:4100:3880:1234::84]) by smtp-relay.gmail.com with ESMTPS id 6a1803df08f44-6bb3f8fb7a5sm4987396d6.17.2024.07.29.10.44.50 (version=TLS1_2 cipher=ECDHE-ECDSA-AES128-GCM-SHA256 bits=128/128); Mon, 29 Jul 2024 10:44:50 -0700 (PDT) X-Relaying-Domain: iol.unh.edu Date: Mon, 29 Jul 2024 10:44:50 -0700 (PDT) Message-ID: <66a7d512.050a0220.1e90dd.c6ffSMTPIN_ADDED_MISSING@mx.google.com> Received: from [172.21.0.6] (unknown [172.18.0.240]) by postal.iol.unh.edu (Postfix) with ESMTP id 9F7FC605C351; Mon, 29 Jul 2024 13:44:50 -0400 (EDT) Subject: |SUCCESS| pw142744 [PATCH] [RFC] dmadev: add QoS capability From: dpdklab@iol.unh.edu To: Test Report Cc: dpdk-test-reports@iol.unh.edu In-Reply-To: <20240729115558.263574-1-vattunuru@marvell.com> References: <20240729115558.263574-1-vattunuru@marvell.com> Content-Type: text/plain X-BeenThere: test-report@dpdk.org X-Mailman-Version: 2.1.29 Precedence: list List-Id: automatic DPDK test reports List-Unsubscribe: , List-Archive: List-Post: List-Help: List-Subscribe: , Errors-To: test-report-bounces@dpdk.org Test-Label: iol-compile-amd64-testing Test-Status: SUCCESS http://dpdk.org/patch/142744 _Testing PASS_ Submitter: Vamsi Krishna Attunuru Date: Monday, July 29 2024 11:55:58 DPDK git baseline: Repo:dpdk Branch: master CommitID:82c47f005b9a0a1e3a649664b7713443d18abe43 142744 --> testing pass Upstream job id: Windows-Compile-DPDK-Mingw64#21103 Test environment and result as below: +---------------------+--------------------+----------------------+ | Environment | dpdk_meson_compile | dpdk_mingw64_compile | +=====================+====================+======================+ | Windows Server 2019 | PASS | PASS | +---------------------+--------------------+----------------------+ | Windows Server 2022 | PASS | PASS | +---------------------+--------------------+----------------------+ | FreeBSD 13.3 | PASS | SKIPPED | +---------------------+--------------------+----------------------+ | FreeBSD 14.1 | PASS | SKIPPED | +---------------------+--------------------+----------------------+ Windows Server 2019 Kernel: 10.0.17763 Compiler: clang 14.0 and gcc 8.1.0 (MinGW) Windows Server 2022 Kernel: 10.0.20348.2031 Compiler: clang 15.0.7, gcc 8.1.0 (MinGW), and MSVC VS 17.9 FreeBSD 13.3 Kernel: 13.3-RELEASE-p1 Compiler: clang 17.0.6 FreeBSD 14.1 Kernel: 14.1 Compiler: clang 18.1.5 To view detailed results, visit: https://lab.dpdk.org/results/dashboard/patchsets/30640/ UNH-IOL DPDK Community Lab To manage your email subscriptions, visit: https://lab.dpdk.org/results/dashboard/preferences/subscriptions/