From mboxrd@z Thu Jan 1 00:00:00 1970 Return-Path: Received: from mails.dpdk.org (mails.dpdk.org [217.70.189.124]) by inbox.dpdk.org (Postfix) with ESMTP id 67810456E6 for ; Mon, 29 Jul 2024 20:39:28 +0200 (CEST) Received: from mails.dpdk.org (localhost [127.0.0.1]) by mails.dpdk.org (Postfix) with ESMTP id 4E4C7410FA; Mon, 29 Jul 2024 20:39:28 +0200 (CEST) Received: from mail-pf1-f228.google.com (mail-pf1-f228.google.com [209.85.210.228]) by mails.dpdk.org (Postfix) with ESMTP id 511F240BA0 for ; Mon, 29 Jul 2024 20:39:27 +0200 (CEST) Received: by mail-pf1-f228.google.com with SMTP id d2e1a72fcca58-70d357040dbso2735408b3a.1 for ; Mon, 29 Jul 2024 11:39:27 -0700 (PDT) DKIM-Signature: v=1; a=rsa-sha256; c=relaxed/relaxed; d=iol.unh.edu; s=unh-iol; t=1722278366; x=1722883166; darn=dpdk.org; h=references:in-reply-to:cc:to:from:subject:message-id:date:from:to :cc:subject:date:message-id:reply-to; bh=RLoH+AuSpe5/sZiSqtNz3OH6DJiMDqk0j+RfQWpj93Y=; b=Ge6tZZ+i9nx5fTkM6DnGkGtC4H/BfL7YF0tDE7vDeCq11Kl7ptNoyfHpvs9C2uFJuW yKqv27wPP8z2Rh0DGO78A5KrlfbZdnSMVkTlvTalMqsz5XmsmaeTAoNeDVB9hkjnlm6U UCobMC5FKYY6V5FaOYwIOdjtNOKw3TiexpcTI= X-Google-DKIM-Signature: v=1; a=rsa-sha256; c=relaxed/relaxed; d=1e100.net; s=20230601; t=1722278366; x=1722883166; h=references:in-reply-to:cc:to:from:subject:message-id:date :x-gm-message-state:from:to:cc:subject:date:message-id:reply-to; bh=RLoH+AuSpe5/sZiSqtNz3OH6DJiMDqk0j+RfQWpj93Y=; b=WEiIaSxYmCivLGj/ZoM7rXjIInsBgm03FwWyyVvdiX0zzoaPatqZHWIO010/Gz1RU6 ExyxgShHbgz+6eaLk2cZqQiMroy8zjGgzCFC6n26arbcL/7Uw5w5vRJJuW6A47FHRU+C SBXCvG/6NAcPG3rP6DS90r4pPfsajOzGbn69Q1J/R7sNNB6P0OmN6xLAtxdFV2mgGbKC MZEDHadJ0LhDKzwp7zW4s2OuSy8DlSCCfJ2taiQxa/SIrKKiLrbrLWHn0U5WERcGyAAR D8XLSy3fciIOi7LFYTwRWgDjZQIBmwH4SVg44ChAQtcguS7mCdwCAJ91BLXvJBs8EegC +gXw== X-Gm-Message-State: AOJu0Yw44zC8WHz28dWzoB6KuzlTpvbnRKSejW3PttgZJowQBMKUzYOP B9haVcui8Q7O9VL4IpILYNSaC/l0AuZTMDRoJE4+YK8Z9RvGgSe2tn8SqxcXQR/PCW+Qeo+RBIR 3uBTPtddlrvJ7yLN4JXA3DlzzzGJJeZXIt+dQOSQ0 X-Google-Smtp-Source: AGHT+IF6ANs8NMO6j8ouHHc8HPFIeJLSCJ8hZympHWZJx806fhUeXtdxnRV5EuWNQU1Jk9bHwcLr3AYEQajt X-Received: by 2002:a05:6a00:9443:b0:706:61d5:2792 with SMTP id d2e1a72fcca58-70ecea1ae6amr6185233b3a.8.1722278366437; Mon, 29 Jul 2024 11:39:26 -0700 (PDT) Received: from postal.iol.unh.edu (postal.iol.unh.edu. [132.177.123.84]) by smtp-relay.gmail.com with ESMTPS id d2e1a72fcca58-70ead8ebd82sm636824b3a.21.2024.07.29.11.39.26 (version=TLS1_2 cipher=ECDHE-ECDSA-AES128-GCM-SHA256 bits=128/128); Mon, 29 Jul 2024 11:39:26 -0700 (PDT) X-Relaying-Domain: iol.unh.edu Date: Mon, 29 Jul 2024 11:39:26 -0700 (PDT) Message-ID: <66a7e1de.050a0220.206104.46b1SMTPIN_ADDED_MISSING@mx.google.com> Received: from [172.21.0.8] (unknown [172.18.0.240]) by postal.iol.unh.edu (Postfix) with ESMTP id 84AC0605C351; Mon, 29 Jul 2024 14:39:25 -0400 (EDT) Subject: |PENDING| pw142744 [PATCH] [RFC] dmadev: add QoS capability From: dpdklab@iol.unh.edu To: Test Report Cc: dpdk-test-reports@iol.unh.edu In-Reply-To: <20240729115558.263574-1-vattunuru@marvell.com> References: <20240729115558.263574-1-vattunuru@marvell.com> Content-Type: text/plain X-BeenThere: test-report@dpdk.org X-Mailman-Version: 2.1.29 Precedence: list List-Id: automatic DPDK test reports List-Unsubscribe: , List-Archive: List-Post: List-Help: List-Subscribe: , Errors-To: test-report-bounces@dpdk.org Test-Label: iol-compile-arm64-testing Test-Status: PENDING http://dpdk.org/patch/142744 _Testing pending_ Submitter: Vamsi Krishna Attunuru Date: Monday, July 29 2024 11:55:58 DPDK git baseline: Repo:dpdk Branch: master CommitID:82c47f005b9a0a1e3a649664b7713443d18abe43 142744 --> testing pending Upstream job id: Generic-DPDK-Compile-Meson#281171 Test environment and result as below: +------------------------------------+--------------------+ | Environment | dpdk_meson_compile | +====================================+====================+ | RHEL9 (ARM) | PASS | +------------------------------------+--------------------+ | Ubuntu 20.04 ARM GCC Cross Compile | PEND | +------------------------------------+--------------------+ | Ubuntu 20.04 ARM SVE | PASS | +------------------------------------+--------------------+ | Debian 12 with MUSDK | PASS | +------------------------------------+--------------------+ | Fedora 37 (ARM) | PASS | +------------------------------------+--------------------+ | Fedora 38 (ARM) | PEND | +------------------------------------+--------------------+ | Fedora 38 (ARM Clang) | PEND | +------------------------------------+--------------------+ | Fedora 39 (ARM) | PEND | +------------------------------------+--------------------+ | Fedora 39 (ARM Clang) | PEND | +------------------------------------+--------------------+ | Fedora 40 (ARM) | PEND | +------------------------------------+--------------------+ | Fedora 40 (ARM Clang) | PEND | +------------------------------------+--------------------+ | Ubuntu 22.04 (ARM) | PEND | +------------------------------------+--------------------+ | Ubuntu 24.04 (ARM) | PEND | +------------------------------------+--------------------+ RHEL9 (ARM) Kernel: Depends on container host Compiler: gcc 11.4.1 Ubuntu 20.04 ARM GCC Cross Compile Kernel: 5.4.0-167-generic Compiler: aarch64-linux-gnu-gcc (Ubuntu 9.4.0-1ubuntu1~20.04.2) 9.4.0 Ubuntu 20.04 ARM SVE Kernel: 5.4.0-167-generic Compiler: gcc (Ubuntu 10.5.0-1ubuntu1~20.04) 10.5.0 Debian 12 with MUSDK Kernel: Container Host Kernel Compiler: gcc 12.2.0 Fedora 37 (ARM) Kernel: Depends on container host Compiler: gcc 12.3.1 Fedora 38 (ARM) Kernel: Depends on container host Compiler: gcc 13.2.1 Fedora 38 (ARM Clang) Kernel: Depends on container host Compiler: clang 16.0.6 Fedora 39 (ARM) Kernel: Depends on container host Compiler: gcc 13.2.1 Fedora 39 (ARM Clang) Kernel: Depends on container host Compiler: clang 17.0.6 Fedora 40 (ARM) Kernel: Depends on container host Compiler: gcc 14.1.1 Fedora 40 (ARM Clang) Kernel: Depends on container host Compiler: clang 18.1.6 Ubuntu 22.04 (ARM) Kernel: Container Host Kernel Compiler: gcc 11.4.0 Ubuntu 24.04 (ARM) Kernel: 5.4.0-167-generic Compiler: gcc 13.2.0 To view detailed results, visit: https://lab.dpdk.org/results/dashboard/patchsets/30640/ UNH-IOL DPDK Community Lab To manage your email subscriptions, visit: https://lab.dpdk.org/results/dashboard/preferences/subscriptions/