From mboxrd@z Thu Jan  1 00:00:00 1970
Return-Path: <test-report-bounces@dpdk.org>
Received: from mails.dpdk.org (mails.dpdk.org [217.70.189.124])
	by inbox.dpdk.org (Postfix) with ESMTP id 1DFCC456E6
	for <public@inbox.dpdk.org>; Mon, 29 Jul 2024 21:58:40 +0200 (CEST)
Received: from mails.dpdk.org (localhost [127.0.0.1])
	by mails.dpdk.org (Postfix) with ESMTP id 131E140A6D;
	Mon, 29 Jul 2024 21:58:40 +0200 (CEST)
Received: from mail-pg1-f225.google.com (mail-pg1-f225.google.com
 [209.85.215.225])
 by mails.dpdk.org (Postfix) with ESMTP id 69D1F40A6B
 for <test-report@dpdk.org>; Mon, 29 Jul 2024 21:58:38 +0200 (CEST)
Received: by mail-pg1-f225.google.com with SMTP id
 41be03b00d2f7-6e7e23b42c3so2178178a12.1
 for <test-report@dpdk.org>; Mon, 29 Jul 2024 12:58:38 -0700 (PDT)
DKIM-Signature: v=1; a=rsa-sha256; c=relaxed/relaxed;
 d=iol.unh.edu; s=unh-iol; t=1722283117; x=1722887917; darn=dpdk.org;
 h=references:in-reply-to:cc:to:from:subject:message-id:date:from:to
 :cc:subject:date:message-id:reply-to;
 bh=LwpUkzxNVnteiH/qzwwT08DNVuWcKX3vV3MkMuuOhpc=;
 b=Vpncr3Y3xEcKiz+9peVWeP0JkUNDgDfvXQq4NS7La049/08YrZsWrKRv9uHL3KDNM4
 3etc81y458BJcy/ypwlcS8JSR9rwYRhCIFQFBkDHLDT52thV0PnlRpzugl1zbwVh58EP
 14OcSl+4r3OivX9mCz3FXGg4O1p2syQncyHFo=
X-Google-DKIM-Signature: v=1; a=rsa-sha256; c=relaxed/relaxed;
 d=1e100.net; s=20230601; t=1722283117; x=1722887917;
 h=references:in-reply-to:cc:to:from:subject:message-id:date
 :x-gm-message-state:from:to:cc:subject:date:message-id:reply-to;
 bh=LwpUkzxNVnteiH/qzwwT08DNVuWcKX3vV3MkMuuOhpc=;
 b=gCfubwhURGD2pwmdL131Fn495eXQTJSpSPGibu9zQBgGHM2LK9Rj/A8DWJiJyxEfj4
 hsIAIx4lGmZbP5R6CcTr9SrjHZyzVj0BtlI+PJnXMkqr94rBUhqMPNAuCMJTbpdNxrpp
 usea5wi9NnKblWiJbGYWrvAmdTfHE6Kbj7jeLltJI5GB9UE40i4AA2zpyrr1/TRKn5BJ
 j5Yby79tuC71fLUr29B696taEJITDSC9NVkbO2ZFtNv2l2GGLUudlZXghnh15ZJfhHXO
 c+LMqKURn91xhB74T6Y8z/Tbj4LKcFe8VVfe9Gd4SwNagTEyje+3qvsbCegtKm7YipW/
 hBnQ==
X-Gm-Message-State: AOJu0Yx8E3LrufH+cTUPqUYu3TH7+KNmUJ2uPxQy8t/BsCl2CurinRtv
 yZhaY2vOZVbjedEfdkKZXgyp7fyLNSb5aGCqaummMJYqv7n0EfphoeqFxFJaj3OB79jTHBQ8b6P
 9x3KY4OEu+vQ5TuVolF4mx5clGECSK5NVLzwzyLUTrUL+lH86C3Q+5gRB
X-Google-Smtp-Source: AGHT+IG7HSFXA0PK343Crs2y3n+XC/N31FOAFFabGYDNcsU/u6/iVmc+xBldYmL5vKBPxtEVuh1C3hyx6mCn
X-Received: by 2002:a05:6a21:6d8e:b0:1c4:9f31:ac9e with SMTP id
 adf61e73a8af0-1c4a13afbffmr7733722637.42.1722283117675; 
 Mon, 29 Jul 2024 12:58:37 -0700 (PDT)
Received: from postal.iol.unh.edu (postal.iol.unh.edu.
 [2606:4100:3880:1234::84]) by smtp-relay.gmail.com with ESMTPS id
 41be03b00d2f7-7a9f7d7abc0sm460572a12.14.2024.07.29.12.58.37
 (version=TLS1_2 cipher=ECDHE-ECDSA-AES128-GCM-SHA256 bits=128/128);
 Mon, 29 Jul 2024 12:58:37 -0700 (PDT)
X-Relaying-Domain: iol.unh.edu
Date: Mon, 29 Jul 2024 12:58:37 -0700 (PDT)
Message-ID: <66a7f46d.630a0220.1c28e8.a7e1SMTPIN_ADDED_MISSING@mx.google.com>
Received: from [172.21.0.6] (unknown [172.18.0.240])
 by postal.iol.unh.edu (Postfix) with ESMTP id CA4AA605C351;
 Mon, 29 Jul 2024 15:58:36 -0400 (EDT)
Subject: |PENDING| pw142744 [PATCH] [RFC] dmadev: add QoS capability
From: dpdklab@iol.unh.edu
To: Test Report <test-report@dpdk.org>
Cc: dpdk-test-reports@iol.unh.edu
In-Reply-To: <20240729115558.263574-1-vattunuru@marvell.com>
References: <20240729115558.263574-1-vattunuru@marvell.com>
Content-Type: text/plain
X-BeenThere: test-report@dpdk.org
X-Mailman-Version: 2.1.29
Precedence: list
List-Id: automatic DPDK test reports <test-report.dpdk.org>
List-Unsubscribe: <https://mails.dpdk.org/options/test-report>,
 <mailto:test-report-request@dpdk.org?subject=unsubscribe>
List-Archive: <http://mails.dpdk.org/archives/test-report/>
List-Post: <mailto:test-report@dpdk.org>
List-Help: <mailto:test-report-request@dpdk.org?subject=help>
List-Subscribe: <https://mails.dpdk.org/listinfo/test-report>,
 <mailto:test-report-request@dpdk.org?subject=subscribe>
Errors-To: test-report-bounces@dpdk.org

Test-Label: iol-unit-amd64-testing
Test-Status: PENDING
http://dpdk.org/patch/142744

_Testing pending_

Submitter: Vamsi Krishna Attunuru <vattunuru@marvell.com>
Date: Monday, July 29 2024 11:55:58 
DPDK git baseline: Repo:dpdk
  Branch: master
  CommitID:82c47f005b9a0a1e3a649664b7713443d18abe43

142744 --> testing pending

Upstream job id: Generic-Unit-Test-DPDK#245903

Test environment and result as below:

+---------------------+----------------+
|     Environment     | dpdk_unit_test |
+=====================+================+
| Windows Server 2019 | PASS           |
+---------------------+----------------+
| Windows Server 2022 | PASS           |
+---------------------+----------------+
| CentOS Stream 8     | PASS           |
+---------------------+----------------+
| CentOS Stream 9     | PASS           |
+---------------------+----------------+
| Debian Bullseye     | PASS           |
+---------------------+----------------+
| Debian 12           | PASS           |
+---------------------+----------------+
| Fedora 38           | PASS           |
+---------------------+----------------+
| Fedora 39           | PEND           |
+---------------------+----------------+
| Fedora 39 (Clang)   | PEND           |
+---------------------+----------------+
| Fedora 40           | PEND           |
+---------------------+----------------+
| Fedora 40 (Clang)   | PEND           |
+---------------------+----------------+
| openSUSE Leap 15    | PEND           |
+---------------------+----------------+
| RHEL8               | PEND           |
+---------------------+----------------+
| RHEL9               | PEND           |
+---------------------+----------------+
| Ubuntu 20.04        | PEND           |
+---------------------+----------------+
| Ubuntu 22.04        | PEND           |
+---------------------+----------------+
| Ubuntu 24.04        | PEND           |
+---------------------+----------------+
| Fedora 38 (Clang)   | PEND           |
+---------------------+----------------+
| Fedora 37           | PEND           |
+---------------------+----------------+


Windows Server 2019
	Kernel: 10.0.17763
	Compiler: clang 14.0 and gcc 8.1.0 (MinGW)

Windows Server 2022
	Kernel: 10.0.20348.2031
	Compiler: clang 15.0.7, gcc 8.1.0 (MinGW), and MSVC VS 17.9

CentOS Stream 8
	Kernel: 5.4.0-167-generic
	Compiler: gcc 8.5.0 20210514

CentOS Stream 9
	Kernel: 5.4.0-167-generic
	Compiler: gcc 11.4.1 20230605

Debian Bullseye
	Kernel: 5.4.0-167-generic
	Compiler: gcc 10.2.1-6

Debian 12
	Kernel: Container Host Kernel
	Compiler: gcc 12.2.0

Fedora 38
	Kernel: Depends on container host
	Compiler: gcc 13.2.1

Fedora 39
	Kernel: Depends on container host
	Compiler: gcc 13.2.1

Fedora 39 (Clang)
	Kernel: Depends on container host
	Compiler: clang 17.0.6

Fedora 40
	Kernel: Depends on container host
	Compiler: gcc 14.1.1

Fedora 40 (Clang)
	Kernel: Depends on container host
	Compiler: clang 18.1.6

openSUSE Leap 15
	Kernel: 5.4.0-167-generic
	Compiler: gcc 7.5.0

RHEL8
	Kernel: 5.4.0-167-generic
	Compiler: gcc 8.5.0 20210514 (Red Hat 8.5.0-20)

RHEL9
	Kernel: Depends on container host
	Compiler: gcc 11.4.1

Ubuntu 20.04
	Kernel: 5.4.0-167-generic
	Compiler: gcc 9.4.0-1ubuntu1~20.04.1

Ubuntu 22.04
	Kernel: 5.4.0-167-generic
	Compiler: gcc 11.4.0

Ubuntu 24.04
	Kernel: 5.4.0-167-generic
	Compiler: gcc 13.2.0

Fedora 38 (Clang)
	Kernel: Depends on container host
	Compiler: clang 16.0.6

Fedora 37
	Kernel: Depends on container host system
	Compiler: gcc 12.3.1

To view detailed results, visit:
https://lab.dpdk.org/results/dashboard/patchsets/30640/

UNH-IOL DPDK Community Lab

To manage your email subscriptions, visit: 
https://lab.dpdk.org/results/dashboard/preferences/subscriptions/