From mboxrd@z Thu Jan 1 00:00:00 1970 Return-Path: Received: from mails.dpdk.org (mails.dpdk.org [217.70.189.124]) by inbox.dpdk.org (Postfix) with ESMTP id 10D0C456E6 for ; Mon, 29 Jul 2024 22:04:44 +0200 (CEST) Received: from mails.dpdk.org (localhost [127.0.0.1]) by mails.dpdk.org (Postfix) with ESMTP id 0A76540A6D; Mon, 29 Jul 2024 22:04:44 +0200 (CEST) Received: from mail-io1-f97.google.com (mail-io1-f97.google.com [209.85.166.97]) by mails.dpdk.org (Postfix) with ESMTP id 7F20640A6B for ; Mon, 29 Jul 2024 22:04:42 +0200 (CEST) Received: by mail-io1-f97.google.com with SMTP id ca18e2360f4ac-7fe8d029fbeso173618639f.3 for ; Mon, 29 Jul 2024 13:04:42 -0700 (PDT) DKIM-Signature: v=1; a=rsa-sha256; c=relaxed/relaxed; d=iol.unh.edu; s=unh-iol; t=1722283482; x=1722888282; darn=dpdk.org; h=references:in-reply-to:cc:to:from:subject:message-id:date:from:to :cc:subject:date:message-id:reply-to; bh=omTfUR7N4lA6pqTEkvopbzSUmlmbR9FXJaDr2n/ziGo=; b=AzEmytkvJdUi35Hqd6E45AETi5u/LxvC/eGUFNHHqCInBr3w/dmBdbSA3HMXcCGglJ Kg6vZiZxGjsppTJFnBGc1Wvqh+oz5aYf+TbXPWbLNcrwvYBmYH5s+jxCy27TvEurzerc Mblt5XhmTPY19j2kXI4FOXcvaNmjjpBbfP6RA= X-Google-DKIM-Signature: v=1; a=rsa-sha256; c=relaxed/relaxed; d=1e100.net; s=20230601; t=1722283482; x=1722888282; h=references:in-reply-to:cc:to:from:subject:message-id:date :x-gm-message-state:from:to:cc:subject:date:message-id:reply-to; bh=omTfUR7N4lA6pqTEkvopbzSUmlmbR9FXJaDr2n/ziGo=; b=GC2DH535GZcDTpbtrX18m1RoyghsBflZhFzC5I7Q09t/BW8sQruC1V8KT8074Fx9dT JfG2xjyGVqMoKOKbkSljU3vkfAmFdPWGE+oHassYUJYmBxeyJydlTsyqhoMi2pf22EjH brkc8b2f+BP4iJnIz1T16G/aZJ9eFTCKKIX/d3oZcQ2E3QiqG5FtdXfa8cEj0SqPfXQ2 eY24eC0vjZFP414wFepNc1rF0GqiVXkjB5oV5yn9xlxwrI1EBTyCmyf/qyzRuIXoPxAU mauDfKVn+0HOZqQU4ypwLgsps1Yy52ogdGiPYnxmeDWfzoLkKgI+YbDrdNH0auBFQ/k4 JZGA== X-Gm-Message-State: AOJu0YyjzqGiG5A+GsAtcLeoMCKLXwF3p+LTU0XFusVwJNKq7Wjnvrkd K1oNbo3Xna+Bu3Z8mwdC2Eb0ZjlQEaI9YnYmQsd2bz8VEU4Vu8PX0F97G9Wvzmlb+mYT55Xxedu PPtc1cYcglX5O9SccXyoFuBLSAAq1TVOE17WrAPc2 X-Google-Smtp-Source: AGHT+IH/rN2MmOBVsv2cTVjX+iOgu9Sr6dAZobCkIfity6l15xRBpihU7NcTwL+NeJAA7bhRoCW29FjemCcc X-Received: by 2002:a05:6602:26cb:b0:81f:8e7f:a54d with SMTP id ca18e2360f4ac-81f95bce33emr1018390439f.12.1722283481856; Mon, 29 Jul 2024 13:04:41 -0700 (PDT) Received: from postal.iol.unh.edu (postal.iol.unh.edu. [132.177.123.84]) by smtp-relay.gmail.com with ESMTPS id 8926c6da1cb9f-4c29fc03684sm233159173.65.2024.07.29.13.04.41 (version=TLS1_2 cipher=ECDHE-ECDSA-AES128-GCM-SHA256 bits=128/128); Mon, 29 Jul 2024 13:04:41 -0700 (PDT) X-Relaying-Domain: iol.unh.edu Date: Mon, 29 Jul 2024 13:04:41 -0700 (PDT) Message-ID: <66a7f5d9.050a0220.25ec11.d3a2SMTPIN_ADDED_MISSING@mx.google.com> Received: from [172.21.0.7] (unknown [172.18.0.240]) by postal.iol.unh.edu (Postfix) with ESMTP id 621C5605C351; Mon, 29 Jul 2024 16:04:41 -0400 (EDT) Subject: |PENDING| pw142744 [PATCH] [RFC] dmadev: add QoS capability From: dpdklab@iol.unh.edu To: Test Report Cc: dpdk-test-reports@iol.unh.edu In-Reply-To: <20240729115558.263574-1-vattunuru@marvell.com> References: <20240729115558.263574-1-vattunuru@marvell.com> Content-Type: text/plain X-BeenThere: test-report@dpdk.org X-Mailman-Version: 2.1.29 Precedence: list List-Id: automatic DPDK test reports List-Unsubscribe: , List-Archive: List-Post: List-Help: List-Subscribe: , Errors-To: test-report-bounces@dpdk.org Test-Label: iol-compile-arm64-testing Test-Status: PENDING http://dpdk.org/patch/142744 _Testing pending_ Submitter: Vamsi Krishna Attunuru Date: Monday, July 29 2024 11:55:58 DPDK git baseline: Repo:dpdk Branch: master CommitID:82c47f005b9a0a1e3a649664b7713443d18abe43 142744 --> testing pending Upstream job id: Generic-DPDK-Compile-Meson#281179 Test environment and result as below: +----------------------------------------+--------------------+ | Environment | dpdk_meson_compile | +========================================+====================+ | RHEL9 (ARM) | PASS | +----------------------------------------+--------------------+ | Ubuntu 20.04 ARM GCC Cross Compile | PEND | +----------------------------------------+--------------------+ | Ubuntu 20.04 ARM SVE | PASS | +----------------------------------------+--------------------+ | Debian 12 with MUSDK | PASS | +----------------------------------------+--------------------+ | Fedora 37 (ARM) | PASS | +----------------------------------------+--------------------+ | Fedora 38 (ARM) | PASS | +----------------------------------------+--------------------+ | Fedora 38 (ARM Clang) | PEND | +----------------------------------------+--------------------+ | Fedora 39 (ARM) | PASS | +----------------------------------------+--------------------+ | Fedora 39 (ARM Clang) | PASS | +----------------------------------------+--------------------+ | Fedora 40 (ARM) | PASS | +----------------------------------------+--------------------+ | Fedora 40 (ARM Clang) | PASS | +----------------------------------------+--------------------+ | Ubuntu 22.04 (ARM) | PASS | +----------------------------------------+--------------------+ | Ubuntu 24.04 (ARM) | PASS | +----------------------------------------+--------------------+ | CentOS Stream 9 (ARM) | PASS | +----------------------------------------+--------------------+ | Debian 11 (Buster) (ARM) | PASS | +----------------------------------------+--------------------+ | Debian 12 (arm) | PASS | +----------------------------------------+--------------------+ | Ubuntu 20.04 ARM Clang Cross Compile | PEND | +----------------------------------------+--------------------+ | Ubuntu 20.04 aarch32 GCC Cross Compile | PEND | +----------------------------------------+--------------------+ | Ubuntu 20.04 (ARM) | PASS | +----------------------------------------+--------------------+ RHEL9 (ARM) Kernel: Depends on container host Compiler: gcc 11.4.1 Ubuntu 20.04 ARM GCC Cross Compile Kernel: 5.4.0-167-generic Compiler: aarch64-linux-gnu-gcc (Ubuntu 9.4.0-1ubuntu1~20.04.2) 9.4.0 Ubuntu 20.04 ARM SVE Kernel: 5.4.0-167-generic Compiler: gcc (Ubuntu 10.5.0-1ubuntu1~20.04) 10.5.0 Debian 12 with MUSDK Kernel: Container Host Kernel Compiler: gcc 12.2.0 Fedora 37 (ARM) Kernel: Depends on container host Compiler: gcc 12.3.1 Fedora 38 (ARM) Kernel: Depends on container host Compiler: gcc 13.2.1 Fedora 38 (ARM Clang) Kernel: Depends on container host Compiler: clang 16.0.6 Fedora 39 (ARM) Kernel: Depends on container host Compiler: gcc 13.2.1 Fedora 39 (ARM Clang) Kernel: Depends on container host Compiler: clang 17.0.6 Fedora 40 (ARM) Kernel: Depends on container host Compiler: gcc 14.1.1 Fedora 40 (ARM Clang) Kernel: Depends on container host Compiler: clang 18.1.6 Ubuntu 22.04 (ARM) Kernel: Container Host Kernel Compiler: gcc 11.4.0 Ubuntu 24.04 (ARM) Kernel: 5.4.0-167-generic Compiler: gcc 13.2.0 CentOS Stream 9 (ARM) Kernel: Container Host Kernel Compiler: gcc 11.4.1 Debian 11 (Buster) (ARM) Kernel: Container Host Kernel Compiler: gcc 10.2.1 Debian 12 (arm) Kernel: Container Host Kernel Compiler: gcc 12.2.0 Ubuntu 20.04 ARM Clang Cross Compile Kernel: 5.4.0-72-generic Compiler: clang 10.0.0-4ubuntu1 Ubuntu 20.04 aarch32 GCC Cross Compile Kernel: 5.4.0-167-generic Compiler: gcc 9.4.0 Ubuntu 20.04 (ARM) Kernel: Container Host Kernel Compiler: gcc 9.4.0 To view detailed results, visit: https://lab.dpdk.org/results/dashboard/patchsets/30640/ UNH-IOL DPDK Community Lab To manage your email subscriptions, visit: https://lab.dpdk.org/results/dashboard/preferences/subscriptions/