From mboxrd@z Thu Jan 1 00:00:00 1970 Return-Path: Received: from mails.dpdk.org (mails.dpdk.org [217.70.189.124]) by inbox.dpdk.org (Postfix) with ESMTP id 65C8E456E6 for ; Mon, 29 Jul 2024 22:12:17 +0200 (CEST) Received: from mails.dpdk.org (localhost [127.0.0.1]) by mails.dpdk.org (Postfix) with ESMTP id 5976740A6D; Mon, 29 Jul 2024 22:12:17 +0200 (CEST) Received: from mail-yw1-f228.google.com (mail-yw1-f228.google.com [209.85.128.228]) by mails.dpdk.org (Postfix) with ESMTP id 6CB3A4068E for ; Mon, 29 Jul 2024 22:12:16 +0200 (CEST) Received: by mail-yw1-f228.google.com with SMTP id 00721157ae682-651da7c1531so25625507b3.0 for ; Mon, 29 Jul 2024 13:12:16 -0700 (PDT) DKIM-Signature: v=1; a=rsa-sha256; c=relaxed/relaxed; d=iol.unh.edu; s=unh-iol; t=1722283936; x=1722888736; darn=dpdk.org; h=references:in-reply-to:cc:to:from:subject:message-id:date:from:to :cc:subject:date:message-id:reply-to; bh=p9AuPu2Ia5sxCNIPONEHDfz8a+tGfsaVt5BbUC3WyCw=; b=WCrecR2pv9q2ou+GvBfUWi/hQNAY3czagbbcDNniqmMYsHr8n4W4cjQD6+KJk4Txm8 W9bLY3kD4cSWlzZrETosud3O+3rxcL1VSq1B0v6Hrcr7/N/XR9QIfYlsKjvWpi9BbCcQ nLCM5KadI2+60U95pEg3HZNDdzywA6+knmSYI= X-Google-DKIM-Signature: v=1; a=rsa-sha256; c=relaxed/relaxed; d=1e100.net; s=20230601; t=1722283936; x=1722888736; h=references:in-reply-to:cc:to:from:subject:message-id:date :x-gm-message-state:from:to:cc:subject:date:message-id:reply-to; bh=p9AuPu2Ia5sxCNIPONEHDfz8a+tGfsaVt5BbUC3WyCw=; b=VDxNellXkKO58voVekg2jXhFHcLH/95uObsimCGi3jSrQ+mV50I65LOAzekCk01Kfk BxWeQCcyXzYcQ2NeYBcOgeIqliH8JqW1m9qc3QC/pDxjRaDYTeOOKzkIdenboxjC4OEF mPBmfjl73FQWnhfXwVyhWqeFF3e2sW/Y84GoPxp4Y/c4OM715HTp6Rel001tWBKimdog 2LTMhXzVi+F0S+bdIy94aS0Ri4N77Dq1SAqdJdttFKSaLI2Qq0y63BFEUhXvF6k1kv7S PUw0H8vEzh5UjwRIN6uaPescKkihDk/zv4t0JqqeiwTyaYSQm0tAVUe0P3Kp/i/vGFRx b/iQ== X-Gm-Message-State: AOJu0YxLW+Au2Y5Xb3SkGOIelhpCBzFUTwrqPwxEtzAdUMoFoKV6/GjG JHwUciiMkd1s8gHfXQRtcea+39Kz64hMxek8GRXvw3XvLtUjztGjMT5VcZ+biKJFk6muBduOjeF I096rIqRsigopwywu81shamNCRC3JSYFN5kb0EA0i X-Google-Smtp-Source: AGHT+IEyAidKiZ+gC7UoGAywbSNtw6lYSFovBWHTAYTeVlHERk8dIwFHrKa7VwcxSgNJcyANOoVPUm3AhQ9J X-Received: by 2002:a81:c30e:0:b0:669:8ef1:ff06 with SMTP id 00721157ae682-67a0929be7emr83613227b3.35.1722283935837; Mon, 29 Jul 2024 13:12:15 -0700 (PDT) Received: from postal.iol.unh.edu (postal.iol.unh.edu. [132.177.123.84]) by smtp-relay.gmail.com with ESMTPS id 00721157ae682-67567b4aa24sm7441727b3.23.2024.07.29.13.12.15 (version=TLS1_2 cipher=ECDHE-ECDSA-AES128-GCM-SHA256 bits=128/128); Mon, 29 Jul 2024 13:12:15 -0700 (PDT) X-Relaying-Domain: iol.unh.edu Date: Mon, 29 Jul 2024 13:12:15 -0700 (PDT) Message-ID: <66a7f79f.810a0220.19e5d7.ba5cSMTPIN_ADDED_MISSING@mx.google.com> Received: from [172.21.0.8] (unknown [172.18.0.240]) by postal.iol.unh.edu (Postfix) with ESMTP id 7B765605C351; Mon, 29 Jul 2024 16:12:15 -0400 (EDT) Subject: |PENDING| pw142744 [PATCH] [RFC] dmadev: add QoS capability From: dpdklab@iol.unh.edu To: Test Report Cc: dpdk-test-reports@iol.unh.edu In-Reply-To: <20240729115558.263574-1-vattunuru@marvell.com> References: <20240729115558.263574-1-vattunuru@marvell.com> Content-Type: text/plain X-BeenThere: test-report@dpdk.org X-Mailman-Version: 2.1.29 Precedence: list List-Id: automatic DPDK test reports List-Unsubscribe: , List-Archive: List-Post: List-Help: List-Subscribe: , Errors-To: test-report-bounces@dpdk.org Test-Label: iol-unit-arm64-testing Test-Status: PENDING http://dpdk.org/patch/142744 _Testing pending_ Submitter: Vamsi Krishna Attunuru Date: Monday, July 29 2024 11:55:58 DPDK git baseline: Repo:dpdk Branch: master CommitID:7f9b2c926a5192440eaecf0cb80cc45ac8d9a0f2 142744 --> testing pending Upstream job id: Generic-Unit-Test-DPDK#245962 Test environment and result as below: +-----------------------------+----------------+--------------+---------------------------+------------------------------+ | Environment | dpdk_unit_test | lpm_autotest | cryptodev_sw_zuc_autotest | cryptodev_sw_snow3g_autotest | +=============================+================+==============+===========================+==============================+ | CentOS Stream 9 (ARM) | PASS | SKIPPED | SKIPPED | SKIPPED | +-----------------------------+----------------+--------------+---------------------------+------------------------------+ | Debian 11 (Buster) (ARM) | PASS | SKIPPED | SKIPPED | SKIPPED | +-----------------------------+----------------+--------------+---------------------------+------------------------------+ | Debian 12 (arm) | PASS | SKIPPED | PASS | PASS | +-----------------------------+----------------+--------------+---------------------------+------------------------------+ | 32-bit Ubuntu 20.04.4 (ARM) | PASS | SKIPPED | SKIPPED | SKIPPED | +-----------------------------+----------------+--------------+---------------------------+------------------------------+ | Fedora 37 (ARM) | PASS | SKIPPED | SKIPPED | SKIPPED | +-----------------------------+----------------+--------------+---------------------------+------------------------------+ | Fedora 38 (ARM) | PASS | SKIPPED | SKIPPED | SKIPPED | +-----------------------------+----------------+--------------+---------------------------+------------------------------+ | Fedora 39 (ARM) | PASS | SKIPPED | SKIPPED | SKIPPED | +-----------------------------+----------------+--------------+---------------------------+------------------------------+ | Fedora 38 (ARM Clang) | PASS | SKIPPED | SKIPPED | SKIPPED | +-----------------------------+----------------+--------------+---------------------------+------------------------------+ | Fedora 39 (ARM Clang) | PASS | SKIPPED | SKIPPED | SKIPPED | +-----------------------------+----------------+--------------+---------------------------+------------------------------+ | Fedora 40 (ARM) | PASS | SKIPPED | SKIPPED | SKIPPED | +-----------------------------+----------------+--------------+---------------------------+------------------------------+ | Fedora 40 (ARM Clang) | PASS | SKIPPED | SKIPPED | SKIPPED | +-----------------------------+----------------+--------------+---------------------------+------------------------------+ | RHEL9 (ARM) | PASS | SKIPPED | SKIPPED | SKIPPED | +-----------------------------+----------------+--------------+---------------------------+------------------------------+ | Ubuntu 20.04 (ARM) | PASS | SKIPPED | SKIPPED | SKIPPED | +-----------------------------+----------------+--------------+---------------------------+------------------------------+ | Ubuntu 22.04 (ARM) | PASS | SKIPPED | SKIPPED | SKIPPED | +-----------------------------+----------------+--------------+---------------------------+------------------------------+ | Ubuntu 24.04 (ARM) | PASS | SKIPPED | SKIPPED | SKIPPED | +-----------------------------+----------------+--------------+---------------------------+------------------------------+ | Ubuntu 20.04 ARM SVE | SKIPPED | PEND | SKIPPED | SKIPPED | +-----------------------------+----------------+--------------+---------------------------+------------------------------+ CentOS Stream 9 (ARM) Kernel: Container Host Kernel Compiler: gcc 11.4.1 Debian 11 (Buster) (ARM) Kernel: Container Host Kernel Compiler: gcc 10.2.1 Debian 12 (arm) Kernel: Container Host Kernel Compiler: gcc 12.2.0 32-bit Ubuntu 20.04.4 (ARM) Kernel: 5.4.0-155-generic aarch64 Compiler: gcc 9.4 Fedora 37 (ARM) Kernel: Depends on container host Compiler: gcc 12.3.1 Fedora 38 (ARM) Kernel: Depends on container host Compiler: gcc 13.2.1 Fedora 39 (ARM) Kernel: Depends on container host Compiler: gcc 13.2.1 Fedora 38 (ARM Clang) Kernel: Depends on container host Compiler: clang 16.0.6 Fedora 39 (ARM Clang) Kernel: Depends on container host Compiler: clang 17.0.6 Fedora 40 (ARM) Kernel: Depends on container host Compiler: gcc 14.1.1 Fedora 40 (ARM Clang) Kernel: Depends on container host Compiler: clang 18.1.6 RHEL9 (ARM) Kernel: Depends on container host Compiler: gcc 11.4.1 Ubuntu 20.04 (ARM) Kernel: Container Host Kernel Compiler: gcc 9.4.0 Ubuntu 22.04 (ARM) Kernel: Container Host Kernel Compiler: gcc 11.4.0 Ubuntu 24.04 (ARM) Kernel: 5.4.0-167-generic Compiler: gcc 13.2.0 Ubuntu 20.04 ARM SVE Kernel: 5.4.0-167-generic Compiler: gcc (Ubuntu 10.5.0-1ubuntu1~20.04) 10.5.0 To view detailed results, visit: https://lab.dpdk.org/results/dashboard/patchsets/30640/ UNH-IOL DPDK Community Lab To manage your email subscriptions, visit: https://lab.dpdk.org/results/dashboard/preferences/subscriptions/