From mboxrd@z Thu Jan 1 00:00:00 1970 Return-Path: Received: from mails.dpdk.org (mails.dpdk.org [217.70.189.124]) by inbox.dpdk.org (Postfix) with ESMTP id E0317456E6 for ; Mon, 29 Jul 2024 22:15:12 +0200 (CEST) Received: from mails.dpdk.org (localhost [127.0.0.1]) by mails.dpdk.org (Postfix) with ESMTP id D81F340A6D; Mon, 29 Jul 2024 22:15:12 +0200 (CEST) Received: from mail-io1-f99.google.com (mail-io1-f99.google.com [209.85.166.99]) by mails.dpdk.org (Postfix) with ESMTP id DB1404068E for ; Mon, 29 Jul 2024 22:15:03 +0200 (CEST) Received: by mail-io1-f99.google.com with SMTP id ca18e2360f4ac-81f96ea9ff7so103339439f.3 for ; Mon, 29 Jul 2024 13:15:03 -0700 (PDT) DKIM-Signature: v=1; a=rsa-sha256; c=relaxed/relaxed; d=iol.unh.edu; s=unh-iol; t=1722284103; x=1722888903; darn=dpdk.org; h=references:in-reply-to:cc:to:from:subject:message-id:date:from:to :cc:subject:date:message-id:reply-to; bh=bmcePSCGr/t/qilXDsj0m7wBCRXUmck7TLWzarm9aX8=; b=OKibWvxDypoe1Oby7D2g403uDg2TVbytfJhEVyE5U0n2TRcxFS5zL5WdHHv0Pj+2k3 EZj0bfvlgIEo7XrGEoZ3ENuYxHHnufF/rQVnTkw0uRqCdgcJBP0EfqRRSKGHlmVQMXDn nQc9xqYrxieFpu9NjvtAsLvMkzXMZdY7hgDQw= X-Google-DKIM-Signature: v=1; a=rsa-sha256; c=relaxed/relaxed; d=1e100.net; s=20230601; t=1722284103; x=1722888903; h=references:in-reply-to:cc:to:from:subject:message-id:date :x-gm-message-state:from:to:cc:subject:date:message-id:reply-to; bh=bmcePSCGr/t/qilXDsj0m7wBCRXUmck7TLWzarm9aX8=; b=OFjnLB9qcxa01tThomZpkkAXIHhF7ccaFiGVGjjjxsTFJqbBJAqtUSihfzBYFAmaIZ me57kcQko3Z7uSOkD6+hIviEN7EunxdEwUEfeop/rzE+7nq8I72WETL1cq1dcmgJ/o8Y VIu6YZmCKlBdW2JsqGin7Q/0BwnnGaqPjlyabUlq68Yeks0Ma5GboMbUghghrcwjNZz8 BgLvpKWrCHhycLgBm88wUDfQ1ZSg9NYkQCemkf9oQh2TGr3P8D2Jh0ixHPkuwcw7nG0m cbTYpvX7+qpVwV0i2PNBywWkcD9EcDIr8IasnmmXLbG8i5JrFUsBXElC9sRnPVo0KbTI 4tNQ== X-Gm-Message-State: AOJu0Ywz8zqsSFd7mvbPKs93Cz7V4aamZO69gapm4Q19zQ/BCQHvPgvn cqwHKctGPyP1ahFSI/8jFLUYT9LbOr9GYsceisa/EwjRTGMnJzqXld157Km5XguYvxEW0AnqYo0 WOzZ797P+RDxwkpFghgNRG9FOqcYK1OiTd+oNxbjH X-Google-Smtp-Source: AGHT+IHFUI2m6KFNufbSVE0G63H7ep+/9wA0ujkBFZHdgzJJik8X8866wXZUZLm+LSmVRIiToI58duY7XxrD X-Received: by 2002:a05:6602:26cb:b0:7fc:923f:255b with SMTP id ca18e2360f4ac-81f95ab382cmr1290290939f.16.1722284103201; Mon, 29 Jul 2024 13:15:03 -0700 (PDT) Received: from postal.iol.unh.edu (postal.iol.unh.edu. [132.177.123.84]) by smtp-relay.gmail.com with ESMTPS id 8926c6da1cb9f-4c29fa416b4sm237309173.7.2024.07.29.13.15.03 (version=TLS1_2 cipher=ECDHE-ECDSA-AES128-GCM-SHA256 bits=128/128); Mon, 29 Jul 2024 13:15:03 -0700 (PDT) X-Relaying-Domain: iol.unh.edu Date: Mon, 29 Jul 2024 13:15:03 -0700 (PDT) Message-ID: <66a7f847.050a0220.86e4c.da29SMTPIN_ADDED_MISSING@mx.google.com> Received: from [172.21.0.9] (unknown [172.18.0.240]) by postal.iol.unh.edu (Postfix) with ESMTP id 9FBF1605C351; Mon, 29 Jul 2024 16:15:02 -0400 (EDT) Subject: |PENDING| pw142744 [PATCH] [RFC] dmadev: add QoS capability From: dpdklab@iol.unh.edu To: Test Report Cc: dpdk-test-reports@iol.unh.edu In-Reply-To: <20240729115558.263574-1-vattunuru@marvell.com> References: <20240729115558.263574-1-vattunuru@marvell.com> Content-Type: text/plain X-BeenThere: test-report@dpdk.org X-Mailman-Version: 2.1.29 Precedence: list List-Id: automatic DPDK test reports List-Unsubscribe: , List-Archive: List-Post: List-Help: List-Subscribe: , Errors-To: test-report-bounces@dpdk.org Test-Label: iol-unit-amd64-testing Test-Status: PENDING http://dpdk.org/patch/142744 _Testing pending_ Submitter: Vamsi Krishna Attunuru Date: Monday, July 29 2024 11:55:58 DPDK git baseline: Repo:dpdk Branch: master CommitID:82c47f005b9a0a1e3a649664b7713443d18abe43 142744 --> testing pending Upstream job id: Generic-Unit-Test-DPDK#245919 Test environment and result as below: +---------------------+----------------+ | Environment | dpdk_unit_test | +=====================+================+ | Windows Server 2019 | PASS | +---------------------+----------------+ | Windows Server 2022 | PASS | +---------------------+----------------+ | CentOS Stream 8 | PASS | +---------------------+----------------+ | CentOS Stream 9 | PASS | +---------------------+----------------+ | Debian Bullseye | PASS | +---------------------+----------------+ | Debian 12 | PASS | +---------------------+----------------+ | Fedora 38 | PASS | +---------------------+----------------+ | Fedora 39 | PASS | +---------------------+----------------+ | Fedora 39 (Clang) | PEND | +---------------------+----------------+ | Fedora 40 | PASS | +---------------------+----------------+ | Fedora 40 (Clang) | PEND | +---------------------+----------------+ | openSUSE Leap 15 | PASS | +---------------------+----------------+ | RHEL8 | PASS | +---------------------+----------------+ | RHEL9 | PEND | +---------------------+----------------+ | Ubuntu 20.04 | PEND | +---------------------+----------------+ | Ubuntu 22.04 | PEND | +---------------------+----------------+ | Ubuntu 24.04 | PEND | +---------------------+----------------+ | Fedora 38 (Clang) | PEND | +---------------------+----------------+ | Fedora 37 | PEND | +---------------------+----------------+ Windows Server 2019 Kernel: 10.0.17763 Compiler: clang 14.0 and gcc 8.1.0 (MinGW) Windows Server 2022 Kernel: 10.0.20348.2031 Compiler: clang 15.0.7, gcc 8.1.0 (MinGW), and MSVC VS 17.9 CentOS Stream 8 Kernel: 5.4.0-167-generic Compiler: gcc 8.5.0 20210514 CentOS Stream 9 Kernel: 5.4.0-167-generic Compiler: gcc 11.4.1 20230605 Debian Bullseye Kernel: 5.4.0-167-generic Compiler: gcc 10.2.1-6 Debian 12 Kernel: Container Host Kernel Compiler: gcc 12.2.0 Fedora 38 Kernel: Depends on container host Compiler: gcc 13.2.1 Fedora 39 Kernel: Depends on container host Compiler: gcc 13.2.1 Fedora 39 (Clang) Kernel: Depends on container host Compiler: clang 17.0.6 Fedora 40 Kernel: Depends on container host Compiler: gcc 14.1.1 Fedora 40 (Clang) Kernel: Depends on container host Compiler: clang 18.1.6 openSUSE Leap 15 Kernel: 5.4.0-167-generic Compiler: gcc 7.5.0 RHEL8 Kernel: 5.4.0-167-generic Compiler: gcc 8.5.0 20210514 (Red Hat 8.5.0-20) RHEL9 Kernel: Depends on container host Compiler: gcc 11.4.1 Ubuntu 20.04 Kernel: 5.4.0-167-generic Compiler: gcc 9.4.0-1ubuntu1~20.04.1 Ubuntu 22.04 Kernel: 5.4.0-167-generic Compiler: gcc 11.4.0 Ubuntu 24.04 Kernel: 5.4.0-167-generic Compiler: gcc 13.2.0 Fedora 38 (Clang) Kernel: Depends on container host Compiler: clang 16.0.6 Fedora 37 Kernel: Depends on container host system Compiler: gcc 12.3.1 To view detailed results, visit: https://lab.dpdk.org/results/dashboard/patchsets/30640/ UNH-IOL DPDK Community Lab To manage your email subscriptions, visit: https://lab.dpdk.org/results/dashboard/preferences/subscriptions/