From mboxrd@z Thu Jan 1 00:00:00 1970 Return-Path: Received: from mails.dpdk.org (mails.dpdk.org [217.70.189.124]) by inbox.dpdk.org (Postfix) with ESMTP id 6637D456E6 for ; Mon, 29 Jul 2024 22:16:37 +0200 (CEST) Received: from mails.dpdk.org (localhost [127.0.0.1]) by mails.dpdk.org (Postfix) with ESMTP id 5E51340A6D; Mon, 29 Jul 2024 22:16:37 +0200 (CEST) Received: from mail-qk1-f227.google.com (mail-qk1-f227.google.com [209.85.222.227]) by mails.dpdk.org (Postfix) with ESMTP id 53EC44068E for ; Mon, 29 Jul 2024 22:16:13 +0200 (CEST) Received: by mail-qk1-f227.google.com with SMTP id af79cd13be357-7a1e1f6a924so215347585a.1 for ; Mon, 29 Jul 2024 13:16:13 -0700 (PDT) DKIM-Signature: v=1; a=rsa-sha256; c=relaxed/relaxed; d=iol.unh.edu; s=unh-iol; t=1722284172; x=1722888972; darn=dpdk.org; h=references:in-reply-to:cc:to:from:subject:message-id:date:from:to :cc:subject:date:message-id:reply-to; bh=XDqIcsNq/y/XP10PnJNQfLF4xUYL16q7bfNGl4yy8HQ=; b=L9OmtVfvMecNO7Xm46/tnhxSVf5RpBJJ3w2GgNCTXpYnUhqJy04WdEr8lgfycvJ0pC +36i4StLFYsLj6tVqQUI07YuMiHSgtP4TMC5uAutUjfiyoGLZT9pr2OWTaypCML9lqq+ 2i5dBs7XvI26pQACWsHk+4psUpopsuBoRaiFs= X-Google-DKIM-Signature: v=1; a=rsa-sha256; c=relaxed/relaxed; d=1e100.net; s=20230601; t=1722284172; x=1722888972; h=references:in-reply-to:cc:to:from:subject:message-id:date :x-gm-message-state:from:to:cc:subject:date:message-id:reply-to; bh=XDqIcsNq/y/XP10PnJNQfLF4xUYL16q7bfNGl4yy8HQ=; b=xE4zZBsPB9lmfwluK1ZHjDdrv/wDJT3L5WKt7TtKEO5g493HdirmhFruNoeYGfF8Vq 1IbOKI6v0ZBDfYJOwOTrWb8Avj++e0eTYxmGVxs6C3kJtWifo7k/8B3aWhzmTPWbaKgD MsCocXOMUNhBgrLQ6W4U06wfzLCV7lxe7Yziuxf2PNVN81WgL5Z+CGoPUYN5dEt5I4Ay MvfnpfCJzBD0gq6zMdazo/bmQHdfHP8QXqV4Q72OAB6riXnJRT3PDcYglb++iDfuuAb9 ciLRq8/Owou5LX2hRFUfqkRRG2Ej027hjg0KiurlEdex7AV6rxtRAST/2RsC5JI/qlFf 293g== X-Gm-Message-State: AOJu0YzUzq7n/h0P9KEmwsxMuZqgoUtVb+x136zpn87JGhUc6eakeq1l AkHipUCHRShLh4wEJF6NB+ExzN+BQijr9K5UZUWUZ+npj+5Mfhw0sPJL+5/RH0kmJWcBKP9lYBs qws6pqIYu7OHXHUTgxKN74qFkb4ybkYrFXqN2nlCw1kWiPiJ+wRi3m3Xv X-Google-Smtp-Source: AGHT+IFtbNNro7GpL3U5duej4j9n625I3q+Ug0RfoHjT9gnlFc6BbEYjkODy5FH5gAt7NkPSU7iLx3rm6MBr X-Received: by 2002:a05:620a:1986:b0:79f:10a2:1361 with SMTP id af79cd13be357-7a1e526630cmr932613585a.31.1722284172512; Mon, 29 Jul 2024 13:16:12 -0700 (PDT) Received: from postal.iol.unh.edu (postal.iol.unh.edu. [2606:4100:3880:1234::84]) by smtp-relay.gmail.com with ESMTPS id d75a77b69052e-44fe8419605sm6264881cf.24.2024.07.29.13.16.12 (version=TLS1_2 cipher=ECDHE-ECDSA-AES128-GCM-SHA256 bits=128/128); Mon, 29 Jul 2024 13:16:12 -0700 (PDT) X-Relaying-Domain: iol.unh.edu Date: Mon, 29 Jul 2024 13:16:12 -0700 (PDT) Message-ID: <66a7f88c.050a0220.ade14.580dSMTPIN_ADDED_MISSING@mx.google.com> Received: from [172.21.0.7] (unknown [172.18.0.240]) by postal.iol.unh.edu (Postfix) with ESMTP id 389AA605C351; Mon, 29 Jul 2024 16:16:12 -0400 (EDT) Subject: |PENDING| pw142744 [PATCH] [RFC] dmadev: add QoS capability From: dpdklab@iol.unh.edu To: Test Report Cc: dpdk-test-reports@iol.unh.edu In-Reply-To: <20240729115558.263574-1-vattunuru@marvell.com> References: <20240729115558.263574-1-vattunuru@marvell.com> Content-Type: text/plain X-BeenThere: test-report@dpdk.org X-Mailman-Version: 2.1.29 Precedence: list List-Id: automatic DPDK test reports List-Unsubscribe: , List-Archive: List-Post: List-Help: List-Subscribe: , Errors-To: test-report-bounces@dpdk.org Test-Label: iol-compile-amd64-testing Test-Status: PENDING http://dpdk.org/patch/142744 _Testing pending_ Submitter: Vamsi Krishna Attunuru Date: Monday, July 29 2024 11:55:58 DPDK git baseline: Repo:dpdk Branch: master CommitID:82c47f005b9a0a1e3a649664b7713443d18abe43 142744 --> testing pending Upstream job id: Generic-DPDK-Compile-Meson#281158 Test environment and result as below: +---------------------+--------------------+----------------------+------------------+-------------------+-------------------+ | Environment | dpdk_meson_compile | dpdk_mingw64_compile | dpdk_compile_ovs | dpdk_compile_spdk | dpdk_msvc_compile | +=====================+====================+======================+==================+===================+===================+ | Windows Server 2019 | PASS | PASS | SKIPPED | SKIPPED | SKIPPED | +---------------------+--------------------+----------------------+------------------+-------------------+-------------------+ | Windows Server 2022 | PASS | PASS | SKIPPED | SKIPPED | PASS | +---------------------+--------------------+----------------------+------------------+-------------------+-------------------+ | FreeBSD 13.3 | PASS | SKIPPED | SKIPPED | SKIPPED | SKIPPED | +---------------------+--------------------+----------------------+------------------+-------------------+-------------------+ | FreeBSD 14.1 | PASS | SKIPPED | SKIPPED | SKIPPED | SKIPPED | +---------------------+--------------------+----------------------+------------------+-------------------+-------------------+ | CentOS Stream 8 | PASS | SKIPPED | PASS | PASS | SKIPPED | +---------------------+--------------------+----------------------+------------------+-------------------+-------------------+ | CentOS Stream 9 | PEND | SKIPPED | PEND | PEND | SKIPPED | +---------------------+--------------------+----------------------+------------------+-------------------+-------------------+ | Debian Bullseye | PASS | SKIPPED | PASS | PASS | SKIPPED | +---------------------+--------------------+----------------------+------------------+-------------------+-------------------+ | Debian 12 | PASS | SKIPPED | PASS | PASS | SKIPPED | +---------------------+--------------------+----------------------+------------------+-------------------+-------------------+ | Fedora 37 | PASS | SKIPPED | PASS | PASS | SKIPPED | +---------------------+--------------------+----------------------+------------------+-------------------+-------------------+ | Fedora 38 (Clang) | PASS | SKIPPED | PASS | PASS | SKIPPED | +---------------------+--------------------+----------------------+------------------+-------------------+-------------------+ | Fedora 38 | PASS | SKIPPED | PASS | PASS | SKIPPED | +---------------------+--------------------+----------------------+------------------+-------------------+-------------------+ | Fedora 39 (Clang) | PEND | SKIPPED | PEND | PEND | SKIPPED | +---------------------+--------------------+----------------------+------------------+-------------------+-------------------+ | Fedora 39 | PASS | SKIPPED | PASS | PASS | SKIPPED | +---------------------+--------------------+----------------------+------------------+-------------------+-------------------+ | Fedora 40 (Clang) | PEND | SKIPPED | PEND | PEND | SKIPPED | +---------------------+--------------------+----------------------+------------------+-------------------+-------------------+ | Fedora 40 | PASS | SKIPPED | PASS | PASS | SKIPPED | +---------------------+--------------------+----------------------+------------------+-------------------+-------------------+ | openSUSE Leap 15 | PASS | SKIPPED | PASS | SKIPPED | SKIPPED | +---------------------+--------------------+----------------------+------------------+-------------------+-------------------+ | RHEL8 | PASS | SKIPPED | PASS | SKIPPED | SKIPPED | +---------------------+--------------------+----------------------+------------------+-------------------+-------------------+ | RHEL9 | PASS | SKIPPED | PASS | SKIPPED | SKIPPED | +---------------------+--------------------+----------------------+------------------+-------------------+-------------------+ | Ubuntu 20.04 | PASS | SKIPPED | PASS | SKIPPED | SKIPPED | +---------------------+--------------------+----------------------+------------------+-------------------+-------------------+ | Ubuntu 22.04 | PASS | SKIPPED | PASS | PASS | SKIPPED | +---------------------+--------------------+----------------------+------------------+-------------------+-------------------+ | Ubuntu 24.04 | PASS | SKIPPED | PASS | PASS | SKIPPED | +---------------------+--------------------+----------------------+------------------+-------------------+-------------------+ | Alpine | PEND | SKIPPED | PEND | SKIPPED | SKIPPED | +---------------------+--------------------+----------------------+------------------+-------------------+-------------------+ Windows Server 2019 Kernel: 10.0.17763 Compiler: clang 14.0 and gcc 8.1.0 (MinGW) Windows Server 2022 Kernel: 10.0.20348.2031 Compiler: clang 15.0.7, gcc 8.1.0 (MinGW), and MSVC VS 17.9 FreeBSD 13.3 Kernel: 13.3-RELEASE-p1 Compiler: clang 17.0.6 FreeBSD 14.1 Kernel: 14.1 Compiler: clang 18.1.5 CentOS Stream 8 Kernel: 5.4.0-167-generic Compiler: gcc 8.5.0 20210514 CentOS Stream 9 Kernel: 5.4.0-167-generic Compiler: gcc 11.4.1 20230605 Debian Bullseye Kernel: 5.4.0-167-generic Compiler: gcc 10.2.1-6 Debian 12 Kernel: Container Host Kernel Compiler: gcc 12.2.0 Fedora 37 Kernel: Depends on container host system Compiler: gcc 12.3.1 Fedora 38 (Clang) Kernel: Depends on container host Compiler: clang 16.0.6 Fedora 38 Kernel: Depends on container host Compiler: gcc 13.2.1 Fedora 39 (Clang) Kernel: Depends on container host Compiler: clang 17.0.6 Fedora 39 Kernel: Depends on container host Compiler: gcc 13.2.1 Fedora 40 (Clang) Kernel: Depends on container host Compiler: clang 18.1.6 Fedora 40 Kernel: Depends on container host Compiler: gcc 14.1.1 openSUSE Leap 15 Kernel: 5.4.0-167-generic Compiler: gcc 7.5.0 RHEL8 Kernel: 5.4.0-167-generic Compiler: gcc 8.5.0 20210514 (Red Hat 8.5.0-20) RHEL9 Kernel: Depends on container host Compiler: gcc 11.4.1 Ubuntu 20.04 Kernel: 5.4.0-167-generic Compiler: gcc 9.4.0-1ubuntu1~20.04.1 Ubuntu 22.04 Kernel: 5.4.0-167-generic Compiler: gcc 11.4.0 Ubuntu 24.04 Kernel: 5.4.0-167-generic Compiler: gcc 13.2.0 Alpine Kernel: 5.4.0-167-generic Compiler: gcc (Alpine 13.2.1_git20231014) 13.2.1 20231014 To view detailed results, visit: https://lab.dpdk.org/results/dashboard/patchsets/30640/ UNH-IOL DPDK Community Lab To manage your email subscriptions, visit: https://lab.dpdk.org/results/dashboard/preferences/subscriptions/