From mboxrd@z Thu Jan  1 00:00:00 1970
Return-Path: <test-report-bounces@dpdk.org>
Received: from mails.dpdk.org (mails.dpdk.org [217.70.189.124])
	by inbox.dpdk.org (Postfix) with ESMTP id EF5BC456E6
	for <public@inbox.dpdk.org>; Mon, 29 Jul 2024 22:20:24 +0200 (CEST)
Received: from mails.dpdk.org (localhost [127.0.0.1])
	by mails.dpdk.org (Postfix) with ESMTP id E938B406BC;
	Mon, 29 Jul 2024 22:20:24 +0200 (CEST)
Received: from mail-io1-f99.google.com (mail-io1-f99.google.com
 [209.85.166.99]) by mails.dpdk.org (Postfix) with ESMTP id EE75B4068E
 for <test-report@dpdk.org>; Mon, 29 Jul 2024 22:20:14 +0200 (CEST)
Received: by mail-io1-f99.google.com with SMTP id
 ca18e2360f4ac-81fad534a04so46506339f.1
 for <test-report@dpdk.org>; Mon, 29 Jul 2024 13:20:14 -0700 (PDT)
DKIM-Signature: v=1; a=rsa-sha256; c=relaxed/relaxed;
 d=iol.unh.edu; s=unh-iol; t=1722284414; x=1722889214; darn=dpdk.org;
 h=references:in-reply-to:cc:to:from:subject:message-id:date:from:to
 :cc:subject:date:message-id:reply-to;
 bh=w3dT6fByNGK0OfQWzqyzl52ZBv9llGq6s2q9r4qD0e4=;
 b=fw0/LvtvALeozsZvuxkZZyWqSNhkFg4uVVrAPA+8klDxW+3Kvckf74wppwAJypi3Mb
 M/nHnHCDqtXepMCefDkfChg2Rk3xh3TbrJlMecTqPrlb1RjKXzTbVSp81W2ef2kGPHrx
 xJZIGy57B87EX/KHjLdWexGuBoawxXEcQtq4o=
X-Google-DKIM-Signature: v=1; a=rsa-sha256; c=relaxed/relaxed;
 d=1e100.net; s=20230601; t=1722284414; x=1722889214;
 h=references:in-reply-to:cc:to:from:subject:message-id:date
 :x-gm-message-state:from:to:cc:subject:date:message-id:reply-to;
 bh=w3dT6fByNGK0OfQWzqyzl52ZBv9llGq6s2q9r4qD0e4=;
 b=BssXwLsjiHG9/U98+rYGCvJvJXSDR1/vAGbecuanBkADepkZQYtQijWIHM8DDK4jCA
 yh1e1Mgwk10EfUOAD9Qc4bNfUJ4MRXrnL+3+D/9/KB2qrXkfo9CTLVavnUq6ZmHKAw2Y
 iE4amCWOzlyJubqjoCm+GWm8nGIQWNr9gY3pcy/82DuGucdUt9tmsMMA1un3cwHFG3Fe
 kASyvXgc1I3xUkIe4Ih/Ub2PJ/kZHytMDTowq7jc3zkv2EMRX7KUMNVz//xUB/kwQUXS
 n2DnJnu4nwyd97lBPQByEepF3j2HnK/e1Sg7VIcv0Q8nzsVUo60z7fwlASqkQpU8IH8T
 PZTA==
X-Gm-Message-State: AOJu0YwS+1GlvvkEp/9RHa0h98ljj845NPB8O4jz+GFo/uz8+TePwwC1
 scPT+uzhZ72vD8o34sZTccoSMBT0I/S+yNsZEIWY2NuWLhZRKHohkrUJMuzDEHZRMY5cMQrZult
 Jy2we28+uvfiFZo7xuZWmYZjPiZXSM58RVvkEsCiFORT4oQlQVSJF57Fs
X-Google-Smtp-Source: AGHT+IGAf7bmX982JrzclBv8UL6rCsOyesxMWp+Rco/G6CMhA3rayqEkdBpuk9iK4qnau68LdhMZX1DJ88Oc
X-Received: by 2002:a05:6602:6c14:b0:805:3d47:19d6 with SMTP id
 ca18e2360f4ac-81f95a8fd32mr1105973339f.6.1722284414149; 
 Mon, 29 Jul 2024 13:20:14 -0700 (PDT)
Received: from postal.iol.unh.edu (postal.iol.unh.edu.
 [2606:4100:3880:1234::84]) by smtp-relay.gmail.com with ESMTPS id
 ca18e2360f4ac-81f7d770e25sm30096039f.16.2024.07.29.13.20.14
 (version=TLS1_2 cipher=ECDHE-ECDSA-AES128-GCM-SHA256 bits=128/128);
 Mon, 29 Jul 2024 13:20:14 -0700 (PDT)
X-Relaying-Domain: iol.unh.edu
Date: Mon, 29 Jul 2024 13:20:14 -0700 (PDT)
Message-ID: <66a7f97e.050a0220.a5bce.ffa5SMTPIN_ADDED_MISSING@mx.google.com>
Received: from [172.21.0.8] (unknown [172.18.0.240])
 by postal.iol.unh.edu (Postfix) with ESMTP id A61EA605C351;
 Mon, 29 Jul 2024 16:20:13 -0400 (EDT)
Subject: |PENDING| pw142749 [PATCH] [v24.11,v1] net/sfc: allow for use of ind
From: dpdklab@iol.unh.edu
To: Test Report <test-report@dpdk.org>
Cc: dpdk-test-reports@iol.unh.edu
In-Reply-To: <20240729163847.7261-1-ivan.malov@arknetworks.am>
References: <20240729163847.7261-1-ivan.malov@arknetworks.am>
Content-Type: text/plain
X-BeenThere: test-report@dpdk.org
X-Mailman-Version: 2.1.29
Precedence: list
List-Id: automatic DPDK test reports <test-report.dpdk.org>
List-Unsubscribe: <https://mails.dpdk.org/options/test-report>,
 <mailto:test-report-request@dpdk.org?subject=unsubscribe>
List-Archive: <http://mails.dpdk.org/archives/test-report/>
List-Post: <mailto:test-report@dpdk.org>
List-Help: <mailto:test-report-request@dpdk.org?subject=help>
List-Subscribe: <https://mails.dpdk.org/listinfo/test-report>,
 <mailto:test-report-request@dpdk.org?subject=subscribe>
Errors-To: test-report-bounces@dpdk.org

Test-Label: iol-unit-arm64-testing
Test-Status: PENDING
http://dpdk.org/patch/142749

_Testing pending_

Submitter: Ivan Malov <ivan.malov@arknetworks.am>
Date: Monday, July 29 2024 16:38:47 
DPDK git baseline: Repo:dpdk
  Branch: master
  CommitID:3e440dd0ecf47f19716503374610ddd75d3a5ce9

142749 --> testing pending

Upstream job id: Generic-Unit-Test-DPDK#245968

Test environment and result as below:

+-----------------------------+----------------+--------------+---------------------------+------------------------------+
|         Environment         | dpdk_unit_test | lpm_autotest | cryptodev_sw_zuc_autotest | cryptodev_sw_snow3g_autotest |
+=============================+================+==============+===========================+==============================+
| 32-bit Ubuntu 20.04.4 (ARM) | PEND           | SKIPPED      | SKIPPED                   | SKIPPED                      |
+-----------------------------+----------------+--------------+---------------------------+------------------------------+
| CentOS Stream 9 (ARM)       | PASS           | SKIPPED      | SKIPPED                   | SKIPPED                      |
+-----------------------------+----------------+--------------+---------------------------+------------------------------+
| Debian 11 (Buster) (ARM)    | PEND           | SKIPPED      | SKIPPED                   | SKIPPED                      |
+-----------------------------+----------------+--------------+---------------------------+------------------------------+
| Debian 12 (arm)             | PEND           | SKIPPED      | PASS                      | PASS                         |
+-----------------------------+----------------+--------------+---------------------------+------------------------------+
| Fedora 37 (ARM)             | PEND           | SKIPPED      | SKIPPED                   | SKIPPED                      |
+-----------------------------+----------------+--------------+---------------------------+------------------------------+
| Fedora 38 (ARM Clang)       | PEND           | SKIPPED      | SKIPPED                   | SKIPPED                      |
+-----------------------------+----------------+--------------+---------------------------+------------------------------+
| Fedora 38 (ARM)             | PEND           | SKIPPED      | SKIPPED                   | SKIPPED                      |
+-----------------------------+----------------+--------------+---------------------------+------------------------------+
| Fedora 39 (ARM)             | PEND           | SKIPPED      | SKIPPED                   | SKIPPED                      |
+-----------------------------+----------------+--------------+---------------------------+------------------------------+
| Fedora 39 (ARM Clang)       | PEND           | SKIPPED      | SKIPPED                   | SKIPPED                      |
+-----------------------------+----------------+--------------+---------------------------+------------------------------+
| Fedora 40 (ARM)             | PEND           | SKIPPED      | SKIPPED                   | SKIPPED                      |
+-----------------------------+----------------+--------------+---------------------------+------------------------------+
| Fedora 40 (ARM Clang)       | PEND           | SKIPPED      | SKIPPED                   | SKIPPED                      |
+-----------------------------+----------------+--------------+---------------------------+------------------------------+
| Ubuntu 20.04 ARM SVE        | SKIPPED        | PEND         | SKIPPED                   | SKIPPED                      |
+-----------------------------+----------------+--------------+---------------------------+------------------------------+


32-bit Ubuntu 20.04.4 (ARM)
	Kernel: 5.4.0-155-generic aarch64
	Compiler: gcc 9.4

CentOS Stream 9 (ARM)
	Kernel: Container Host Kernel
	Compiler: gcc 11.4.1

Debian 11 (Buster) (ARM)
	Kernel: Container Host Kernel
	Compiler: gcc 10.2.1

Debian 12 (arm)
	Kernel: Container Host Kernel
	Compiler: gcc 12.2.0

Fedora 37 (ARM)
	Kernel: Depends on container host
	Compiler: gcc 12.3.1

Fedora 38 (ARM Clang)
	Kernel: Depends on container host
	Compiler: clang 16.0.6

Fedora 38 (ARM)
	Kernel: Depends on container host
	Compiler: gcc 13.2.1

Fedora 39 (ARM)
	Kernel: Depends on container host
	Compiler: gcc 13.2.1

Fedora 39 (ARM Clang)
	Kernel: Depends on container host
	Compiler: clang 17.0.6

Fedora 40 (ARM)
	Kernel: Depends on container host
	Compiler: gcc 14.1.1

Fedora 40 (ARM Clang)
	Kernel: Depends on container host
	Compiler: clang 18.1.6

Ubuntu 20.04 ARM SVE
	Kernel: 5.4.0-167-generic
	Compiler: gcc (Ubuntu 10.5.0-1ubuntu1~20.04) 10.5.0

To view detailed results, visit:
https://lab.dpdk.org/results/dashboard/patchsets/30645/

UNH-IOL DPDK Community Lab

To manage your email subscriptions, visit: 
https://lab.dpdk.org/results/dashboard/preferences/subscriptions/