From mboxrd@z Thu Jan  1 00:00:00 1970
Return-Path: <test-report-bounces@dpdk.org>
Received: from mails.dpdk.org (mails.dpdk.org [217.70.189.124])
	by inbox.dpdk.org (Postfix) with ESMTP id 41269456E6
	for <public@inbox.dpdk.org>; Mon, 29 Jul 2024 22:36:05 +0200 (CEST)
Received: from mails.dpdk.org (localhost [127.0.0.1])
	by mails.dpdk.org (Postfix) with ESMTP id 3C87A4066E;
	Mon, 29 Jul 2024 22:36:05 +0200 (CEST)
Received: from mail-yw1-f225.google.com (mail-yw1-f225.google.com
 [209.85.128.225])
 by mails.dpdk.org (Postfix) with ESMTP id CABA4402CA
 for <test-report@dpdk.org>; Mon, 29 Jul 2024 22:35:25 +0200 (CEST)
Received: by mail-yw1-f225.google.com with SMTP id
 00721157ae682-663dd13c0bbso21866747b3.1
 for <test-report@dpdk.org>; Mon, 29 Jul 2024 13:35:25 -0700 (PDT)
DKIM-Signature: v=1; a=rsa-sha256; c=relaxed/relaxed;
 d=iol.unh.edu; s=unh-iol; t=1722285325; x=1722890125; darn=dpdk.org;
 h=references:in-reply-to:cc:to:from:subject:message-id:date:from:to
 :cc:subject:date:message-id:reply-to;
 bh=aSq7q4m4S01XLJ8abZTVYFElLwlf4+HQRYy9V0z/fH8=;
 b=f+4YQIWkmdVQ3YaeiYkgIEb+zLUYnRrb8XQduDUehAKPiIhP7EEOyBRs+0v3xNCNK4
 2ZaDPqcS/rjWeYqf1CUmvZBvxOFfz2Remrz4IalAuwXA4Mfn7z3xvhhH7ADotMRuf9HP
 IEhfmksoTYgxGCosMMHNuhuE0hJCwnGK4GH8o=
X-Google-DKIM-Signature: v=1; a=rsa-sha256; c=relaxed/relaxed;
 d=1e100.net; s=20230601; t=1722285325; x=1722890125;
 h=references:in-reply-to:cc:to:from:subject:message-id:date
 :x-gm-message-state:from:to:cc:subject:date:message-id:reply-to;
 bh=aSq7q4m4S01XLJ8abZTVYFElLwlf4+HQRYy9V0z/fH8=;
 b=iQygYMP7uBAz2Hg5J2VoDz3WS1ClyP13HCpXAFr1Ihsooi1bWVdGxfHBcKxSRZYgHw
 BvTzwG7xojSW01sR8fP5b2Asxbx+JTW3xuOORKEp8DZvYxLssiJ8+49Pi11l5MoIl68q
 fH04G6r5d2qEcbxPddfCKBHUcI80DrZD1sv9BiwSTKwTNCJnKX8EjI47WBiu0fVRQnRx
 WKC7jtL78klbNr8kT5bR0oWfL9H4aTd+X2GMaxlQipdFDShqKobnoEr2SMQvZWkgXu5/
 b4IEoK79aCC1Hk2bFjqJqNLqiCU7VtAkzqQ9eLa13KjvzUkDB3FiZcGQfypJWh2YPQ1h
 gIew==
X-Gm-Message-State: AOJu0YxPg0i+6tlChIHpy099Rp6ldBoblk8kdfiM+bonkmn0hyDEx8ma
 jCkuN82LuDs/f3jiSM5Eu4cqVpiuZy2r9BiJm+sT9U11lqr66r5xMhHlL5NXIUhq697nRxLF8oD
 DkYdfHv91rlWN0lGCNa6GkJIwsjq9OFwLJZD4kIUb
X-Google-Smtp-Source: AGHT+IFLkVdpCUAMzDINwSipIZndtzzmyjlBljVn0beWapIQht3hC7r73362avgWtZzuKXQ64HADCkMxf43M
X-Received: by 2002:a05:690c:890:b0:64b:f67:8fe6 with SMTP id
 00721157ae682-67a090a6beamr75779847b3.35.1722285325258; 
 Mon, 29 Jul 2024 13:35:25 -0700 (PDT)
Received: from postal.iol.unh.edu (postal.iol.unh.edu. [132.177.123.84])
 by smtp-relay.gmail.com with ESMTPS id
 00721157ae682-67566fc7538sm7145707b3.14.2024.07.29.13.35.25
 (version=TLS1_2 cipher=ECDHE-ECDSA-AES128-GCM-SHA256 bits=128/128);
 Mon, 29 Jul 2024 13:35:25 -0700 (PDT)
X-Relaying-Domain: iol.unh.edu
Date: Mon, 29 Jul 2024 13:35:25 -0700 (PDT)
Message-ID: <66a7fd0d.0d0a0220.157941.88b8SMTPIN_ADDED_MISSING@mx.google.com>
Received: from [172.21.0.6] (unknown [172.18.0.240])
 by postal.iol.unh.edu (Postfix) with ESMTP id E3C77605C351;
 Mon, 29 Jul 2024 16:35:24 -0400 (EDT)
Subject: |PENDING| pw142749 [PATCH] [v24.11,v1] net/sfc: allow for use of ind
From: dpdklab@iol.unh.edu
To: Test Report <test-report@dpdk.org>
Cc: dpdk-test-reports@iol.unh.edu
In-Reply-To: <20240729163847.7261-1-ivan.malov@arknetworks.am>
References: <20240729163847.7261-1-ivan.malov@arknetworks.am>
Content-Type: text/plain
X-BeenThere: test-report@dpdk.org
X-Mailman-Version: 2.1.29
Precedence: list
List-Id: automatic DPDK test reports <test-report.dpdk.org>
List-Unsubscribe: <https://mails.dpdk.org/options/test-report>,
 <mailto:test-report-request@dpdk.org?subject=unsubscribe>
List-Archive: <http://mails.dpdk.org/archives/test-report/>
List-Post: <mailto:test-report@dpdk.org>
List-Help: <mailto:test-report-request@dpdk.org?subject=help>
List-Subscribe: <https://mails.dpdk.org/listinfo/test-report>,
 <mailto:test-report-request@dpdk.org?subject=subscribe>
Errors-To: test-report-bounces@dpdk.org

Test-Label: iol-unit-arm64-testing
Test-Status: PENDING
http://dpdk.org/patch/142749

_Testing pending_

Submitter: Ivan Malov <ivan.malov@arknetworks.am>
Date: Monday, July 29 2024 16:38:47 
DPDK git baseline: Repo:dpdk
  Branch: master
  CommitID:3e440dd0ecf47f19716503374610ddd75d3a5ce9

142749 --> testing pending

Upstream job id: Generic-Unit-Test-DPDK#245984

Test environment and result as below:

+-----------------------------+----------------+--------------+---------------------------+------------------------------+
|         Environment         | dpdk_unit_test | lpm_autotest | cryptodev_sw_zuc_autotest | cryptodev_sw_snow3g_autotest |
+=============================+================+==============+===========================+==============================+
| 32-bit Ubuntu 20.04.4 (ARM) | PEND           | SKIPPED      | SKIPPED                   | SKIPPED                      |
+-----------------------------+----------------+--------------+---------------------------+------------------------------+
| CentOS Stream 9 (ARM)       | PASS           | SKIPPED      | SKIPPED                   | SKIPPED                      |
+-----------------------------+----------------+--------------+---------------------------+------------------------------+
| Debian 11 (Buster) (ARM)    | PASS           | SKIPPED      | SKIPPED                   | SKIPPED                      |
+-----------------------------+----------------+--------------+---------------------------+------------------------------+
| Debian 12 (arm)             | PASS           | SKIPPED      | PASS                      | PASS                         |
+-----------------------------+----------------+--------------+---------------------------+------------------------------+
| Fedora 37 (ARM)             | PASS           | SKIPPED      | SKIPPED                   | SKIPPED                      |
+-----------------------------+----------------+--------------+---------------------------+------------------------------+
| Fedora 38 (ARM Clang)       | PEND           | SKIPPED      | SKIPPED                   | SKIPPED                      |
+-----------------------------+----------------+--------------+---------------------------+------------------------------+
| Fedora 38 (ARM)             | PASS           | SKIPPED      | SKIPPED                   | SKIPPED                      |
+-----------------------------+----------------+--------------+---------------------------+------------------------------+
| Fedora 39 (ARM)             | PASS           | SKIPPED      | SKIPPED                   | SKIPPED                      |
+-----------------------------+----------------+--------------+---------------------------+------------------------------+
| Fedora 39 (ARM Clang)       | PEND           | SKIPPED      | SKIPPED                   | SKIPPED                      |
+-----------------------------+----------------+--------------+---------------------------+------------------------------+
| Fedora 40 (ARM)             | PASS           | SKIPPED      | SKIPPED                   | SKIPPED                      |
+-----------------------------+----------------+--------------+---------------------------+------------------------------+
| Fedora 40 (ARM Clang)       | PEND           | SKIPPED      | SKIPPED                   | SKIPPED                      |
+-----------------------------+----------------+--------------+---------------------------+------------------------------+
| RHEL9 (ARM)                 | PEND           | SKIPPED      | SKIPPED                   | SKIPPED                      |
+-----------------------------+----------------+--------------+---------------------------+------------------------------+
| Ubuntu 20.04 (ARM)          | PEND           | SKIPPED      | SKIPPED                   | SKIPPED                      |
+-----------------------------+----------------+--------------+---------------------------+------------------------------+
| Ubuntu 22.04 (ARM)          | PEND           | SKIPPED      | SKIPPED                   | SKIPPED                      |
+-----------------------------+----------------+--------------+---------------------------+------------------------------+
| Ubuntu 24.04 (ARM)          | PEND           | SKIPPED      | SKIPPED                   | SKIPPED                      |
+-----------------------------+----------------+--------------+---------------------------+------------------------------+
| Ubuntu 20.04 ARM SVE        | SKIPPED        | PEND         | SKIPPED                   | SKIPPED                      |
+-----------------------------+----------------+--------------+---------------------------+------------------------------+


32-bit Ubuntu 20.04.4 (ARM)
	Kernel: 5.4.0-155-generic aarch64
	Compiler: gcc 9.4

CentOS Stream 9 (ARM)
	Kernel: Container Host Kernel
	Compiler: gcc 11.4.1

Debian 11 (Buster) (ARM)
	Kernel: Container Host Kernel
	Compiler: gcc 10.2.1

Debian 12 (arm)
	Kernel: Container Host Kernel
	Compiler: gcc 12.2.0

Fedora 37 (ARM)
	Kernel: Depends on container host
	Compiler: gcc 12.3.1

Fedora 38 (ARM Clang)
	Kernel: Depends on container host
	Compiler: clang 16.0.6

Fedora 38 (ARM)
	Kernel: Depends on container host
	Compiler: gcc 13.2.1

Fedora 39 (ARM)
	Kernel: Depends on container host
	Compiler: gcc 13.2.1

Fedora 39 (ARM Clang)
	Kernel: Depends on container host
	Compiler: clang 17.0.6

Fedora 40 (ARM)
	Kernel: Depends on container host
	Compiler: gcc 14.1.1

Fedora 40 (ARM Clang)
	Kernel: Depends on container host
	Compiler: clang 18.1.6

RHEL9 (ARM)
	Kernel: Depends on container host
	Compiler: gcc 11.4.1

Ubuntu 20.04 (ARM)
	Kernel: Container Host Kernel
	Compiler: gcc 9.4.0

Ubuntu 22.04 (ARM)
	Kernel: Container Host Kernel
	Compiler: gcc 11.4.0

Ubuntu 24.04 (ARM)
	Kernel: 5.4.0-167-generic
	Compiler: gcc 13.2.0

Ubuntu 20.04 ARM SVE
	Kernel: 5.4.0-167-generic
	Compiler: gcc (Ubuntu 10.5.0-1ubuntu1~20.04) 10.5.0

To view detailed results, visit:
https://lab.dpdk.org/results/dashboard/patchsets/30645/

UNH-IOL DPDK Community Lab

To manage your email subscriptions, visit: 
https://lab.dpdk.org/results/dashboard/preferences/subscriptions/