From mboxrd@z Thu Jan 1 00:00:00 1970 Return-Path: Received: from mails.dpdk.org (mails.dpdk.org [217.70.189.124]) by inbox.dpdk.org (Postfix) with ESMTP id 7043A456E6 for ; Mon, 29 Jul 2024 22:46:44 +0200 (CEST) Received: from mails.dpdk.org (localhost [127.0.0.1]) by mails.dpdk.org (Postfix) with ESMTP id 69E3040E34; Mon, 29 Jul 2024 22:46:44 +0200 (CEST) Received: from mail-io1-f99.google.com (mail-io1-f99.google.com [209.85.166.99]) by mails.dpdk.org (Postfix) with ESMTP id 7BD724066E for ; Mon, 29 Jul 2024 22:46:43 +0200 (CEST) Received: by mail-io1-f99.google.com with SMTP id ca18e2360f4ac-8036ce66134so146994439f.3 for ; Mon, 29 Jul 2024 13:46:43 -0700 (PDT) DKIM-Signature: v=1; a=rsa-sha256; c=relaxed/relaxed; d=iol.unh.edu; s=unh-iol; t=1722286003; x=1722890803; darn=dpdk.org; h=references:in-reply-to:cc:to:from:subject:message-id:date:from:to :cc:subject:date:message-id:reply-to; bh=ozo0Fgns22x8Yyaeep0huej25KNmIchGblj4uzA5f0Q=; b=dLmK607uTy81rkn/ZKVf+wC9RkE034ndNJzEH66JK1ducnB5axq34pjQMoZDWxDX0K 44Kwz6ksfj+I6gljkgnoeC2hY6HezeJWQLREkXdWwh8xKzVM3L8W2TDmDFjmfpf8otV5 o0Z0GnCoxeXXvPfS0p1gCOXmAGiaOhWS72Od4= X-Google-DKIM-Signature: v=1; a=rsa-sha256; c=relaxed/relaxed; d=1e100.net; s=20230601; t=1722286003; x=1722890803; h=references:in-reply-to:cc:to:from:subject:message-id:date :x-gm-message-state:from:to:cc:subject:date:message-id:reply-to; bh=ozo0Fgns22x8Yyaeep0huej25KNmIchGblj4uzA5f0Q=; b=FcI/3j9EpniyuA5RqgM+/8afNmERJzbk/fgbCWB74PaO7kP9yhbDco3QxgUvHJlWqD Qy4oNpjUpK0LPDxgAa0pGSWL66sFCZ4Haq4sBN/pECYViXuT7UO78HjZHtEsc80ID/yy DnHvFdjfi+v0DkTHI027aVedrqw344YrJtDxkSej94z+Cex2R6z/z/nv0+j7yU75DlsP JLrLJCfShK0n6TmQSGbBKHabsE04qmf045uWAq2CvKfe0BXjqW1XCiWNmQXrkEm7Va05 D7rcjeLfHoFfSVIkgMWRgzbEzkprcddjFlDkken/4SRU2zojPzZHsb/Ui5Sj4QMIzBxG mGcw== X-Gm-Message-State: AOJu0YwbaO4PC16QfrLL6CUxgoDyl9tjpOs5yPMQ0UmJ13Q+XVd77VpR hMrzH0Rpird7jVvHx5A6B+BrpSD4IV5qhpab1ZuJHl8OIDfI6ObFidigWe9D4cxWcKDa3RGazmj 9CvQQmKFYWEu0kLi8ypJg2AucGk9nvrPiaImaH1OM X-Google-Smtp-Source: AGHT+IFj0fd/968NIYV09N5Wq0BKHWjVNw2lk4LLtWjcdEC1+FJ3R5Qwf7jzx5SnLaHqe26Bg2yZTuM8R9cy X-Received: by 2002:a05:6602:6b07:b0:813:f74:e6e6 with SMTP id ca18e2360f4ac-81f95bcb493mr930512739f.15.1722286002869; Mon, 29 Jul 2024 13:46:42 -0700 (PDT) Received: from postal.iol.unh.edu (postal.iol.unh.edu. [132.177.123.84]) by smtp-relay.gmail.com with ESMTPS id 8926c6da1cb9f-4c29fc03374sm229632173.58.2024.07.29.13.46.42 (version=TLS1_2 cipher=ECDHE-ECDSA-AES128-GCM-SHA256 bits=128/128); Mon, 29 Jul 2024 13:46:42 -0700 (PDT) X-Relaying-Domain: iol.unh.edu Date: Mon, 29 Jul 2024 13:46:42 -0700 (PDT) Message-ID: <66a7ffb2.050a0220.b3dd0.cb20SMTPIN_ADDED_MISSING@mx.google.com> Received: from [172.21.0.7] (unknown [172.18.0.240]) by postal.iol.unh.edu (Postfix) with ESMTP id 683F3605C351; Mon, 29 Jul 2024 16:46:42 -0400 (EDT) Subject: |PENDING| pw142744 [PATCH] [RFC] dmadev: add QoS capability From: dpdklab@iol.unh.edu To: Test Report Cc: dpdk-test-reports@iol.unh.edu In-Reply-To: <20240729115558.263574-1-vattunuru@marvell.com> References: <20240729115558.263574-1-vattunuru@marvell.com> Content-Type: text/plain X-BeenThere: test-report@dpdk.org X-Mailman-Version: 2.1.29 Precedence: list List-Id: automatic DPDK test reports List-Unsubscribe: , List-Archive: List-Post: List-Help: List-Subscribe: , Errors-To: test-report-bounces@dpdk.org Test-Label: iol-compile-arm64-testing Test-Status: PENDING http://dpdk.org/patch/142744 _Testing pending_ Submitter: Vamsi Krishna Attunuru Date: Monday, July 29 2024 11:55:58 DPDK git baseline: Repo:dpdk Branch: master CommitID:7f9b2c926a5192440eaecf0cb80cc45ac8d9a0f2 142744 --> testing pending Upstream job id: Generic-DPDK-Compile-Meson#281220 Test environment and result as below: +----------------------------------------+--------------------+ | Environment | dpdk_meson_compile | +========================================+====================+ | Ubuntu 20.04 ARM GCC Cross Compile | PEND | +----------------------------------------+--------------------+ | Ubuntu 20.04 ARM SVE | PASS | +----------------------------------------+--------------------+ | RHEL9 (ARM) | PASS | +----------------------------------------+--------------------+ | Debian 12 with MUSDK | PASS | +----------------------------------------+--------------------+ | Fedora 37 (ARM) | PASS | +----------------------------------------+--------------------+ | Fedora 38 (ARM) | PASS | +----------------------------------------+--------------------+ | Fedora 38 (ARM Clang) | PEND | +----------------------------------------+--------------------+ | Fedora 39 (ARM) | PASS | +----------------------------------------+--------------------+ | Fedora 39 (ARM Clang) | PEND | +----------------------------------------+--------------------+ | Fedora 40 (ARM) | PASS | +----------------------------------------+--------------------+ | Fedora 40 (ARM Clang) | PEND | +----------------------------------------+--------------------+ | Ubuntu 20.04 (ARM) | PASS | +----------------------------------------+--------------------+ | Ubuntu 22.04 (ARM) | PASS | +----------------------------------------+--------------------+ | Ubuntu 24.04 (ARM) | PASS | +----------------------------------------+--------------------+ | CentOS Stream 9 (ARM) | PEND | +----------------------------------------+--------------------+ | Debian 11 (Buster) (ARM) | PEND | +----------------------------------------+--------------------+ | Debian 12 (arm) | PEND | +----------------------------------------+--------------------+ | Ubuntu 20.04 ARM Clang Cross Compile | PEND | +----------------------------------------+--------------------+ | Ubuntu 20.04 aarch32 GCC Cross Compile | PEND | +----------------------------------------+--------------------+ Ubuntu 20.04 ARM GCC Cross Compile Kernel: 5.4.0-167-generic Compiler: aarch64-linux-gnu-gcc (Ubuntu 9.4.0-1ubuntu1~20.04.2) 9.4.0 Ubuntu 20.04 ARM SVE Kernel: 5.4.0-167-generic Compiler: gcc (Ubuntu 10.5.0-1ubuntu1~20.04) 10.5.0 RHEL9 (ARM) Kernel: Depends on container host Compiler: gcc 11.4.1 Debian 12 with MUSDK Kernel: Container Host Kernel Compiler: gcc 12.2.0 Fedora 37 (ARM) Kernel: Depends on container host Compiler: gcc 12.3.1 Fedora 38 (ARM) Kernel: Depends on container host Compiler: gcc 13.2.1 Fedora 38 (ARM Clang) Kernel: Depends on container host Compiler: clang 16.0.6 Fedora 39 (ARM) Kernel: Depends on container host Compiler: gcc 13.2.1 Fedora 39 (ARM Clang) Kernel: Depends on container host Compiler: clang 17.0.6 Fedora 40 (ARM) Kernel: Depends on container host Compiler: gcc 14.1.1 Fedora 40 (ARM Clang) Kernel: Depends on container host Compiler: clang 18.1.6 Ubuntu 20.04 (ARM) Kernel: Container Host Kernel Compiler: gcc 9.4.0 Ubuntu 22.04 (ARM) Kernel: Container Host Kernel Compiler: gcc 11.4.0 Ubuntu 24.04 (ARM) Kernel: 5.4.0-167-generic Compiler: gcc 13.2.0 CentOS Stream 9 (ARM) Kernel: Container Host Kernel Compiler: gcc 11.4.1 Debian 11 (Buster) (ARM) Kernel: Container Host Kernel Compiler: gcc 10.2.1 Debian 12 (arm) Kernel: Container Host Kernel Compiler: gcc 12.2.0 Ubuntu 20.04 ARM Clang Cross Compile Kernel: 5.4.0-72-generic Compiler: clang 10.0.0-4ubuntu1 Ubuntu 20.04 aarch32 GCC Cross Compile Kernel: 5.4.0-167-generic Compiler: gcc 9.4.0 To view detailed results, visit: https://lab.dpdk.org/results/dashboard/patchsets/30640/ UNH-IOL DPDK Community Lab To manage your email subscriptions, visit: https://lab.dpdk.org/results/dashboard/preferences/subscriptions/