From mboxrd@z Thu Jan  1 00:00:00 1970
Return-Path: <test-report-bounces@dpdk.org>
Received: from mails.dpdk.org (mails.dpdk.org [217.70.189.124])
	by inbox.dpdk.org (Postfix) with ESMTP id A3892456E6
	for <public@inbox.dpdk.org>; Mon, 29 Jul 2024 22:47:24 +0200 (CEST)
Received: from mails.dpdk.org (localhost [127.0.0.1])
	by mails.dpdk.org (Postfix) with ESMTP id 9E6E340E41;
	Mon, 29 Jul 2024 22:47:24 +0200 (CEST)
Received: from mail-pf1-f226.google.com (mail-pf1-f226.google.com
 [209.85.210.226])
 by mails.dpdk.org (Postfix) with ESMTP id ED7504066E
 for <test-report@dpdk.org>; Mon, 29 Jul 2024 22:47:03 +0200 (CEST)
Received: by mail-pf1-f226.google.com with SMTP id
 d2e1a72fcca58-70ede9df528so1364814b3a.2
 for <test-report@dpdk.org>; Mon, 29 Jul 2024 13:47:03 -0700 (PDT)
DKIM-Signature: v=1; a=rsa-sha256; c=relaxed/relaxed;
 d=iol.unh.edu; s=unh-iol; t=1722286023; x=1722890823; darn=dpdk.org;
 h=references:in-reply-to:cc:to:from:subject:message-id:date:from:to
 :cc:subject:date:message-id:reply-to;
 bh=MMnK5uqJlqIDG4X1LGwMNRsPvzT5X8YuFyZHYg3BFZw=;
 b=HNthOdeOPAvRhDx+PQ+7zBlNOKFHeUT43I22Dsxbbp1zXEIv0j4TIgC1oO36Ek6fJS
 1Gskv+MK7+oAbGJ33eMulcx3gN8Nq8Hm1S6sxizVWp/sFtoiUAD4jH8VwC3aKnCrf3Z6
 IjhFOpL9wy3XOYo2IMUaZLZXHXxNM23IJ2M+M=
X-Google-DKIM-Signature: v=1; a=rsa-sha256; c=relaxed/relaxed;
 d=1e100.net; s=20230601; t=1722286023; x=1722890823;
 h=references:in-reply-to:cc:to:from:subject:message-id:date
 :x-gm-message-state:from:to:cc:subject:date:message-id:reply-to;
 bh=MMnK5uqJlqIDG4X1LGwMNRsPvzT5X8YuFyZHYg3BFZw=;
 b=ASkVVxB37GFR4rR57BO4WBLJ+L5rhOMjAghbX7MOYgtEln0eM15WRB89PXgd63HA6C
 yIK7Ld/goHJYuzZj30hBhWpWPU13XR0/mA57fRMe4d1q+5EUjLbwiLUVOm9iCnIb3aod
 aVT76S4Y3NGTkGgvKYSk5qDBc+Dq417U/06JsZpjFS2fRnMLofAICrhtVtHKiNpUd5V5
 8DEOuz1WtinPZoP/w69JYTDReJsywDUDsVQqsnIrDAossqyCCYl3OmPD6gf/NM2sONSP
 BHk3ycGr+LxbQ4Rr9lriF+zFvieEytbkRgQkb/vzsEtOGE5Nw2DKntuHd/ajm34A+74G
 qrDA==
X-Gm-Message-State: AOJu0YxrGAjLfPgITYAdfDPnIFvXN/hPZeQSwUwasYx3qcT50mMuGTZu
 WE903RJh/od4DFQPZ2A1vPi7hmy2ajI1ypCgzBQwoGfrNYkB2g6QoLSYCTeD2mPeXVa42I2zkVf
 5BaNKrzQJCCjMQBvOjaeCiCuJyvtq2u7b7gZ2M/9a
X-Google-Smtp-Source: AGHT+IFJmqXCWt9HkXig/t0ZMnP08x21kbmxq7lNV34313zLF8L6R2u5ZeTHKjlJjQXSMjzllFGBqUOgzcIR
X-Received: by 2002:a05:6a20:2455:b0:1c2:8d16:c681 with SMTP id
 adf61e73a8af0-1c4a13a47d7mr6545242637.34.1722286023057; 
 Mon, 29 Jul 2024 13:47:03 -0700 (PDT)
Received: from postal.iol.unh.edu (postal.iol.unh.edu. [132.177.123.84])
 by smtp-relay.gmail.com with ESMTPS id
 d2e1a72fcca58-70ead786af4sm627983b3a.13.2024.07.29.13.47.02
 (version=TLS1_2 cipher=ECDHE-ECDSA-AES128-GCM-SHA256 bits=128/128);
 Mon, 29 Jul 2024 13:47:03 -0700 (PDT)
X-Relaying-Domain: iol.unh.edu
Date: Mon, 29 Jul 2024 13:47:03 -0700 (PDT)
Message-ID: <66a7ffc7.050a0220.3332e4.3bbfSMTPIN_ADDED_MISSING@mx.google.com>
Received: from [172.21.0.7] (unknown [172.18.0.240])
 by postal.iol.unh.edu (Postfix) with ESMTP id 42579605C352;
 Mon, 29 Jul 2024 16:47:02 -0400 (EDT)
Subject: |PENDING| pw142744 [PATCH] [RFC] dmadev: add QoS capability
From: dpdklab@iol.unh.edu
To: Test Report <test-report@dpdk.org>
Cc: dpdk-test-reports@iol.unh.edu
In-Reply-To: <20240729115558.263574-1-vattunuru@marvell.com>
References: <20240729115558.263574-1-vattunuru@marvell.com>
Content-Type: text/plain
X-BeenThere: test-report@dpdk.org
X-Mailman-Version: 2.1.29
Precedence: list
List-Id: automatic DPDK test reports <test-report.dpdk.org>
List-Unsubscribe: <https://mails.dpdk.org/options/test-report>,
 <mailto:test-report-request@dpdk.org?subject=unsubscribe>
List-Archive: <http://mails.dpdk.org/archives/test-report/>
List-Post: <mailto:test-report@dpdk.org>
List-Help: <mailto:test-report-request@dpdk.org?subject=help>
List-Subscribe: <https://mails.dpdk.org/listinfo/test-report>,
 <mailto:test-report-request@dpdk.org?subject=subscribe>
Errors-To: test-report-bounces@dpdk.org

Test-Label: iol-compile-arm64-testing
Test-Status: PENDING
http://dpdk.org/patch/142744

_Testing pending_

Submitter: Vamsi Krishna Attunuru <vattunuru@marvell.com>
Date: Monday, July 29 2024 11:55:58 
DPDK git baseline: Repo:dpdk
  Branch: master
  CommitID:7f9b2c926a5192440eaecf0cb80cc45ac8d9a0f2

142744 --> testing pending

Upstream job id: Generic-DPDK-Compile-Meson#281215

Test environment and result as below:

+----------------------------------------+--------------------+
|              Environment               | dpdk_meson_compile |
+========================================+====================+
| Ubuntu 20.04 ARM GCC Cross Compile     | PEND               |
+----------------------------------------+--------------------+
| Ubuntu 20.04 ARM SVE                   | PASS               |
+----------------------------------------+--------------------+
| RHEL9 (ARM)                            | PASS               |
+----------------------------------------+--------------------+
| Debian 12 with MUSDK                   | PASS               |
+----------------------------------------+--------------------+
| Fedora 37 (ARM)                        | PASS               |
+----------------------------------------+--------------------+
| Fedora 38 (ARM)                        | PASS               |
+----------------------------------------+--------------------+
| Fedora 38 (ARM Clang)                  | PEND               |
+----------------------------------------+--------------------+
| Fedora 39 (ARM)                        | PASS               |
+----------------------------------------+--------------------+
| Fedora 39 (ARM Clang)                  | PEND               |
+----------------------------------------+--------------------+
| Fedora 40 (ARM)                        | PASS               |
+----------------------------------------+--------------------+
| Fedora 40 (ARM Clang)                  | PEND               |
+----------------------------------------+--------------------+
| Ubuntu 20.04 (ARM)                     | PASS               |
+----------------------------------------+--------------------+
| Ubuntu 22.04 (ARM)                     | PASS               |
+----------------------------------------+--------------------+
| Ubuntu 24.04 (ARM)                     | PASS               |
+----------------------------------------+--------------------+
| CentOS Stream 9 (ARM)                  | PEND               |
+----------------------------------------+--------------------+
| Debian 11 (Buster) (ARM)               | PEND               |
+----------------------------------------+--------------------+
| Debian 12 (arm)                        | PEND               |
+----------------------------------------+--------------------+
| Ubuntu 20.04 ARM Clang Cross Compile   | PEND               |
+----------------------------------------+--------------------+
| Ubuntu 20.04 aarch32 GCC Cross Compile | PEND               |
+----------------------------------------+--------------------+


Ubuntu 20.04 ARM GCC Cross Compile
	Kernel: 5.4.0-167-generic
	Compiler: aarch64-linux-gnu-gcc (Ubuntu 9.4.0-1ubuntu1~20.04.2) 9.4.0

Ubuntu 20.04 ARM SVE
	Kernel: 5.4.0-167-generic
	Compiler: gcc (Ubuntu 10.5.0-1ubuntu1~20.04) 10.5.0

RHEL9 (ARM)
	Kernel: Depends on container host
	Compiler: gcc 11.4.1

Debian 12 with MUSDK
	Kernel: Container Host Kernel
	Compiler: gcc 12.2.0

Fedora 37 (ARM)
	Kernel: Depends on container host
	Compiler: gcc 12.3.1

Fedora 38 (ARM)
	Kernel: Depends on container host
	Compiler: gcc 13.2.1

Fedora 38 (ARM Clang)
	Kernel: Depends on container host
	Compiler: clang 16.0.6

Fedora 39 (ARM)
	Kernel: Depends on container host
	Compiler: gcc 13.2.1

Fedora 39 (ARM Clang)
	Kernel: Depends on container host
	Compiler: clang 17.0.6

Fedora 40 (ARM)
	Kernel: Depends on container host
	Compiler: gcc 14.1.1

Fedora 40 (ARM Clang)
	Kernel: Depends on container host
	Compiler: clang 18.1.6

Ubuntu 20.04 (ARM)
	Kernel: Container Host Kernel
	Compiler: gcc 9.4.0

Ubuntu 22.04 (ARM)
	Kernel: Container Host Kernel
	Compiler: gcc 11.4.0

Ubuntu 24.04 (ARM)
	Kernel: 5.4.0-167-generic
	Compiler: gcc 13.2.0

CentOS Stream 9 (ARM)
	Kernel: Container Host Kernel
	Compiler: gcc 11.4.1

Debian 11 (Buster) (ARM)
	Kernel: Container Host Kernel
	Compiler: gcc 10.2.1

Debian 12 (arm)
	Kernel: Container Host Kernel
	Compiler: gcc 12.2.0

Ubuntu 20.04 ARM Clang Cross Compile
	Kernel: 5.4.0-72-generic
	Compiler: clang 10.0.0-4ubuntu1

Ubuntu 20.04 aarch32 GCC Cross Compile
	Kernel: 5.4.0-167-generic
	Compiler: gcc 9.4.0

To view detailed results, visit:
https://lab.dpdk.org/results/dashboard/patchsets/30640/

UNH-IOL DPDK Community Lab

To manage your email subscriptions, visit: 
https://lab.dpdk.org/results/dashboard/preferences/subscriptions/