From mboxrd@z Thu Jan 1 00:00:00 1970 Return-Path: Received: from mails.dpdk.org (mails.dpdk.org [217.70.189.124]) by inbox.dpdk.org (Postfix) with ESMTP id C33BF456E6 for ; Mon, 29 Jul 2024 23:13:23 +0200 (CEST) Received: from mails.dpdk.org (localhost [127.0.0.1]) by mails.dpdk.org (Postfix) with ESMTP id C1C9340B99; Mon, 29 Jul 2024 23:13:23 +0200 (CEST) Received: from mail-yw1-f227.google.com (mail-yw1-f227.google.com [209.85.128.227]) by mails.dpdk.org (Postfix) with ESMTP id 91A4740674 for ; Mon, 29 Jul 2024 23:13:05 +0200 (CEST) Received: by mail-yw1-f227.google.com with SMTP id 00721157ae682-64f4fd64773so26008227b3.0 for ; Mon, 29 Jul 2024 14:13:05 -0700 (PDT) DKIM-Signature: v=1; a=rsa-sha256; c=relaxed/relaxed; d=iol.unh.edu; s=unh-iol; t=1722287585; x=1722892385; darn=dpdk.org; h=references:in-reply-to:cc:to:from:subject:message-id:date:from:to :cc:subject:date:message-id:reply-to; bh=/NxftYAqbxkW9jJTcGo35Eo9AHUeyBPlLNdt4WBmx2M=; b=FCjnofeo+wNtCXVV2fFkK4QxgBbyBTtZe7C4ieTbahqVjYXiSgCtd4CMBdtqdMBAty gB443/Ibwamrmq71aiggGJKC0rPpvcvM0d3kJeGtgxsRnCsMke9sW99A8cJtqqHX2KbE XLh/hT25ak+57EFQM+Rl+He1PaQ3WAn558Ekw= X-Google-DKIM-Signature: v=1; a=rsa-sha256; c=relaxed/relaxed; d=1e100.net; s=20230601; t=1722287585; x=1722892385; h=references:in-reply-to:cc:to:from:subject:message-id:date :x-gm-message-state:from:to:cc:subject:date:message-id:reply-to; bh=/NxftYAqbxkW9jJTcGo35Eo9AHUeyBPlLNdt4WBmx2M=; b=ZBGeYsbWawiKZPWe30xnNdg5lAsoB1kh5FqQxExYr01fGtcD0JsQZFcMBhYa1ARUNV vzWTmr69XJl71WPLKg2lsn7X6YhoDyrO0Ty4RR18Skt8L3dWITUfTR6tYSKkJwNCRJ/K Mhb1Xk8OPVSmp2vPWow3bEd/sNcJ9AO+9CHHR+C7zlrLyvnuS2qP8mcOXJ/7cnd2UNNx 2FW12auYs7thWfVcLjs4IDXOaFXzX310Uuwp7sY03crv3AmcxYw1fQ0SLf9oYVfWpI7m 4m8+a1DZXIO2GFnYgzBf1OOaxDQ86Urbs+7iEhS7WXmSVO7u38nk/yZD4i3SnV6csNfI 0dig== X-Gm-Message-State: AOJu0YweQv1gAmWR5lGrcj6Nq9b8AQVl2ca82sK0aWx/RdaTEcrTgVHt pvT8mp3Gq7/MgUGkIt8t4xUCadAJSJyXk3WUb94wraAY9yOaXQvvz9ZbetjBAMcS30t9g9yw1Eb c4ztFTqjYqAmrUhJV9J5yHR58uRYsYQFSGz7Hs2/QaNdUmFfldIGdEI73 X-Google-Smtp-Source: AGHT+IHxRdhmcB97Hw5NTBUgXkXn8O2EiEE4bDu6UHIkZ5DS5kE9VHPl+g9oVQIik/oiICAGgh9vZ6RYhnwL X-Received: by 2002:a81:9c0d:0:b0:660:b8fa:aed6 with SMTP id 00721157ae682-67a0813eeecmr112165597b3.27.1722287584924; Mon, 29 Jul 2024 14:13:04 -0700 (PDT) Received: from postal.iol.unh.edu (postal.iol.unh.edu. [2606:4100:3880:1234::84]) by smtp-relay.gmail.com with ESMTPS id 00721157ae682-67566fc7642sm7318737b3.16.2024.07.29.14.13.04 (version=TLS1_2 cipher=ECDHE-ECDSA-AES128-GCM-SHA256 bits=128/128); Mon, 29 Jul 2024 14:13:04 -0700 (PDT) X-Relaying-Domain: iol.unh.edu Date: Mon, 29 Jul 2024 14:13:04 -0700 (PDT) Message-ID: <66a805e0.0d0a0220.fa588.9b7fSMTPIN_ADDED_MISSING@mx.google.com> Received: from [172.21.0.6] (unknown [172.18.0.240]) by postal.iol.unh.edu (Postfix) with ESMTP id 8EFD8605C351; Mon, 29 Jul 2024 17:13:04 -0400 (EDT) Subject: |PENDING| pw142744 [PATCH] [RFC] dmadev: add QoS capability From: dpdklab@iol.unh.edu To: Test Report Cc: dpdk-test-reports@iol.unh.edu In-Reply-To: <20240729115558.263574-1-vattunuru@marvell.com> References: <20240729115558.263574-1-vattunuru@marvell.com> Content-Type: text/plain X-BeenThere: test-report@dpdk.org X-Mailman-Version: 2.1.29 Precedence: list List-Id: automatic DPDK test reports List-Unsubscribe: , List-Archive: List-Post: List-Help: List-Subscribe: , Errors-To: test-report-bounces@dpdk.org Test-Label: iol-unit-amd64-testing Test-Status: PENDING http://dpdk.org/patch/142744 _Testing pending_ Submitter: Vamsi Krishna Attunuru Date: Monday, July 29 2024 11:55:58 DPDK git baseline: Repo:dpdk Branch: master CommitID:7f9b2c926a5192440eaecf0cb80cc45ac8d9a0f2 142744 --> testing pending Upstream job id: Generic-Unit-Test-DPDK#245954 Test environment and result as below: +---------------------+----------------+ | Environment | dpdk_unit_test | +=====================+================+ | Windows Server 2019 | PASS | +---------------------+----------------+ | Windows Server 2022 | PASS | +---------------------+----------------+ | CentOS Stream 8 | PASS | +---------------------+----------------+ | Debian Bullseye | PASS | +---------------------+----------------+ | CentOS Stream 9 | PASS | +---------------------+----------------+ | Fedora 37 | PASS | +---------------------+----------------+ | Debian 12 | PASS | +---------------------+----------------+ | Fedora 38 (Clang) | PASS | +---------------------+----------------+ | Fedora 40 | PASS | +---------------------+----------------+ | Fedora 39 | PASS | +---------------------+----------------+ | Fedora 38 | PASS | +---------------------+----------------+ | Fedora 39 (Clang) | PEND | +---------------------+----------------+ | Fedora 40 (Clang) | PEND | +---------------------+----------------+ | openSUSE Leap 15 | PASS | +---------------------+----------------+ | RHEL8 | PASS | +---------------------+----------------+ | RHEL9 | PEND | +---------------------+----------------+ | Ubuntu 20.04 | PEND | +---------------------+----------------+ | Ubuntu 22.04 | PEND | +---------------------+----------------+ | Ubuntu 24.04 | PEND | +---------------------+----------------+ Windows Server 2019 Kernel: 10.0.17763 Compiler: clang 14.0 and gcc 8.1.0 (MinGW) Windows Server 2022 Kernel: 10.0.20348.2031 Compiler: clang 15.0.7, gcc 8.1.0 (MinGW), and MSVC VS 17.9 CentOS Stream 8 Kernel: 5.4.0-167-generic Compiler: gcc 8.5.0 20210514 Debian Bullseye Kernel: 5.4.0-167-generic Compiler: gcc 10.2.1-6 CentOS Stream 9 Kernel: 5.4.0-167-generic Compiler: gcc 11.4.1 20230605 Fedora 37 Kernel: Depends on container host system Compiler: gcc 12.3.1 Debian 12 Kernel: Container Host Kernel Compiler: gcc 12.2.0 Fedora 38 (Clang) Kernel: Depends on container host Compiler: clang 16.0.6 Fedora 40 Kernel: Depends on container host Compiler: gcc 14.1.1 Fedora 39 Kernel: Depends on container host Compiler: gcc 13.2.1 Fedora 38 Kernel: Depends on container host Compiler: gcc 13.2.1 Fedora 39 (Clang) Kernel: Depends on container host Compiler: clang 17.0.6 Fedora 40 (Clang) Kernel: Depends on container host Compiler: clang 18.1.6 openSUSE Leap 15 Kernel: 5.4.0-167-generic Compiler: gcc 7.5.0 RHEL8 Kernel: 5.4.0-167-generic Compiler: gcc 8.5.0 20210514 (Red Hat 8.5.0-20) RHEL9 Kernel: Depends on container host Compiler: gcc 11.4.1 Ubuntu 20.04 Kernel: 5.4.0-167-generic Compiler: gcc 9.4.0-1ubuntu1~20.04.1 Ubuntu 22.04 Kernel: 5.4.0-167-generic Compiler: gcc 11.4.0 Ubuntu 24.04 Kernel: 5.4.0-167-generic Compiler: gcc 13.2.0 To view detailed results, visit: https://lab.dpdk.org/results/dashboard/patchsets/30640/ UNH-IOL DPDK Community Lab To manage your email subscriptions, visit: https://lab.dpdk.org/results/dashboard/preferences/subscriptions/