From mboxrd@z Thu Jan  1 00:00:00 1970
Return-Path: <test-report-bounces@dpdk.org>
Received: from mails.dpdk.org (mails.dpdk.org [217.70.189.124])
	by inbox.dpdk.org (Postfix) with ESMTP id 577EE456E6
	for <public@inbox.dpdk.org>; Mon, 29 Jul 2024 23:30:41 +0200 (CEST)
Received: from mails.dpdk.org (localhost [127.0.0.1])
	by mails.dpdk.org (Postfix) with ESMTP id 4FE80406FF;
	Mon, 29 Jul 2024 23:30:41 +0200 (CEST)
Received: from mail-oi1-f226.google.com (mail-oi1-f226.google.com
 [209.85.167.226])
 by mails.dpdk.org (Postfix) with ESMTP id 133844069D
 for <test-report@dpdk.org>; Mon, 29 Jul 2024 23:30:40 +0200 (CEST)
Received: by mail-oi1-f226.google.com with SMTP id
 5614622812f47-3db1657c0fdso2493337b6e.1
 for <test-report@dpdk.org>; Mon, 29 Jul 2024 14:30:40 -0700 (PDT)
DKIM-Signature: v=1; a=rsa-sha256; c=relaxed/relaxed;
 d=iol.unh.edu; s=unh-iol; t=1722288639; x=1722893439; darn=dpdk.org;
 h=references:in-reply-to:cc:to:from:subject:message-id:date:from:to
 :cc:subject:date:message-id:reply-to;
 bh=y71iDsrxPTLRUfqk1rZSaRRUQ2saUKcjDqF9tncyvQ8=;
 b=g8CrSx4qGUCagt40aAinWksCkesCvNAz2382DOFGe8n3epp0DSllhtthQH7l+cW0Ab
 L98W01PP/M1MQh+Z9F5+mQx5WlkXKiwHR7d4tRcRBe268vhvT6naq8QRcaxjZKIQGDNO
 zQyMj0O4fXKbWQMmh4yo76NdL/4gB/jPbfF4w=
X-Google-DKIM-Signature: v=1; a=rsa-sha256; c=relaxed/relaxed;
 d=1e100.net; s=20230601; t=1722288639; x=1722893439;
 h=references:in-reply-to:cc:to:from:subject:message-id:date
 :x-gm-message-state:from:to:cc:subject:date:message-id:reply-to;
 bh=y71iDsrxPTLRUfqk1rZSaRRUQ2saUKcjDqF9tncyvQ8=;
 b=TAI3h9sZ0Ke32zjXm8ELKXncagUD7hKusrhs2PRTWHPjm7G2mjPfFJLhx5L4fugLMx
 jP4pZ4W3URQaFcsgAXBNIt3tZR2ZxzX0tHg37gGfHRbuG8ZtaSPL7Zbr2qTqFtXNMD9+
 MwPpBqApzrmUCSZYOnrZqMULXUCDCo5vzxhKwOsueO80v76j7Aqs/96l4wFlh2iqdJQK
 MdmZwVcr0ib/SWW8yBk1h5DB7ZtXwcabksf81WQhLQ780VQy47YPuL/XeO92eapdb7OU
 UFCbuPHQTb17+VesBTkOGiUI698a7K2qE00xHkJMn33npv9+qwIPEpMOReXzAzMLEPOt
 S5wA==
X-Gm-Message-State: AOJu0YyrbPiv+6e9uNW+dikJFXOVIWUB1nx5DTNYRP5AJPH1TUJiOpbP
 Gx3eTrYBy6an1N1FVdjT9NOjP0mtDy9zcF/aHI5cM/zVQlRJV3HvIDhZj36qk5x2+TFp4W6AxhE
 iwVLV1H/4K1tt3eP3ytOnFvBHhZNoWwcAYorztUTEpQOVUObfhcHZjyEj
X-Google-Smtp-Source: AGHT+IFycugdsu1vF2C6oHGf325HMlnX0ZFm557KletVlzArO+4TaT+cFhqVXKt+4DLGOdwG+LhAg6ScwCDj
X-Received: by 2002:a05:6871:3384:b0:261:1eb4:dd7e with SMTP id
 586e51a60fabf-267d4d16846mr10566915fac.2.1722288639345; 
 Mon, 29 Jul 2024 14:30:39 -0700 (PDT)
Received: from postal.iol.unh.edu (postal.iol.unh.edu.
 [2606:4100:3880:1234::84]) by smtp-relay.gmail.com with ESMTPS id
 586e51a60fabf-2653e73bdeesm488052fac.17.2024.07.29.14.30.39
 (version=TLS1_2 cipher=ECDHE-ECDSA-AES128-GCM-SHA256 bits=128/128);
 Mon, 29 Jul 2024 14:30:39 -0700 (PDT)
X-Relaying-Domain: iol.unh.edu
Date: Mon, 29 Jul 2024 14:30:39 -0700 (PDT)
Message-ID: <66a809ff.050a0220.f2300.b182SMTPIN_ADDED_MISSING@mx.google.com>
Received: from [172.21.0.6] (unknown [172.18.0.240])
 by postal.iol.unh.edu (Postfix) with ESMTP id 94621605C351;
 Mon, 29 Jul 2024 17:30:38 -0400 (EDT)
Subject: |PENDING| pw142749 [PATCH] [v24.11,v1] net/sfc: allow for use of ind
From: dpdklab@iol.unh.edu
To: Test Report <test-report@dpdk.org>
Cc: dpdk-test-reports@iol.unh.edu
In-Reply-To: <20240729163847.7261-1-ivan.malov@arknetworks.am>
References: <20240729163847.7261-1-ivan.malov@arknetworks.am>
Content-Type: text/plain
X-BeenThere: test-report@dpdk.org
X-Mailman-Version: 2.1.29
Precedence: list
List-Id: automatic DPDK test reports <test-report.dpdk.org>
List-Unsubscribe: <https://mails.dpdk.org/options/test-report>,
 <mailto:test-report-request@dpdk.org?subject=unsubscribe>
List-Archive: <http://mails.dpdk.org/archives/test-report/>
List-Post: <mailto:test-report@dpdk.org>
List-Help: <mailto:test-report-request@dpdk.org?subject=help>
List-Subscribe: <https://mails.dpdk.org/listinfo/test-report>,
 <mailto:test-report-request@dpdk.org?subject=subscribe>
Errors-To: test-report-bounces@dpdk.org

Test-Label: iol-abi-testing
Test-Status: PENDING
http://dpdk.org/patch/142749

_Testing pending_

Submitter: Ivan Malov <ivan.malov@arknetworks.am>
Date: Monday, July 29 2024 16:38:47 
DPDK git baseline: Repo:dpdk
  Branch: master
  CommitID:3e440dd0ecf47f19716503374610ddd75d3a5ce9

142749 --> testing pending

Upstream job id: Generic-DPDK-Compile-ABI#100785

Test environment and result as below:

+-------------------+----------+
|    Environment    | abi_test |
+===================+==========+
| CentOS Stream 8   | PASS     |
+-------------------+----------+
| CentOS Stream 9   | PASS     |
+-------------------+----------+
| Debian Bullseye   | PEND     |
+-------------------+----------+
| Fedora 37         | PASS     |
+-------------------+----------+
| Debian 12         | PASS     |
+-------------------+----------+
| Fedora 40 (Clang) | PASS     |
+-------------------+----------+
| Fedora 38 (Clang) | PASS     |
+-------------------+----------+
| Fedora 38         | PASS     |
+-------------------+----------+
| Fedora 40         | PEND     |
+-------------------+----------+
| openSUSE Leap 15  | PEND     |
+-------------------+----------+
| Fedora 39         | PEND     |
+-------------------+----------+
| RHEL8             | PEND     |
+-------------------+----------+
| Ubuntu 22.04      | PEND     |
+-------------------+----------+
| RHEL9             | PEND     |
+-------------------+----------+
| Ubuntu 24.04      | PEND     |
+-------------------+----------+
| Fedora 39 (Clang) | PEND     |
+-------------------+----------+


CentOS Stream 8
	Kernel: 5.4.0-167-generic
	Compiler: gcc 8.5.0 20210514

CentOS Stream 9
	Kernel: 5.4.0-167-generic
	Compiler: gcc 11.4.1 20230605

Debian Bullseye
	Kernel: 5.4.0-167-generic
	Compiler: gcc 10.2.1-6

Fedora 37
	Kernel: Depends on container host system
	Compiler: gcc 12.3.1

Debian 12
	Kernel: Container Host Kernel
	Compiler: gcc 12.2.0

Fedora 40 (Clang)
	Kernel: Depends on container host
	Compiler: clang 18.1.6

Fedora 38 (Clang)
	Kernel: Depends on container host
	Compiler: clang 16.0.6

Fedora 38
	Kernel: Depends on container host
	Compiler: gcc 13.2.1

Fedora 40
	Kernel: Depends on container host
	Compiler: gcc 14.1.1

openSUSE Leap 15
	Kernel: 5.4.0-167-generic
	Compiler: gcc 7.5.0

Fedora 39
	Kernel: Depends on container host
	Compiler: gcc 13.2.1

RHEL8
	Kernel: 5.4.0-167-generic
	Compiler: gcc 8.5.0 20210514 (Red Hat 8.5.0-20)

Ubuntu 22.04
	Kernel: 5.4.0-167-generic
	Compiler: gcc 11.4.0

RHEL9
	Kernel: Depends on container host
	Compiler: gcc 11.4.1

Ubuntu 24.04
	Kernel: 5.4.0-167-generic
	Compiler: gcc 13.2.0

Fedora 39 (Clang)
	Kernel: Depends on container host
	Compiler: clang 17.0.6

To view detailed results, visit:
https://lab.dpdk.org/results/dashboard/patchsets/30645/

UNH-IOL DPDK Community Lab

To manage your email subscriptions, visit: 
https://lab.dpdk.org/results/dashboard/preferences/subscriptions/