From mboxrd@z Thu Jan  1 00:00:00 1970
Return-Path: <test-report-bounces@dpdk.org>
Received: from mails.dpdk.org (mails.dpdk.org [217.70.189.124])
	by inbox.dpdk.org (Postfix) with ESMTP id 55A91456E6
	for <public@inbox.dpdk.org>; Mon, 29 Jul 2024 23:37:24 +0200 (CEST)
Received: from mails.dpdk.org (localhost [127.0.0.1])
	by mails.dpdk.org (Postfix) with ESMTP id 51904406FF;
	Mon, 29 Jul 2024 23:37:24 +0200 (CEST)
Received: from mail-oi1-f226.google.com (mail-oi1-f226.google.com
 [209.85.167.226])
 by mails.dpdk.org (Postfix) with ESMTP id EB51E4069D
 for <test-report@dpdk.org>; Mon, 29 Jul 2024 23:37:22 +0200 (CEST)
Received: by mail-oi1-f226.google.com with SMTP id
 5614622812f47-3db14cc9066so2526199b6e.3
 for <test-report@dpdk.org>; Mon, 29 Jul 2024 14:37:22 -0700 (PDT)
DKIM-Signature: v=1; a=rsa-sha256; c=relaxed/relaxed;
 d=iol.unh.edu; s=unh-iol; t=1722289042; x=1722893842; darn=dpdk.org;
 h=references:in-reply-to:cc:to:from:subject:message-id:date:from:to
 :cc:subject:date:message-id:reply-to;
 bh=gUXTs1DZuNp/L2n3CTPpuygFky3c8EQ3okSlSd/uICU=;
 b=JfDuXSnT9CNFxku1AOZpElOa9CvU1MdixmZWYuVbabWEercUINtcULOE2IaVg36eBi
 bzBkpFtvkCc4+vF3hJXaKWK0L0w2TOj0+Eo1+/qcbQdJ3FrWsfo93awxz6Qo4SQrN8wO
 LCPqjrXEGzQNCMLtNvuYwOcYQrVtfD8mJuixE=
X-Google-DKIM-Signature: v=1; a=rsa-sha256; c=relaxed/relaxed;
 d=1e100.net; s=20230601; t=1722289042; x=1722893842;
 h=references:in-reply-to:cc:to:from:subject:message-id:date
 :x-gm-message-state:from:to:cc:subject:date:message-id:reply-to;
 bh=gUXTs1DZuNp/L2n3CTPpuygFky3c8EQ3okSlSd/uICU=;
 b=bddm/2SS87nEEpdYSOrzdgKQfMU2KPbJsv4yFbgcdFIReDPkYhIOaHB88Ts/WeUcFo
 1r/ahDjUntJ8tNew/6Z4M/w2yvmFosVCapBofyFWbdbhRxMwUZHo469FhlPiogjUIt3p
 vfWsMRg4Y3sW+WC7vfMiPGI5BPNjM7dF/FufclFdUOM6OxpZdPS+6ENhil2l/c4lhFdA
 wEUmNho7RogpGkkOo7Lxd4yxotsOSh+YEFqolpYIGr4QGoh+DmyIuyxm7ETKLwCUhSrJ
 0cCxFMEE5OssoXqV0iJbJCjnmUL/N5Ev+xkklPAPiR/POcXyPMCJHVsG2W+bvuS2lO+h
 sXdA==
X-Gm-Message-State: AOJu0YzBMH9gMsHKmECUjlWcUCvo+KAC0e0Czio1ty9/ylOcf03Vc1ay
 7k58MTKP7dW/ZednvcdIr/SuTBo41SWAEbOjF4jiZdtM+rtIHQbdU3cstCgxBRGOSuJ/s7NmqWH
 BjyaEM5TMdk4A+U+2DWIJvrkrp/2fBGEcTj5eHfAq
X-Google-Smtp-Source: AGHT+IEambodoSYwnpGBN5jpi2p/GBhYUyL76P0fQmCIrVNZBEhIL0ktM05p+9EOTlViXYa0OLakMpKXRz6c
X-Received: by 2002:a05:6358:9047:b0:1ab:e07d:c944 with SMTP id
 e5c5f4694b2df-1adb1ff16a3mr1157712055d.0.1722289042056; 
 Mon, 29 Jul 2024 14:37:22 -0700 (PDT)
Received: from postal.iol.unh.edu (postal.iol.unh.edu. [132.177.123.84])
 by smtp-relay.gmail.com with ESMTPS id
 6a1803df08f44-6bb3fab998csm4805766d6.70.2024.07.29.14.37.21
 (version=TLS1_2 cipher=ECDHE-ECDSA-AES128-GCM-SHA256 bits=128/128);
 Mon, 29 Jul 2024 14:37:22 -0700 (PDT)
X-Relaying-Domain: iol.unh.edu
Date: Mon, 29 Jul 2024 14:37:22 -0700 (PDT)
Message-ID: <66a80b92.050a0220.1ef04.acc5SMTPIN_ADDED_MISSING@mx.google.com>
Received: from [172.21.0.6] (unknown [172.18.0.240])
 by postal.iol.unh.edu (Postfix) with ESMTP id BD595605C351;
 Mon, 29 Jul 2024 17:37:21 -0400 (EDT)
Subject: |PENDING| pw142749 [PATCH] [v24.11,v1] net/sfc: allow for use of ind
From: dpdklab@iol.unh.edu
To: Test Report <test-report@dpdk.org>
Cc: dpdk-test-reports@iol.unh.edu
In-Reply-To: <20240729163847.7261-1-ivan.malov@arknetworks.am>
References: <20240729163847.7261-1-ivan.malov@arknetworks.am>
Content-Type: text/plain
X-BeenThere: test-report@dpdk.org
X-Mailman-Version: 2.1.29
Precedence: list
List-Id: automatic DPDK test reports <test-report.dpdk.org>
List-Unsubscribe: <https://mails.dpdk.org/options/test-report>,
 <mailto:test-report-request@dpdk.org?subject=unsubscribe>
List-Archive: <http://mails.dpdk.org/archives/test-report/>
List-Post: <mailto:test-report@dpdk.org>
List-Help: <mailto:test-report-request@dpdk.org?subject=help>
List-Subscribe: <https://mails.dpdk.org/listinfo/test-report>,
 <mailto:test-report-request@dpdk.org?subject=subscribe>
Errors-To: test-report-bounces@dpdk.org

Test-Label: iol-unit-amd64-testing
Test-Status: PENDING
http://dpdk.org/patch/142749

_Testing pending_

Submitter: Ivan Malov <ivan.malov@arknetworks.am>
Date: Monday, July 29 2024 16:38:47 
DPDK git baseline: Repo:dpdk
  Branch: master
  CommitID:3e440dd0ecf47f19716503374610ddd75d3a5ce9

142749 --> testing pending

Upstream job id: Generic-Unit-Test-DPDK#245973

Test environment and result as below:

+---------------------+----------------+
|     Environment     | dpdk_unit_test |
+=====================+================+
| Windows Server 2022 | PASS           |
+---------------------+----------------+
| Windows Server 2019 | PASS           |
+---------------------+----------------+
| CentOS Stream 8     | PASS           |
+---------------------+----------------+
| CentOS Stream 9     | PASS           |
+---------------------+----------------+
| Debian Bullseye     | PASS           |
+---------------------+----------------+
| Debian 12           | PASS           |
+---------------------+----------------+
| Fedora 38           | PASS           |
+---------------------+----------------+
| Fedora 37           | PASS           |
+---------------------+----------------+
| Fedora 38 (Clang)   | PEND           |
+---------------------+----------------+
| Fedora 39           | PEND           |
+---------------------+----------------+
| Fedora 39 (Clang)   | PEND           |
+---------------------+----------------+
| Fedora 40           | PEND           |
+---------------------+----------------+
| Fedora 40 (Clang)   | PEND           |
+---------------------+----------------+
| openSUSE Leap 15    | PEND           |
+---------------------+----------------+
| RHEL8               | PEND           |
+---------------------+----------------+
| Ubuntu 20.04        | PEND           |
+---------------------+----------------+
| RHEL9               | PEND           |
+---------------------+----------------+
| Ubuntu 22.04        | PEND           |
+---------------------+----------------+
| Ubuntu 24.04        | PEND           |
+---------------------+----------------+


Windows Server 2022
	Kernel: 10.0.20348.2031
	Compiler: clang 15.0.7, gcc 8.1.0 (MinGW), and MSVC VS 17.9

Windows Server 2019
	Kernel: 10.0.17763
	Compiler: clang 14.0 and gcc 8.1.0 (MinGW)

CentOS Stream 8
	Kernel: 5.4.0-167-generic
	Compiler: gcc 8.5.0 20210514

CentOS Stream 9
	Kernel: 5.4.0-167-generic
	Compiler: gcc 11.4.1 20230605

Debian Bullseye
	Kernel: 5.4.0-167-generic
	Compiler: gcc 10.2.1-6

Debian 12
	Kernel: Container Host Kernel
	Compiler: gcc 12.2.0

Fedora 38
	Kernel: Depends on container host
	Compiler: gcc 13.2.1

Fedora 37
	Kernel: Depends on container host system
	Compiler: gcc 12.3.1

Fedora 38 (Clang)
	Kernel: Depends on container host
	Compiler: clang 16.0.6

Fedora 39
	Kernel: Depends on container host
	Compiler: gcc 13.2.1

Fedora 39 (Clang)
	Kernel: Depends on container host
	Compiler: clang 17.0.6

Fedora 40
	Kernel: Depends on container host
	Compiler: gcc 14.1.1

Fedora 40 (Clang)
	Kernel: Depends on container host
	Compiler: clang 18.1.6

openSUSE Leap 15
	Kernel: 5.4.0-167-generic
	Compiler: gcc 7.5.0

RHEL8
	Kernel: 5.4.0-167-generic
	Compiler: gcc 8.5.0 20210514 (Red Hat 8.5.0-20)

Ubuntu 20.04
	Kernel: 5.4.0-167-generic
	Compiler: gcc 9.4.0-1ubuntu1~20.04.1

RHEL9
	Kernel: Depends on container host
	Compiler: gcc 11.4.1

Ubuntu 22.04
	Kernel: 5.4.0-167-generic
	Compiler: gcc 11.4.0

Ubuntu 24.04
	Kernel: 5.4.0-167-generic
	Compiler: gcc 13.2.0

To view detailed results, visit:
https://lab.dpdk.org/results/dashboard/patchsets/30645/

UNH-IOL DPDK Community Lab

To manage your email subscriptions, visit: 
https://lab.dpdk.org/results/dashboard/preferences/subscriptions/