From mboxrd@z Thu Jan  1 00:00:00 1970
Return-Path: <test-report-bounces@dpdk.org>
Received: from mails.dpdk.org (mails.dpdk.org [217.70.189.124])
	by inbox.dpdk.org (Postfix) with ESMTP id 9456E456E6
	for <public@inbox.dpdk.org>; Mon, 29 Jul 2024 23:39:07 +0200 (CEST)
Received: from mails.dpdk.org (localhost [127.0.0.1])
	by mails.dpdk.org (Postfix) with ESMTP id 84534406FF;
	Mon, 29 Jul 2024 23:39:07 +0200 (CEST)
Received: from mail-ot1-f99.google.com (mail-ot1-f99.google.com
 [209.85.210.99]) by mails.dpdk.org (Postfix) with ESMTP id 8F3D34069D
 for <test-report@dpdk.org>; Mon, 29 Jul 2024 23:39:06 +0200 (CEST)
Received: by mail-ot1-f99.google.com with SMTP id
 46e09a7af769-709485aca4bso1192138a34.1
 for <test-report@dpdk.org>; Mon, 29 Jul 2024 14:39:06 -0700 (PDT)
DKIM-Signature: v=1; a=rsa-sha256; c=relaxed/relaxed;
 d=iol.unh.edu; s=unh-iol; t=1722289145; x=1722893945; darn=dpdk.org;
 h=references:in-reply-to:cc:to:from:subject:message-id:date:from:to
 :cc:subject:date:message-id:reply-to;
 bh=QLVjFVxECj1uiHV6t9xGvykwSQ5dY55B7iXbDKctyFk=;
 b=RpSiPEG/FUFVhwkLfk+QwkFm/N8rEWTd0SRn1ljN7zJGSXdAVi9P5k1sqEwx/GRkyX
 liinDn4P5bHg2DCSG9uEfuOXTd+ML5pWTcKyOJlrpEf03xX/btoYbYHHmyt2ov7DtaQz
 u+uNG1c7W9gRsEvr6ySgA0lvqQ+kYKjAzGFs8=
X-Google-DKIM-Signature: v=1; a=rsa-sha256; c=relaxed/relaxed;
 d=1e100.net; s=20230601; t=1722289145; x=1722893945;
 h=references:in-reply-to:cc:to:from:subject:message-id:date
 :x-gm-message-state:from:to:cc:subject:date:message-id:reply-to;
 bh=QLVjFVxECj1uiHV6t9xGvykwSQ5dY55B7iXbDKctyFk=;
 b=Ra2wmVJAatjqvlNIpI43wFbBN87fSkptdoXr9uU2VnaapPkYzb3Ky6mvjNkyQ/+PS6
 TLn6MATZccMXtlmBrekTx/E4I/iOkAeLS+jQKNTikaGz2RecbEujF4lWeHjMfP7/vof7
 J8Yi8bQtRKCjSEyYfBXUuIaPFF9c2j2l7FlSl0xIOZB3vxGrl6Bpo/P8344m4gZAvLCf
 jK1YzZhJmstHQxXP6YkmgrVGM3K0PheIXezmTT04upFPymniuJKYeXo9aPbl297MkO74
 O3cn6Dtz1nA9GtbneBq7sjaOgTldJEWWFPH6cZ+bFHtRD4jvtAxf4pcPUTLhSvkPBg5J
 gZAg==
X-Gm-Message-State: AOJu0Yy7bQ9INhpsg67QSOI40hQBfYtuCvUv7TMArQMDTKZFhiBLornG
 Rmv8VN85WeooqZPY4hsonNEhmqcK50uDMxbhBEYxKp3y6sePhv6BTxfLTHJbFztdJQRldfrM5fp
 tPgXG8m0hLiauTK3wn6KF9Mh0KHHmJMiR6Yx5jptO
X-Google-Smtp-Source: AGHT+IE1UG1bjm5qn92iDxfS2U2rU/RtR1hZhHtuMVmVf8EOWx9HcfJGuT7HnRI4YXIUTFvL6ywVp9UNiHwT
X-Received: by 2002:a05:6870:d153:b0:260:e678:b660 with SMTP id
 586e51a60fabf-267d4fbc1e8mr10034120fac.51.1722289145491; 
 Mon, 29 Jul 2024 14:39:05 -0700 (PDT)
Received: from postal.iol.unh.edu (postal.iol.unh.edu. [132.177.123.84])
 by smtp-relay.gmail.com with ESMTPS id
 586e51a60fabf-265771e67ecsm481028fac.41.2024.07.29.14.39.05
 (version=TLS1_2 cipher=ECDHE-ECDSA-AES128-GCM-SHA256 bits=128/128);
 Mon, 29 Jul 2024 14:39:05 -0700 (PDT)
X-Relaying-Domain: iol.unh.edu
Date: Mon, 29 Jul 2024 14:39:05 -0700 (PDT)
Message-ID: <66a80bf9.050a0220.2ab814.a59fSMTPIN_ADDED_MISSING@mx.google.com>
Received: from [172.21.0.7] (unknown [172.18.0.240])
 by postal.iol.unh.edu (Postfix) with ESMTP id E52F8605C351;
 Mon, 29 Jul 2024 17:39:04 -0400 (EDT)
Subject: |PENDING| pw142749 [PATCH] [v24.11,v1] net/sfc: allow for use of ind
From: dpdklab@iol.unh.edu
To: Test Report <test-report@dpdk.org>
Cc: dpdk-test-reports@iol.unh.edu
In-Reply-To: <20240729163847.7261-1-ivan.malov@arknetworks.am>
References: <20240729163847.7261-1-ivan.malov@arknetworks.am>
Content-Type: text/plain
X-BeenThere: test-report@dpdk.org
X-Mailman-Version: 2.1.29
Precedence: list
List-Id: automatic DPDK test reports <test-report.dpdk.org>
List-Unsubscribe: <https://mails.dpdk.org/options/test-report>,
 <mailto:test-report-request@dpdk.org?subject=unsubscribe>
List-Archive: <http://mails.dpdk.org/archives/test-report/>
List-Post: <mailto:test-report@dpdk.org>
List-Help: <mailto:test-report-request@dpdk.org?subject=help>
List-Subscribe: <https://mails.dpdk.org/listinfo/test-report>,
 <mailto:test-report-request@dpdk.org?subject=subscribe>
Errors-To: test-report-bounces@dpdk.org

Test-Label: iol-unit-amd64-testing
Test-Status: PENDING
http://dpdk.org/patch/142749

_Testing pending_

Submitter: Ivan Malov <ivan.malov@arknetworks.am>
Date: Monday, July 29 2024 16:38:47 
DPDK git baseline: Repo:dpdk
  Branch: master
  CommitID:3e440dd0ecf47f19716503374610ddd75d3a5ce9

142749 --> testing pending

Upstream job id: Generic-Unit-Test-DPDK#245979

Test environment and result as below:

+---------------------+----------------+
|     Environment     | dpdk_unit_test |
+=====================+================+
| Windows Server 2022 | PASS           |
+---------------------+----------------+
| Windows Server 2019 | PASS           |
+---------------------+----------------+
| CentOS Stream 8     | PASS           |
+---------------------+----------------+
| CentOS Stream 9     | PASS           |
+---------------------+----------------+
| Debian Bullseye     | PASS           |
+---------------------+----------------+
| Debian 12           | PASS           |
+---------------------+----------------+
| Fedora 38           | PASS           |
+---------------------+----------------+
| Fedora 37           | PASS           |
+---------------------+----------------+
| Fedora 38 (Clang)   | PEND           |
+---------------------+----------------+
| Fedora 39           | PASS           |
+---------------------+----------------+
| Fedora 39 (Clang)   | PEND           |
+---------------------+----------------+
| Fedora 40           | PEND           |
+---------------------+----------------+
| Fedora 40 (Clang)   | PEND           |
+---------------------+----------------+
| openSUSE Leap 15    | PEND           |
+---------------------+----------------+
| RHEL8               | PEND           |
+---------------------+----------------+
| Ubuntu 20.04        | PEND           |
+---------------------+----------------+
| RHEL9               | PEND           |
+---------------------+----------------+
| Ubuntu 22.04        | PEND           |
+---------------------+----------------+
| Ubuntu 24.04        | PEND           |
+---------------------+----------------+


Windows Server 2022
	Kernel: 10.0.20348.2031
	Compiler: clang 15.0.7, gcc 8.1.0 (MinGW), and MSVC VS 17.9

Windows Server 2019
	Kernel: 10.0.17763
	Compiler: clang 14.0 and gcc 8.1.0 (MinGW)

CentOS Stream 8
	Kernel: 5.4.0-167-generic
	Compiler: gcc 8.5.0 20210514

CentOS Stream 9
	Kernel: 5.4.0-167-generic
	Compiler: gcc 11.4.1 20230605

Debian Bullseye
	Kernel: 5.4.0-167-generic
	Compiler: gcc 10.2.1-6

Debian 12
	Kernel: Container Host Kernel
	Compiler: gcc 12.2.0

Fedora 38
	Kernel: Depends on container host
	Compiler: gcc 13.2.1

Fedora 37
	Kernel: Depends on container host system
	Compiler: gcc 12.3.1

Fedora 38 (Clang)
	Kernel: Depends on container host
	Compiler: clang 16.0.6

Fedora 39
	Kernel: Depends on container host
	Compiler: gcc 13.2.1

Fedora 39 (Clang)
	Kernel: Depends on container host
	Compiler: clang 17.0.6

Fedora 40
	Kernel: Depends on container host
	Compiler: gcc 14.1.1

Fedora 40 (Clang)
	Kernel: Depends on container host
	Compiler: clang 18.1.6

openSUSE Leap 15
	Kernel: 5.4.0-167-generic
	Compiler: gcc 7.5.0

RHEL8
	Kernel: 5.4.0-167-generic
	Compiler: gcc 8.5.0 20210514 (Red Hat 8.5.0-20)

Ubuntu 20.04
	Kernel: 5.4.0-167-generic
	Compiler: gcc 9.4.0-1ubuntu1~20.04.1

RHEL9
	Kernel: Depends on container host
	Compiler: gcc 11.4.1

Ubuntu 22.04
	Kernel: 5.4.0-167-generic
	Compiler: gcc 11.4.0

Ubuntu 24.04
	Kernel: 5.4.0-167-generic
	Compiler: gcc 13.2.0

To view detailed results, visit:
https://lab.dpdk.org/results/dashboard/patchsets/30645/

UNH-IOL DPDK Community Lab

To manage your email subscriptions, visit: 
https://lab.dpdk.org/results/dashboard/preferences/subscriptions/