From mboxrd@z Thu Jan  1 00:00:00 1970
Return-Path: <test-report-bounces@dpdk.org>
Received: from mails.dpdk.org (mails.dpdk.org [217.70.189.124])
	by inbox.dpdk.org (Postfix) with ESMTP id 57DD6456E6
	for <public@inbox.dpdk.org>; Mon, 29 Jul 2024 23:49:36 +0200 (CEST)
Received: from mails.dpdk.org (localhost [127.0.0.1])
	by mails.dpdk.org (Postfix) with ESMTP id 535994069D;
	Mon, 29 Jul 2024 23:49:36 +0200 (CEST)
Received: from mail-ot1-f99.google.com (mail-ot1-f99.google.com
 [209.85.210.99]) by mails.dpdk.org (Postfix) with ESMTP id 5758540695
 for <test-report@dpdk.org>; Mon, 29 Jul 2024 23:49:29 +0200 (CEST)
Received: by mail-ot1-f99.google.com with SMTP id
 46e09a7af769-709339c91f9so1563294a34.0
 for <test-report@dpdk.org>; Mon, 29 Jul 2024 14:49:29 -0700 (PDT)
DKIM-Signature: v=1; a=rsa-sha256; c=relaxed/relaxed;
 d=iol.unh.edu; s=unh-iol; t=1722289768; x=1722894568; darn=dpdk.org;
 h=references:in-reply-to:cc:to:from:subject:message-id:date:from:to
 :cc:subject:date:message-id:reply-to;
 bh=Cw88vFc7pKJ22RZrH7jEr8/V8VcwSgNdHoGzCnc5eKg=;
 b=IW9HPZDwZiyZYa9A0lN9a9oSN8e3G2sGibl8tCPK+gbcRHexdYBFu1JGjf1Df91ps4
 Xvvg9Woi3Y1YAqkIa3VkDsK3s8Xf483jGkgvg5vyAQ+bkWeM5NEZCfyhBI/f1tlIv2uH
 le8dnsvRmRcHNHAQwh38TS33nq0xHednquIYo=
X-Google-DKIM-Signature: v=1; a=rsa-sha256; c=relaxed/relaxed;
 d=1e100.net; s=20230601; t=1722289768; x=1722894568;
 h=references:in-reply-to:cc:to:from:subject:message-id:date
 :x-gm-message-state:from:to:cc:subject:date:message-id:reply-to;
 bh=Cw88vFc7pKJ22RZrH7jEr8/V8VcwSgNdHoGzCnc5eKg=;
 b=GUtv8ONfmzifCUie3c7Ivlqjplsa9er2ijAecJIwrwUD8dQLvV0oH09altOPIRMZto
 VFCwHyj6Cw3QgVs/qU3TUsvJJhivuPa0bCQOL6YK4rNALjstjNCQcNz7eN7SFN467Z93
 q0T1WtJb6ItHrPwY08SuPBnyJQbUnAhJ80QgCXMz9wq8pZJZISaPdapLu0GLNPD2q7Gg
 ieDie0n09n7bCNMH5WUByDFQl9Ag0ik9Ed8WBL2l9y5+hwbEE7TnkeBZ0t+0zX/i2Xfq
 D4ifyPBkzf/6zjZWI6tYiRMn+AEv7ApV1JO4BTGmcn/TnfsqOzdxKPbt6xA1bwEmU+RU
 LWVw==
X-Gm-Message-State: AOJu0YwiPkq5avuMSExTeOPsCgmLopp+wV0io+wckYZnD+76ozYEwcnR
 5+DoLh/CS5WXIq2LpCygwWHzInG0fkOUF5bqAt6vwjkNkuziOijP/od0kZCB/Wc4NINrnx62qcW
 x95Lmp/Yb+IEUY7jsrEUwTSMzsMyVp1jXrCsORRQm
X-Google-Smtp-Source: AGHT+IHAFy5WtCaXI8Lz5W9O4zy6dPGapqkX5pbQDDtIhHvPNdirMm1BAufBRFSvB/M3V9MYJQ44ORPCXB0t
X-Received: by 2002:a05:6870:3920:b0:25d:f285:d013 with SMTP id
 586e51a60fabf-267d4d4034cmr11479986fac.15.1722289768392; 
 Mon, 29 Jul 2024 14:49:28 -0700 (PDT)
Received: from postal.iol.unh.edu (postal.iol.unh.edu. [132.177.123.84])
 by smtp-relay.gmail.com with ESMTPS id
 586e51a60fabf-26537cd425asm534900fac.4.2024.07.29.14.49.28
 (version=TLS1_2 cipher=ECDHE-ECDSA-AES128-GCM-SHA256 bits=128/128);
 Mon, 29 Jul 2024 14:49:28 -0700 (PDT)
X-Relaying-Domain: iol.unh.edu
Date: Mon, 29 Jul 2024 14:49:28 -0700 (PDT)
Message-ID: <66a80e68.050a0220.20b527.f3a7SMTPIN_ADDED_MISSING@mx.google.com>
Received: from [172.21.0.6] (unknown [172.18.0.240])
 by postal.iol.unh.edu (Postfix) with ESMTP id D957E605C351;
 Mon, 29 Jul 2024 17:49:27 -0400 (EDT)
Subject: |PENDING| pw142749 [PATCH] [v24.11,v1] net/sfc: allow for use of ind
From: dpdklab@iol.unh.edu
To: Test Report <test-report@dpdk.org>
Cc: dpdk-test-reports@iol.unh.edu
In-Reply-To: <20240729163847.7261-1-ivan.malov@arknetworks.am>
References: <20240729163847.7261-1-ivan.malov@arknetworks.am>
Content-Type: text/plain
X-BeenThere: test-report@dpdk.org
X-Mailman-Version: 2.1.29
Precedence: list
List-Id: automatic DPDK test reports <test-report.dpdk.org>
List-Unsubscribe: <https://mails.dpdk.org/options/test-report>,
 <mailto:test-report-request@dpdk.org?subject=unsubscribe>
List-Archive: <http://mails.dpdk.org/archives/test-report/>
List-Post: <mailto:test-report@dpdk.org>
List-Help: <mailto:test-report-request@dpdk.org?subject=help>
List-Subscribe: <https://mails.dpdk.org/listinfo/test-report>,
 <mailto:test-report-request@dpdk.org?subject=subscribe>
Errors-To: test-report-bounces@dpdk.org

Test-Label: iol-abi-testing
Test-Status: PENDING
http://dpdk.org/patch/142749

_Testing pending_

Submitter: Ivan Malov <ivan.malov@arknetworks.am>
Date: Monday, July 29 2024 16:38:47 
DPDK git baseline: Repo:dpdk
  Branch: master
  CommitID:3e440dd0ecf47f19716503374610ddd75d3a5ce9

142749 --> testing pending

Upstream job id: Generic-DPDK-Compile-ABI#100791

Test environment and result as below:

+-------------------+----------+
|    Environment    | abi_test |
+===================+==========+
| CentOS Stream 8   | PASS     |
+-------------------+----------+
| CentOS Stream 9   | PASS     |
+-------------------+----------+
| Debian Bullseye   | PASS     |
+-------------------+----------+
| Fedora 37         | PASS     |
+-------------------+----------+
| Debian 12         | PASS     |
+-------------------+----------+
| Fedora 40 (Clang) | PASS     |
+-------------------+----------+
| Fedora 38 (Clang) | PASS     |
+-------------------+----------+
| Fedora 38         | PASS     |
+-------------------+----------+
| Fedora 40         | PASS     |
+-------------------+----------+
| openSUSE Leap 15  | PASS     |
+-------------------+----------+
| Fedora 39         | PEND     |
+-------------------+----------+
| RHEL8             | PASS     |
+-------------------+----------+
| Ubuntu 22.04      | PEND     |
+-------------------+----------+
| RHEL9             | PASS     |
+-------------------+----------+
| Ubuntu 24.04      | PEND     |
+-------------------+----------+
| Fedora 39 (Clang) | PASS     |
+-------------------+----------+


CentOS Stream 8
	Kernel: 5.4.0-167-generic
	Compiler: gcc 8.5.0 20210514

CentOS Stream 9
	Kernel: 5.4.0-167-generic
	Compiler: gcc 11.4.1 20230605

Debian Bullseye
	Kernel: 5.4.0-167-generic
	Compiler: gcc 10.2.1-6

Fedora 37
	Kernel: Depends on container host system
	Compiler: gcc 12.3.1

Debian 12
	Kernel: Container Host Kernel
	Compiler: gcc 12.2.0

Fedora 40 (Clang)
	Kernel: Depends on container host
	Compiler: clang 18.1.6

Fedora 38 (Clang)
	Kernel: Depends on container host
	Compiler: clang 16.0.6

Fedora 38
	Kernel: Depends on container host
	Compiler: gcc 13.2.1

Fedora 40
	Kernel: Depends on container host
	Compiler: gcc 14.1.1

openSUSE Leap 15
	Kernel: 5.4.0-167-generic
	Compiler: gcc 7.5.0

Fedora 39
	Kernel: Depends on container host
	Compiler: gcc 13.2.1

RHEL8
	Kernel: 5.4.0-167-generic
	Compiler: gcc 8.5.0 20210514 (Red Hat 8.5.0-20)

Ubuntu 22.04
	Kernel: 5.4.0-167-generic
	Compiler: gcc 11.4.0

RHEL9
	Kernel: Depends on container host
	Compiler: gcc 11.4.1

Ubuntu 24.04
	Kernel: 5.4.0-167-generic
	Compiler: gcc 13.2.0

Fedora 39 (Clang)
	Kernel: Depends on container host
	Compiler: clang 17.0.6

To view detailed results, visit:
https://lab.dpdk.org/results/dashboard/patchsets/30645/

UNH-IOL DPDK Community Lab

To manage your email subscriptions, visit: 
https://lab.dpdk.org/results/dashboard/preferences/subscriptions/