From mboxrd@z Thu Jan 1 00:00:00 1970 Return-Path: Received: from mails.dpdk.org (mails.dpdk.org [217.70.189.124]) by inbox.dpdk.org (Postfix) with ESMTP id 619F0456EC for ; Tue, 30 Jul 2024 00:00:27 +0200 (CEST) Received: from mails.dpdk.org (localhost [127.0.0.1]) by mails.dpdk.org (Postfix) with ESMTP id 57595402A3; Tue, 30 Jul 2024 00:00:27 +0200 (CEST) Received: from mail-io1-f97.google.com (mail-io1-f97.google.com [209.85.166.97]) by mails.dpdk.org (Postfix) with ESMTP id AC54B402A1 for ; Tue, 30 Jul 2024 00:00:17 +0200 (CEST) Received: by mail-io1-f97.google.com with SMTP id ca18e2360f4ac-816d9285ebdso166873839f.0 for ; Mon, 29 Jul 2024 15:00:17 -0700 (PDT) DKIM-Signature: v=1; a=rsa-sha256; c=relaxed/relaxed; d=iol.unh.edu; s=unh-iol; t=1722290417; x=1722895217; darn=dpdk.org; h=references:in-reply-to:cc:to:from:subject:message-id:date:from:to :cc:subject:date:message-id:reply-to; bh=sDr3ft6ud6rOHxE5buVdSxTKdA++u1rlbAYmccjd+7E=; b=NlUFexLOyzTkZlTr/OxrAfUWIf9Na8UpGTQJSyyCvT0AXuDp0gZUOsfC9z2YiZk1/Y XaLLuvFIOhHpGmLH8lwRgMUeyLtcD2P+Xf9LX/pSEFLZ5af2gs5QpJnHfIqNt260ZW06 Q9o/OzpG6T3UrRF77CxQfZ1M2dFawjW+sFIp8= X-Google-DKIM-Signature: v=1; a=rsa-sha256; c=relaxed/relaxed; d=1e100.net; s=20230601; t=1722290417; x=1722895217; h=references:in-reply-to:cc:to:from:subject:message-id:date :x-gm-message-state:from:to:cc:subject:date:message-id:reply-to; bh=sDr3ft6ud6rOHxE5buVdSxTKdA++u1rlbAYmccjd+7E=; b=N+kglGF9qy+AtcnS34A3wtN4pLimAHRsz96M/+n0k/OW+utMGTnEQMBYjgJHvBlxqX yxRSchYSxUm4kbs+MhAz48jtQCXI4fka2OvFA2f/2VfJIojVA4hoNiF7SQXllHdr1woi 9rsLyMr6GE08xLVw85AEnBXQrUlhYu3U36/p2zOZaY9LM5ETOQ03uE15fW/HhjyTgHyq Dkyibq5mPTidpDb1EodLvvjGiMYgaQ4V/+dRzmp0xnLX/Oi1iIMPU65OyQGYydKiIK17 XSBRJK6NMexReULrVHe8YQCwsk4z5IxhFBrH/3BsTGPHd8Ryyyt34k5OGvVOnWvwWPTz C8IQ== X-Gm-Message-State: AOJu0YwtE9mLJuon1A4An9hGfKPWBeX/Y0qLAmz7gQmMkKF703xWGEEK FBlr6pnN3GV6ySc3RC3kGASBTuylTPLnrIalOEQWN9NwrqHthWeMsZJzz26WJjbfBmXJSPRBWDi uefTuuO9K9KWT/kd4jNXaj0vD1LOFw++1kgxs5eAx X-Google-Smtp-Source: AGHT+IGodyAS7hasLrmEyRsazz94xHPbPUa3W8pfshEDPvJ5jcamDUFPkhmBPD7jc069XbQNenwKt4GQBE7+ X-Received: by 2002:a05:6602:2dcf:b0:806:f495:3b34 with SMTP id ca18e2360f4ac-81f95a411f7mr1054889839f.2.1722290416842; Mon, 29 Jul 2024 15:00:16 -0700 (PDT) Received: from postal.iol.unh.edu (postal.iol.unh.edu. [132.177.123.84]) by smtp-relay.gmail.com with ESMTPS id 8926c6da1cb9f-4c29fb247fesm237213173.47.2024.07.29.15.00.16 (version=TLS1_2 cipher=ECDHE-ECDSA-AES128-GCM-SHA256 bits=128/128); Mon, 29 Jul 2024 15:00:16 -0700 (PDT) X-Relaying-Domain: iol.unh.edu Date: Mon, 29 Jul 2024 15:00:16 -0700 (PDT) Message-ID: <66a810f0.050a0220.51b75.da0fSMTPIN_ADDED_MISSING@mx.google.com> Received: from [172.21.0.6] (unknown [172.18.0.240]) by postal.iol.unh.edu (Postfix) with ESMTP id 52C4F605C351; Mon, 29 Jul 2024 18:00:16 -0400 (EDT) Subject: |PENDING| pw142744 [PATCH] [RFC] dmadev: add QoS capability From: dpdklab@iol.unh.edu To: Test Report Cc: dpdk-test-reports@iol.unh.edu In-Reply-To: <20240729115558.263574-1-vattunuru@marvell.com> References: <20240729115558.263574-1-vattunuru@marvell.com> Content-Type: text/plain X-BeenThere: test-report@dpdk.org X-Mailman-Version: 2.1.29 Precedence: list List-Id: automatic DPDK test reports List-Unsubscribe: , List-Archive: List-Post: List-Help: List-Subscribe: , Errors-To: test-report-bounces@dpdk.org Test-Label: iol-compile-amd64-testing Test-Status: PENDING http://dpdk.org/patch/142744 _Testing pending_ Submitter: Vamsi Krishna Attunuru Date: Monday, July 29 2024 11:55:58 DPDK git baseline: Repo:dpdk Branch: master CommitID:7f9b2c926a5192440eaecf0cb80cc45ac8d9a0f2 142744 --> testing pending Upstream job id: Generic-DPDK-Compile-Meson#281194 Test environment and result as below: +---------------------+----------------------+--------------------+-------------------+------------------+-------------------+ | Environment | dpdk_mingw64_compile | dpdk_meson_compile | dpdk_msvc_compile | dpdk_compile_ovs | dpdk_compile_spdk | +=====================+======================+====================+===================+==================+===================+ | Windows Server 2019 | PASS | PASS | SKIPPED | SKIPPED | SKIPPED | +---------------------+----------------------+--------------------+-------------------+------------------+-------------------+ | Windows Server 2022 | PASS | PASS | PASS | SKIPPED | SKIPPED | +---------------------+----------------------+--------------------+-------------------+------------------+-------------------+ | FreeBSD 13.3 | SKIPPED | PASS | SKIPPED | SKIPPED | SKIPPED | +---------------------+----------------------+--------------------+-------------------+------------------+-------------------+ | FreeBSD 14.1 | SKIPPED | PASS | SKIPPED | SKIPPED | SKIPPED | +---------------------+----------------------+--------------------+-------------------+------------------+-------------------+ | CentOS Stream 8 | SKIPPED | PASS | SKIPPED | PASS | PASS | +---------------------+----------------------+--------------------+-------------------+------------------+-------------------+ | CentOS Stream 9 | SKIPPED | PASS | SKIPPED | PASS | PASS | +---------------------+----------------------+--------------------+-------------------+------------------+-------------------+ | Debian Bullseye | SKIPPED | PASS | SKIPPED | PASS | PASS | +---------------------+----------------------+--------------------+-------------------+------------------+-------------------+ | Debian 12 | SKIPPED | PEND | SKIPPED | PEND | PEND | +---------------------+----------------------+--------------------+-------------------+------------------+-------------------+ | Fedora 37 | SKIPPED | PASS | SKIPPED | PASS | PASS | +---------------------+----------------------+--------------------+-------------------+------------------+-------------------+ | Fedora 38 | SKIPPED | PASS | SKIPPED | PASS | PASS | +---------------------+----------------------+--------------------+-------------------+------------------+-------------------+ | Fedora 39 (Clang) | SKIPPED | PEND | SKIPPED | PEND | PEND | +---------------------+----------------------+--------------------+-------------------+------------------+-------------------+ | Fedora 39 | SKIPPED | PASS | SKIPPED | PASS | PASS | +---------------------+----------------------+--------------------+-------------------+------------------+-------------------+ | Fedora 40 (Clang) | SKIPPED | PEND | SKIPPED | PEND | PEND | +---------------------+----------------------+--------------------+-------------------+------------------+-------------------+ | Fedora 40 | SKIPPED | PASS | SKIPPED | PASS | PASS | +---------------------+----------------------+--------------------+-------------------+------------------+-------------------+ | openSUSE Leap 15 | SKIPPED | PASS | SKIPPED | PASS | SKIPPED | +---------------------+----------------------+--------------------+-------------------+------------------+-------------------+ | RHEL8 | SKIPPED | PASS | SKIPPED | PASS | SKIPPED | +---------------------+----------------------+--------------------+-------------------+------------------+-------------------+ | Ubuntu 20.04 | SKIPPED | PEND | SKIPPED | PEND | SKIPPED | +---------------------+----------------------+--------------------+-------------------+------------------+-------------------+ | Ubuntu 22.04 | SKIPPED | PEND | SKIPPED | SKIPPED | SKIPPED | +---------------------+----------------------+--------------------+-------------------+------------------+-------------------+ | Alpine | SKIPPED | PEND | SKIPPED | PEND | SKIPPED | +---------------------+----------------------+--------------------+-------------------+------------------+-------------------+ | Fedora 38 (Clang) | SKIPPED | PEND | SKIPPED | PEND | PEND | +---------------------+----------------------+--------------------+-------------------+------------------+-------------------+ Windows Server 2019 Kernel: 10.0.17763 Compiler: clang 14.0 and gcc 8.1.0 (MinGW) Windows Server 2022 Kernel: 10.0.20348.2031 Compiler: clang 15.0.7, gcc 8.1.0 (MinGW), and MSVC VS 17.9 FreeBSD 13.3 Kernel: 13.3-RELEASE-p1 Compiler: clang 17.0.6 FreeBSD 14.1 Kernel: 14.1 Compiler: clang 18.1.5 CentOS Stream 8 Kernel: 5.4.0-167-generic Compiler: gcc 8.5.0 20210514 CentOS Stream 9 Kernel: 5.4.0-167-generic Compiler: gcc 11.4.1 20230605 Debian Bullseye Kernel: 5.4.0-167-generic Compiler: gcc 10.2.1-6 Debian 12 Kernel: Container Host Kernel Compiler: gcc 12.2.0 Fedora 37 Kernel: Depends on container host system Compiler: gcc 12.3.1 Fedora 38 Kernel: Depends on container host Compiler: gcc 13.2.1 Fedora 39 (Clang) Kernel: Depends on container host Compiler: clang 17.0.6 Fedora 39 Kernel: Depends on container host Compiler: gcc 13.2.1 Fedora 40 (Clang) Kernel: Depends on container host Compiler: clang 18.1.6 Fedora 40 Kernel: Depends on container host Compiler: gcc 14.1.1 openSUSE Leap 15 Kernel: 5.4.0-167-generic Compiler: gcc 7.5.0 RHEL8 Kernel: 5.4.0-167-generic Compiler: gcc 8.5.0 20210514 (Red Hat 8.5.0-20) Ubuntu 20.04 Kernel: 5.4.0-167-generic Compiler: gcc 9.4.0-1ubuntu1~20.04.1 Ubuntu 22.04 Kernel: 5.4.0-167-generic Compiler: gcc 11.4.0 Alpine Kernel: 5.4.0-167-generic Compiler: gcc (Alpine 13.2.1_git20231014) 13.2.1 20231014 Fedora 38 (Clang) Kernel: Depends on container host Compiler: clang 16.0.6 To view detailed results, visit: https://lab.dpdk.org/results/dashboard/patchsets/30640/ UNH-IOL DPDK Community Lab To manage your email subscriptions, visit: https://lab.dpdk.org/results/dashboard/preferences/subscriptions/