From mboxrd@z Thu Jan  1 00:00:00 1970
Return-Path: <test-report-bounces@dpdk.org>
Received: from mails.dpdk.org (mails.dpdk.org [217.70.189.124])
	by inbox.dpdk.org (Postfix) with ESMTP id E0EBD456E6
	for <public@inbox.dpdk.org>; Tue, 30 Jul 2024 00:04:38 +0200 (CEST)
Received: from mails.dpdk.org (localhost [127.0.0.1])
	by mails.dpdk.org (Postfix) with ESMTP id DB09C402A3;
	Tue, 30 Jul 2024 00:04:38 +0200 (CEST)
Received: from mail-yb1-f225.google.com (mail-yb1-f225.google.com
 [209.85.219.225])
 by mails.dpdk.org (Postfix) with ESMTP id 0CBCE402A1
 for <test-report@dpdk.org>; Tue, 30 Jul 2024 00:04:34 +0200 (CEST)
Received: by mail-yb1-f225.google.com with SMTP id
 3f1490d57ef6-e05ef3aefcfso2568260276.2
 for <test-report@dpdk.org>; Mon, 29 Jul 2024 15:04:34 -0700 (PDT)
DKIM-Signature: v=1; a=rsa-sha256; c=relaxed/relaxed;
 d=iol.unh.edu; s=unh-iol; t=1722290673; x=1722895473; darn=dpdk.org;
 h=references:in-reply-to:cc:to:from:subject:message-id:date:from:to
 :cc:subject:date:message-id:reply-to;
 bh=Zd/07TQBMy6x3bc9eXHrfZzxNcvnHUklLKhXxwuw8O8=;
 b=fJMXpTooG+sgklGcdbRWQ6xFmIjFdzIDbFqnLaPljoKHvSHIpFx5MVYbXoqN7Jbmr2
 fHXz2LiYBiQ6x3YYaznEYMrPMxlQU6sUlVB7CFZ7oTmJKGocFyPFwSDKoWG28JTuTJN8
 YfncnngufL4lqTUzdkoUFFU7S/IJ0zucpXw4w=
X-Google-DKIM-Signature: v=1; a=rsa-sha256; c=relaxed/relaxed;
 d=1e100.net; s=20230601; t=1722290673; x=1722895473;
 h=references:in-reply-to:cc:to:from:subject:message-id:date
 :x-gm-message-state:from:to:cc:subject:date:message-id:reply-to;
 bh=Zd/07TQBMy6x3bc9eXHrfZzxNcvnHUklLKhXxwuw8O8=;
 b=Yc8NCqH+GvxCjpqZpFsSxvZztHHOfLRt/8S7/B5wwFyIUiO1hVBiqW8050Xhtji4qK
 /Rkza48Wjf7mOZSWPemGXyznanQnEpU4cKjYu0lDIcNvWd7ClecAm3p6B74H4incPIQs
 cRMmtALwA5Q0tfGo59/WpNt+zhVMHsEC34EwX3IFC6UcFVFoMsC7epYWiEnqhvbtvPUm
 1SqSx9NJiNhN7669DEi7/jB9H6hqVk9tgz4QdiT4Yr5viOrYRZ2MQB62TcAONJX+zljq
 h7a4K+oItmhrELO2W2JK98Ge0ojB4aEHScpFlt7/6cT7UQC4XPQnkpmmdVemFuzw4sw+
 0KWA==
X-Gm-Message-State: AOJu0YzRj9m5xAIF78ubGSj5we7raEdSSdagtc7q98ioMP20TbgGPbF4
 4s+9wQtZCFPE4cAxCBl0IJa7A+RZrqubNejpl2ritiHiupN5SF/2FwekucdxHoSCFovgwXDpgA2
 OvhRocKwu03n5Sc9brLlDyQPIcxQOZG3I5Snb+UTR
X-Google-Smtp-Source: AGHT+IFai6lxFFgS63Mta6jOQsOInM8D+umI2Nfud6j2sd+O7DePulVOWlEkQTnpVAUBtTUW2dcEtsCdcVpk
X-Received: by 2002:a05:6902:1029:b0:e08:6eef:8d7c with SMTP id
 3f1490d57ef6-e0b545e31b5mr10623129276.46.1722290673399; 
 Mon, 29 Jul 2024 15:04:33 -0700 (PDT)
Received: from postal.iol.unh.edu (postal.iol.unh.edu. [132.177.123.84])
 by smtp-relay.gmail.com with ESMTPS id
 3f1490d57ef6-e0b29f80c06sm216306276.3.2024.07.29.15.04.33
 (version=TLS1_2 cipher=ECDHE-ECDSA-AES128-GCM-SHA256 bits=128/128);
 Mon, 29 Jul 2024 15:04:33 -0700 (PDT)
X-Relaying-Domain: iol.unh.edu
Date: Mon, 29 Jul 2024 15:04:33 -0700 (PDT)
Message-ID: <66a811f1.050a0220.1c346.ab09SMTPIN_ADDED_MISSING@mx.google.com>
Received: from [172.21.0.6] (unknown [172.18.0.240])
 by postal.iol.unh.edu (Postfix) with ESMTP id 0D643605C351;
 Mon, 29 Jul 2024 18:04:33 -0400 (EDT)
Subject: |SUCCESS| pw142749 [PATCH] [v24.11,v1] net/sfc: allow for use of ind
From: dpdklab@iol.unh.edu
To: Test Report <test-report@dpdk.org>
Cc: dpdk-test-reports@iol.unh.edu
In-Reply-To: <20240729163847.7261-1-ivan.malov@arknetworks.am>
References: <20240729163847.7261-1-ivan.malov@arknetworks.am>
Content-Type: text/plain
X-BeenThere: test-report@dpdk.org
X-Mailman-Version: 2.1.29
Precedence: list
List-Id: automatic DPDK test reports <test-report.dpdk.org>
List-Unsubscribe: <https://mails.dpdk.org/options/test-report>,
 <mailto:test-report-request@dpdk.org?subject=unsubscribe>
List-Archive: <http://mails.dpdk.org/archives/test-report/>
List-Post: <mailto:test-report@dpdk.org>
List-Help: <mailto:test-report-request@dpdk.org?subject=help>
List-Subscribe: <https://mails.dpdk.org/listinfo/test-report>,
 <mailto:test-report-request@dpdk.org?subject=subscribe>
Errors-To: test-report-bounces@dpdk.org

Test-Label: iol-abi-testing
Test-Status: SUCCESS
http://dpdk.org/patch/142749

_Testing PASS_

Submitter: Ivan Malov <ivan.malov@arknetworks.am>
Date: Monday, July 29 2024 16:38:47 
DPDK git baseline: Repo:dpdk
  Branch: master
  CommitID:3e440dd0ecf47f19716503374610ddd75d3a5ce9

142749 --> testing pass

Upstream job id: Generic-DPDK-Compile-ABI#100795

Test environment and result as below:

+-------------------+----------+
|    Environment    | abi_test |
+===================+==========+
| CentOS Stream 8   | PASS     |
+-------------------+----------+
| CentOS Stream 9   | PASS     |
+-------------------+----------+
| Debian Bullseye   | PASS     |
+-------------------+----------+
| Fedora 37         | PASS     |
+-------------------+----------+
| Debian 12         | PASS     |
+-------------------+----------+
| Fedora 40 (Clang) | PASS     |
+-------------------+----------+
| Fedora 38 (Clang) | PASS     |
+-------------------+----------+
| Fedora 38         | PASS     |
+-------------------+----------+
| Fedora 40         | PASS     |
+-------------------+----------+
| openSUSE Leap 15  | PASS     |
+-------------------+----------+
| Fedora 39         | PASS     |
+-------------------+----------+
| RHEL8             | PASS     |
+-------------------+----------+
| Ubuntu 22.04      | PASS     |
+-------------------+----------+
| RHEL9             | PASS     |
+-------------------+----------+
| Ubuntu 24.04      | PASS     |
+-------------------+----------+
| Fedora 39 (Clang) | PASS     |
+-------------------+----------+


CentOS Stream 8
	Kernel: 5.4.0-167-generic
	Compiler: gcc 8.5.0 20210514

CentOS Stream 9
	Kernel: 5.4.0-167-generic
	Compiler: gcc 11.4.1 20230605

Debian Bullseye
	Kernel: 5.4.0-167-generic
	Compiler: gcc 10.2.1-6

Fedora 37
	Kernel: Depends on container host system
	Compiler: gcc 12.3.1

Debian 12
	Kernel: Container Host Kernel
	Compiler: gcc 12.2.0

Fedora 40 (Clang)
	Kernel: Depends on container host
	Compiler: clang 18.1.6

Fedora 38 (Clang)
	Kernel: Depends on container host
	Compiler: clang 16.0.6

Fedora 38
	Kernel: Depends on container host
	Compiler: gcc 13.2.1

Fedora 40
	Kernel: Depends on container host
	Compiler: gcc 14.1.1

openSUSE Leap 15
	Kernel: 5.4.0-167-generic
	Compiler: gcc 7.5.0

Fedora 39
	Kernel: Depends on container host
	Compiler: gcc 13.2.1

RHEL8
	Kernel: 5.4.0-167-generic
	Compiler: gcc 8.5.0 20210514 (Red Hat 8.5.0-20)

Ubuntu 22.04
	Kernel: 5.4.0-167-generic
	Compiler: gcc 11.4.0

RHEL9
	Kernel: Depends on container host
	Compiler: gcc 11.4.1

Ubuntu 24.04
	Kernel: 5.4.0-167-generic
	Compiler: gcc 13.2.0

Fedora 39 (Clang)
	Kernel: Depends on container host
	Compiler: clang 17.0.6

To view detailed results, visit:
https://lab.dpdk.org/results/dashboard/patchsets/30645/

UNH-IOL DPDK Community Lab

To manage your email subscriptions, visit: 
https://lab.dpdk.org/results/dashboard/preferences/subscriptions/