From mboxrd@z Thu Jan  1 00:00:00 1970
Return-Path: <test-report-bounces@dpdk.org>
Received: from mails.dpdk.org (mails.dpdk.org [217.70.189.124])
	by inbox.dpdk.org (Postfix) with ESMTP id 0A57C456F8
	for <public@inbox.dpdk.org>; Tue, 30 Jul 2024 16:11:52 +0200 (CEST)
Received: from mails.dpdk.org (localhost [127.0.0.1])
	by mails.dpdk.org (Postfix) with ESMTP id D7EAC40E0C;
	Tue, 30 Jul 2024 16:11:51 +0200 (CEST)
Received: from mail-io1-f98.google.com (mail-io1-f98.google.com
 [209.85.166.98]) by mails.dpdk.org (Postfix) with ESMTP id 3DB0B4003C
 for <test-report@dpdk.org>; Tue, 30 Jul 2024 09:32:12 +0200 (CEST)
Received: by mail-io1-f98.google.com with SMTP id
 ca18e2360f4ac-81f96eaa00fso147301539f.1
 for <test-report@dpdk.org>; Tue, 30 Jul 2024 00:32:12 -0700 (PDT)
DKIM-Signature: v=1; a=rsa-sha256; c=relaxed/relaxed;
 d=iol.unh.edu; s=unh-iol; t=1722324731; x=1722929531; darn=dpdk.org;
 h=references:in-reply-to:cc:to:from:subject:message-id:date:from:to
 :cc:subject:date:message-id:reply-to;
 bh=8WiWycbic1exJd5m2nGHo8/sy9Vtf5tIBFdjDJRoQr8=;
 b=Loc0vJbXKKBJ3LtivahufmOMRkGubeQHU3/Snz+jw/+iKe+7rZMakw+Dm8xSeX6atw
 pFjOnHoSJ8qVt84QLNFGR7gGlpGu2bgdqJqricREm7lG+wqLgQJGYSitZs36Pu7sPlMs
 xqKEQbf4wFFocLgmsrJOiLfcbRMRm59TFaVfI=
X-Google-DKIM-Signature: v=1; a=rsa-sha256; c=relaxed/relaxed;
 d=1e100.net; s=20230601; t=1722324731; x=1722929531;
 h=references:in-reply-to:cc:to:from:subject:message-id:date
 :x-gm-message-state:from:to:cc:subject:date:message-id:reply-to;
 bh=8WiWycbic1exJd5m2nGHo8/sy9Vtf5tIBFdjDJRoQr8=;
 b=c+Ohk3FiC+69CBC1ANDPOVsKhV5w9B8YbCsvDJEJLb4WjZNhDOAlT+3FAhLmsvntfg
 x5ekTR4OTujhTm72D+YRA4hFy531Uwn4kD/9UR/YVy/9xr2cMUgzq+m0VGWlPvRW1L1i
 TB0ffPqZJ17fJxD8oS3qB0OBj/yYlCbDat9XDS3WodxRovW9du/vnEzQ9JqdWSn61HWL
 lzal1y+Q64u+GbqLwev58i1dfa5gj2JuXd00C4chAwo9xDRU9Q8JtiI+tv1n2PcBsSyL
 bAFSNI4VIFPd9vsQ135Tpzo4Jz+fBiGDxYzN7/5kpW+Jh+xzrP4Xb45iQuEmuVthJa0k
 iVbg==
X-Gm-Message-State: AOJu0YznS+0XbBu9gX6uUlgjjAb9b7x8+Txie3QIC/P0jkZ6SgEg8IL5
 H3sKthdsY4Ey+xlAAEr/mMS/d08thT2WutzFUyQ5joLvOKHE55fNd1rRggNxXd4O50yDlNUFZk3
 QV2aGzKfjGOsgEf+Z4rJN7oN09e7GqUtFqJL8FdBK
X-Google-Smtp-Source: AGHT+IGwx+4E+t7DKErX5Yg5vHktPfJdt24Fbj1QX+PR5iOSK1/tbwwZRlBUSpp2p6Quc6i6dp3Nfx1wyxxE
X-Received: by 2002:a05:6602:13d1:b0:81f:8c39:2a5c with SMTP id
 ca18e2360f4ac-81f95a9fe6dmr1383970139f.12.1722324731508; 
 Tue, 30 Jul 2024 00:32:11 -0700 (PDT)
Received: from postal.iol.unh.edu (postal.iol.unh.edu. [132.177.123.84])
 by smtp-relay.gmail.com with ESMTPS id
 8926c6da1cb9f-4c29faf7951sm263557173.32.2024.07.30.00.32.11
 (version=TLS1_2 cipher=ECDHE-ECDSA-AES128-GCM-SHA256 bits=128/128);
 Tue, 30 Jul 2024 00:32:11 -0700 (PDT)
X-Relaying-Domain: iol.unh.edu
Date: Tue, 30 Jul 2024 00:32:11 -0700 (PDT)
Message-ID: <66a896fb.050a0220.f60b3.fa5aSMTPIN_ADDED_MISSING@mx.google.com>
Received: from [172.21.0.8] (unknown [172.18.0.240])
 by postal.iol.unh.edu (Postfix) with ESMTP id 075F360524C8;
 Tue, 30 Jul 2024 03:32:11 -0400 (EDT)
Subject: |SUCCESS| pw142751 [PATCH] [v1] net/cpfl: fix cpfl parser issue
From: dpdklab@iol.unh.edu
To: Test Report <test-report@dpdk.org>
Cc: dpdk-test-reports@iol.unh.edu
In-Reply-To: <20240730050952.837611-1-praveen.shetty@intel.com>
References: <20240730050952.837611-1-praveen.shetty@intel.com>
Content-Type: text/plain
X-BeenThere: test-report@dpdk.org
X-Mailman-Version: 2.1.29
Precedence: list
List-Id: automatic DPDK test reports <test-report.dpdk.org>
List-Unsubscribe: <https://mails.dpdk.org/options/test-report>,
 <mailto:test-report-request@dpdk.org?subject=unsubscribe>
List-Archive: <http://mails.dpdk.org/archives/test-report/>
List-Post: <mailto:test-report@dpdk.org>
List-Help: <mailto:test-report-request@dpdk.org?subject=help>
List-Subscribe: <https://mails.dpdk.org/listinfo/test-report>,
 <mailto:test-report-request@dpdk.org?subject=subscribe>
Errors-To: test-report-bounces@dpdk.org

Test-Label: iol-compile-amd64-testing
Test-Status: SUCCESS
http://dpdk.org/patch/142751

_Testing PASS_

Submitter: Praveen Shetty <praveen.shetty@intel.com>
Date: Tuesday, July 30 2024 05:09:52 
DPDK git baseline: Repo:dpdk
  Branch: master
  CommitID:3b017bdc4c25e2cd6733a9363e9c566b95834cc4

142751 --> testing pass

Upstream job id: Windows-Compile-DPDK-Mingw64#21121

Test environment and result as below:

+---------------------+--------------------+-------------------+----------------------+
|     Environment     | dpdk_meson_compile | dpdk_msvc_compile | dpdk_mingw64_compile |
+=====================+====================+===================+======================+
| Windows Server 2019 | PASS               | SKIPPED           | PASS                 |
+---------------------+--------------------+-------------------+----------------------+
| Windows Server 2022 | PASS               | PASS              | PASS                 |
+---------------------+--------------------+-------------------+----------------------+
| FreeBSD 13.3        | PASS               | SKIPPED           | SKIPPED              |
+---------------------+--------------------+-------------------+----------------------+
| FreeBSD 14.1        | PASS               | SKIPPED           | SKIPPED              |
+---------------------+--------------------+-------------------+----------------------+


Windows Server 2019
	Kernel: 10.0.17763
	Compiler: clang 14.0 and gcc 8.1.0 (MinGW)

Windows Server 2022
	Kernel: 10.0.20348.2031
	Compiler: clang 15.0.7, gcc 8.1.0 (MinGW), and MSVC VS 17.9

FreeBSD 13.3
	Kernel: 13.3-RELEASE-p1
	Compiler: clang 17.0.6

FreeBSD 14.1
	Kernel: 14.1
	Compiler: clang 18.1.5

To view detailed results, visit:
https://lab.dpdk.org/results/dashboard/patchsets/30647/

UNH-IOL DPDK Community Lab

To manage your email subscriptions, visit: 
https://lab.dpdk.org/results/dashboard/preferences/subscriptions/