From mboxrd@z Thu Jan  1 00:00:00 1970
Return-Path: <test-report-bounces@dpdk.org>
Received: from mails.dpdk.org (mails.dpdk.org [217.70.189.124])
	by inbox.dpdk.org (Postfix) with ESMTP id 7553E456F4
	for <public@inbox.dpdk.org>; Tue, 30 Jul 2024 16:54:39 +0200 (CEST)
Received: from mails.dpdk.org (localhost [127.0.0.1])
	by mails.dpdk.org (Postfix) with ESMTP id D320542E4D;
	Tue, 30 Jul 2024 16:54:20 +0200 (CEST)
Received: from mail-yw1-f228.google.com (mail-yw1-f228.google.com
 [209.85.128.228])
 by mails.dpdk.org (Postfix) with ESMTP id 543A3400D7
 for <test-report@dpdk.org>; Tue, 30 Jul 2024 15:56:06 +0200 (CEST)
Received: by mail-yw1-f228.google.com with SMTP id
 00721157ae682-65f9708c50dso35347557b3.2
 for <test-report@dpdk.org>; Tue, 30 Jul 2024 06:56:06 -0700 (PDT)
DKIM-Signature: v=1; a=rsa-sha256; c=relaxed/relaxed;
 d=iol.unh.edu; s=unh-iol; t=1722347765; x=1722952565; darn=dpdk.org;
 h=references:in-reply-to:cc:to:from:subject:message-id:date:from:to
 :cc:subject:date:message-id:reply-to;
 bh=OFHLbzr/GzIKfWA6Dkh2Y4Hqz2WWJeFRbyqRhayQ7Sw=;
 b=jfQcMFZGCLFL0OJ4EhVkvMrutQ63aZB3JXWWt1gh8IHEM4UW290QrbYZmA3v87MCJP
 avAshk76pO0T2QLV9YA88+vAl+pqLrgimMeymW2QPrWlfZee+jYlSFOLoEWvog+JX7NF
 +0+X7sFQY3XaBLn307kBKsLnHZPDViGoPD5fU=
X-Google-DKIM-Signature: v=1; a=rsa-sha256; c=relaxed/relaxed;
 d=1e100.net; s=20230601; t=1722347765; x=1722952565;
 h=references:in-reply-to:cc:to:from:subject:message-id:date
 :x-gm-message-state:from:to:cc:subject:date:message-id:reply-to;
 bh=OFHLbzr/GzIKfWA6Dkh2Y4Hqz2WWJeFRbyqRhayQ7Sw=;
 b=OCGEaqCwVdFc9M5N/h3CoMIumlg6FcLumWCs2JGjFr7fj4nyqa3MgKUHYyEj9fJ5Qu
 jCpfFY5KC64DlFD1PFXCm4t1u7Vzf6TqNXMIKt2hD3WFFZirdXZkec8t+Q9+CRjthHw9
 +PX7gLgoUwTuv8un8hh3U/n/SGQZj/QyYcb8Sr39ZAyYgtWqMFwUXMELkF0YUeYsFMpt
 pVdR9/zc/4yE2UKJSj10WcOMopuFR7ffp/3TQf0aXLWNSNErhL09Uw66fshYrkYa0/6H
 qmzyjzXKLCEgYCUCJJ9RmavLUKttoUDgB/ISROUvbFpqI2K8aldbmI7CwXmvCFmYDsKd
 YXtQ==
X-Gm-Message-State: AOJu0Yzq/GbBzn5HkNuK59URabJvK5+9NIK2az25pzE6K14dAk7R6LFx
 Kas6isPCx2nVGdK3KvAfPgMtiYWIyRuGrni/N8w/+nF3PcDwZD2onO6TNpRQ3u0WdIolQNz3tnc
 CdkrmPOy6RZ6VrmxyxhF7U4PnnIbQBz/jnbidwL25
X-Google-Smtp-Source: AGHT+IG4zO/0rOdhdpZYwZ9OvUc75SAw5RrUZzNviI9u9kinDyY+KUhwSDB/OZTejHBCzFVk8Lj5y8ocs5D2
X-Received: by 2002:a0d:f3c6:0:b0:646:fe8e:f03b with SMTP id
 00721157ae682-67a053e0cd5mr121730167b3.2.1722347765728; 
 Tue, 30 Jul 2024 06:56:05 -0700 (PDT)
Received: from postal.iol.unh.edu (postal.iol.unh.edu. [132.177.123.84])
 by smtp-relay.gmail.com with ESMTPS id
 00721157ae682-675685dd313sm8138587b3.43.2024.07.30.06.56.05
 (version=TLS1_2 cipher=ECDHE-ECDSA-AES128-GCM-SHA256 bits=128/128);
 Tue, 30 Jul 2024 06:56:05 -0700 (PDT)
X-Relaying-Domain: iol.unh.edu
Date: Tue, 30 Jul 2024 06:56:05 -0700 (PDT)
Message-ID: <66a8f0f5.0d0a0220.261e23.f197SMTPIN_ADDED_MISSING@mx.google.com>
Received: from [172.21.0.6] (unknown [172.18.0.240])
 by postal.iol.unh.edu (Postfix) with ESMTP id 63C906050A6B;
 Tue, 30 Jul 2024 09:56:05 -0400 (EDT)
Subject: |PENDING| pw142752 [PATCH] hash: separate param checks in hash creat
From: dpdklab@iol.unh.edu
To: Test Report <test-report@dpdk.org>
Cc: dpdk-test-reports@iol.unh.edu
In-Reply-To: <20240726145443.1058676-1-niall.meade@intel.com>
References: <20240726145443.1058676-1-niall.meade@intel.com>
Content-Type: text/plain
X-BeenThere: test-report@dpdk.org
X-Mailman-Version: 2.1.29
Precedence: list
List-Id: automatic DPDK test reports <test-report.dpdk.org>
List-Unsubscribe: <https://mails.dpdk.org/options/test-report>,
 <mailto:test-report-request@dpdk.org?subject=unsubscribe>
List-Archive: <http://mails.dpdk.org/archives/test-report/>
List-Post: <mailto:test-report@dpdk.org>
List-Help: <mailto:test-report-request@dpdk.org?subject=help>
List-Subscribe: <https://mails.dpdk.org/listinfo/test-report>,
 <mailto:test-report-request@dpdk.org?subject=subscribe>
Errors-To: test-report-bounces@dpdk.org

Test-Label: iol-abi-testing
Test-Status: PENDING
http://dpdk.org/patch/142752

_Testing pending_

Submitter: Niall Meade <niall.meade@intel.com>
Date: Friday, July 26 2024 14:54:43 
DPDK git baseline: Repo:dpdk
  Branch: master
  CommitID:4b5abe7ec1ed2d43a285599bbba23f62ac049d8f

142752 --> testing pending

Upstream job id: Generic-DPDK-Compile-ABI#100865

Test environment and result as below:

+-------------------+----------+
|    Environment    | abi_test |
+===================+==========+
| CentOS Stream 8   | PASS     |
+-------------------+----------+
| CentOS Stream 9   | PASS     |
+-------------------+----------+
| Debian 12         | PASS     |
+-------------------+----------+
| Debian Bullseye   | PASS     |
+-------------------+----------+
| Fedora 37         | PASS     |
+-------------------+----------+
| Fedora 38 (Clang) | PEND     |
+-------------------+----------+
| Fedora 38         | PEND     |
+-------------------+----------+
| Fedora 40         | PEND     |
+-------------------+----------+
| openSUSE Leap 15  | PEND     |
+-------------------+----------+
| RHEL9             | PEND     |
+-------------------+----------+
| Fedora 40 (Clang) | PEND     |
+-------------------+----------+
| RHEL8             | PASS     |
+-------------------+----------+
| Fedora 39         | PEND     |
+-------------------+----------+
| Ubuntu 22.04      | PEND     |
+-------------------+----------+
| Ubuntu 24.04      | PASS     |
+-------------------+----------+
| Fedora 39 (Clang) | PEND     |
+-------------------+----------+


CentOS Stream 8
	Kernel: 5.4.0-167-generic
	Compiler: gcc 8.5.0 20210514

CentOS Stream 9
	Kernel: 5.4.0-167-generic
	Compiler: gcc 11.4.1 20230605

Debian 12
	Kernel: Container Host Kernel
	Compiler: gcc 12.2.0

Debian Bullseye
	Kernel: 5.4.0-167-generic
	Compiler: gcc 10.2.1-6

Fedora 37
	Kernel: Depends on container host system
	Compiler: gcc 12.3.1

Fedora 38 (Clang)
	Kernel: Depends on container host
	Compiler: clang 16.0.6

Fedora 38
	Kernel: Depends on container host
	Compiler: gcc 13.2.1

Fedora 40
	Kernel: Depends on container host
	Compiler: gcc 14.1.1

openSUSE Leap 15
	Kernel: 5.4.0-167-generic
	Compiler: gcc 7.5.0

RHEL9
	Kernel: Depends on container host
	Compiler: gcc 11.4.1

Fedora 40 (Clang)
	Kernel: Depends on container host
	Compiler: clang 18.1.6

RHEL8
	Kernel: 5.4.0-167-generic
	Compiler: gcc 8.5.0 20210514 (Red Hat 8.5.0-20)

Fedora 39
	Kernel: Depends on container host
	Compiler: gcc 13.2.1

Ubuntu 22.04
	Kernel: 5.4.0-167-generic
	Compiler: gcc 11.4.0

Ubuntu 24.04
	Kernel: 5.4.0-167-generic
	Compiler: gcc 13.2.0

Fedora 39 (Clang)
	Kernel: Depends on container host
	Compiler: clang 17.0.6

To view detailed results, visit:
https://lab.dpdk.org/results/dashboard/patchsets/30648/

UNH-IOL DPDK Community Lab

To manage your email subscriptions, visit: 
https://lab.dpdk.org/results/dashboard/preferences/subscriptions/