From mboxrd@z Thu Jan  1 00:00:00 1970
Return-Path: <test-report-bounces@dpdk.org>
Received: from mails.dpdk.org (mails.dpdk.org [217.70.189.124])
	by inbox.dpdk.org (Postfix) with ESMTP id 1A7F8456F4
	for <public@inbox.dpdk.org>; Tue, 30 Jul 2024 16:54:44 +0200 (CEST)
Received: from mails.dpdk.org (localhost [127.0.0.1])
	by mails.dpdk.org (Postfix) with ESMTP id B9B7542EAA;
	Tue, 30 Jul 2024 16:54:21 +0200 (CEST)
Received: from mail-qv1-f97.google.com (mail-qv1-f97.google.com
 [209.85.219.97]) by mails.dpdk.org (Postfix) with ESMTP id 0F66640651
 for <test-report@dpdk.org>; Tue, 30 Jul 2024 16:08:50 +0200 (CEST)
Received: by mail-qv1-f97.google.com with SMTP id
 6a1803df08f44-6b79fc76d03so25875656d6.1
 for <test-report@dpdk.org>; Tue, 30 Jul 2024 07:08:50 -0700 (PDT)
DKIM-Signature: v=1; a=rsa-sha256; c=relaxed/relaxed;
 d=iol.unh.edu; s=unh-iol; t=1722348529; x=1722953329; darn=dpdk.org;
 h=references:in-reply-to:cc:to:from:subject:message-id:date:from:to
 :cc:subject:date:message-id:reply-to;
 bh=sAUNtWnQje2rU2iCTb1GLQ/Fw5wsM9Y8DFFMPXt28ww=;
 b=Lgo34s7jLK+kfCWMxxmW5fUc+A569IHTNNjJBkzG4uN18Fl7jBTFnVRwCEE0NWkbiR
 IhKqE0r9BHIIPPECpqEFEgHFYeu9krt6vUh8Dc2Fhe26DnkUo5iLzdeOFB4bA2j3vi1I
 Ccd0i3yjoF67WDV/xESL4RyVERGNNO0tI7GeU=
X-Google-DKIM-Signature: v=1; a=rsa-sha256; c=relaxed/relaxed;
 d=1e100.net; s=20230601; t=1722348529; x=1722953329;
 h=references:in-reply-to:cc:to:from:subject:message-id:date
 :x-gm-message-state:from:to:cc:subject:date:message-id:reply-to;
 bh=sAUNtWnQje2rU2iCTb1GLQ/Fw5wsM9Y8DFFMPXt28ww=;
 b=CSwbt6i+qaBAWiXbxMZgv1orTBuayIhe0lcRXMJGtoZZjCsCX938RIY1StmA90SQdE
 UQyY3f8YOCcA2nASWEF7y32FELYtrglBQLSoHworCh4a4iVq9r7j4dhviWrhqkQjwLGg
 8W709KukooF6ORdBR5mhXorAyzbMaSGcaFOM9r4fuVAaA+2hP09KJ6wFAqctKt21Aoud
 m2ENO/d2NtbC2/2qxKTsDUOO+2HaH6cpAIAraCn51bSMava6yRSYCykFC0U7BU3SW2nq
 yMSpLjWUHpf1C5hSKV+jwaS+acHzt9AQXFKZ38gsXDTq49B3LzKJ0UPBs5Mm/aU5TbbR
 +tWQ==
X-Gm-Message-State: AOJu0Yzhor08eoYNKztBhWHM09+9CvOZKeNn4DcjG1BZjwgPibKxhwZ2
 Itthwo1y3C66Cq0JhNXLPFDlfGgojfGHe2y+omAR9GkoXa7bsC5c82lBsav5J24HkiLn0J/l4IU
 ShI9seQbiCE1yYqRVxQYcrG4odrE6pAPH3GjrdtT28pY37GMlTl9NHd2V
X-Google-Smtp-Source: AGHT+IHluAV4Quu/1g3HksS3dd/Oc1dftEDoFXNDwEqMncljRVtK5aE8nLqjJpUuU3FiKluhJsonFP+wzKTb
X-Received: by 2002:a05:6214:2a4b:b0:6b7:980b:e0ac with SMTP id
 6a1803df08f44-6bb55a57865mr136790956d6.32.1722348529361; 
 Tue, 30 Jul 2024 07:08:49 -0700 (PDT)
Received: from postal.iol.unh.edu (postal.iol.unh.edu.
 [2606:4100:3880:1234::84]) by smtp-relay.gmail.com with ESMTPS id
 6a1803df08f44-6bb3fab939asm5021286d6.67.2024.07.30.07.08.49
 (version=TLS1_2 cipher=ECDHE-ECDSA-AES128-GCM-SHA256 bits=128/128);
 Tue, 30 Jul 2024 07:08:49 -0700 (PDT)
X-Relaying-Domain: iol.unh.edu
Date: Tue, 30 Jul 2024 07:08:49 -0700 (PDT)
Message-ID: <66a8f3f1.050a0220.18dc0.c465SMTPIN_ADDED_MISSING@mx.google.com>
Received: from [172.21.0.6] (unknown [172.18.0.240])
 by postal.iol.unh.edu (Postfix) with ESMTP id 0D0EC6050A6B;
 Tue, 30 Jul 2024 10:08:49 -0400 (EDT)
Subject: |PENDING| pw142752 [PATCH] hash: separate param checks in hash creat
From: dpdklab@iol.unh.edu
To: Test Report <test-report@dpdk.org>
Cc: dpdk-test-reports@iol.unh.edu
In-Reply-To: <20240726145443.1058676-1-niall.meade@intel.com>
References: <20240726145443.1058676-1-niall.meade@intel.com>
Content-Type: text/plain
X-BeenThere: test-report@dpdk.org
X-Mailman-Version: 2.1.29
Precedence: list
List-Id: automatic DPDK test reports <test-report.dpdk.org>
List-Unsubscribe: <https://mails.dpdk.org/options/test-report>,
 <mailto:test-report-request@dpdk.org?subject=unsubscribe>
List-Archive: <http://mails.dpdk.org/archives/test-report/>
List-Post: <mailto:test-report@dpdk.org>
List-Help: <mailto:test-report-request@dpdk.org?subject=help>
List-Subscribe: <https://mails.dpdk.org/listinfo/test-report>,
 <mailto:test-report-request@dpdk.org?subject=subscribe>
Errors-To: test-report-bounces@dpdk.org

Test-Label: iol-unit-arm64-testing
Test-Status: PENDING
http://dpdk.org/patch/142752

_Testing pending_

Submitter: Niall Meade <niall.meade@intel.com>
Date: Friday, July 26 2024 14:54:43 
DPDK git baseline: Repo:dpdk
  Branch: master
  CommitID:4b5abe7ec1ed2d43a285599bbba23f62ac049d8f

142752 --> testing pending

Upstream job id: Generic-Unit-Test-DPDK#246281

Test environment and result as below:

+-----------------------------+----------------+--------------+------------------------------+---------------------------+
|         Environment         | dpdk_unit_test | lpm_autotest | cryptodev_sw_snow3g_autotest | cryptodev_sw_zuc_autotest |
+=============================+================+==============+==============================+===========================+
| 32-bit Ubuntu 20.04.4 (ARM) | PEND           | SKIPPED      | SKIPPED                      | SKIPPED                   |
+-----------------------------+----------------+--------------+------------------------------+---------------------------+
| CentOS Stream 9 (ARM)       | PASS           | SKIPPED      | SKIPPED                      | SKIPPED                   |
+-----------------------------+----------------+--------------+------------------------------+---------------------------+
| Debian 11 (Buster) (ARM)    | PEND           | SKIPPED      | SKIPPED                      | SKIPPED                   |
+-----------------------------+----------------+--------------+------------------------------+---------------------------+
| Debian 12 (arm)             | PEND           | SKIPPED      | PASS                         | PASS                      |
+-----------------------------+----------------+--------------+------------------------------+---------------------------+
| Fedora 38 (ARM)             | PEND           | SKIPPED      | SKIPPED                      | SKIPPED                   |
+-----------------------------+----------------+--------------+------------------------------+---------------------------+
| Fedora 37 (ARM)             | PEND           | SKIPPED      | SKIPPED                      | SKIPPED                   |
+-----------------------------+----------------+--------------+------------------------------+---------------------------+
| Fedora 38 (ARM Clang)       | PEND           | SKIPPED      | SKIPPED                      | SKIPPED                   |
+-----------------------------+----------------+--------------+------------------------------+---------------------------+
| Fedora 39 (ARM)             | PEND           | SKIPPED      | SKIPPED                      | SKIPPED                   |
+-----------------------------+----------------+--------------+------------------------------+---------------------------+
| Fedora 39 (ARM Clang)       | PEND           | SKIPPED      | SKIPPED                      | SKIPPED                   |
+-----------------------------+----------------+--------------+------------------------------+---------------------------+
| Fedora 40 (ARM)             | PEND           | SKIPPED      | SKIPPED                      | SKIPPED                   |
+-----------------------------+----------------+--------------+------------------------------+---------------------------+
| Ubuntu 20.04 ARM SVE        | SKIPPED        | PEND         | SKIPPED                      | SKIPPED                   |
+-----------------------------+----------------+--------------+------------------------------+---------------------------+


32-bit Ubuntu 20.04.4 (ARM)
	Kernel: 5.4.0-155-generic aarch64
	Compiler: gcc 9.4

CentOS Stream 9 (ARM)
	Kernel: Container Host Kernel
	Compiler: gcc 11.4.1

Debian 11 (Buster) (ARM)
	Kernel: Container Host Kernel
	Compiler: gcc 10.2.1

Debian 12 (arm)
	Kernel: Container Host Kernel
	Compiler: gcc 12.2.0

Fedora 38 (ARM)
	Kernel: Depends on container host
	Compiler: gcc 13.2.1

Fedora 37 (ARM)
	Kernel: Depends on container host
	Compiler: gcc 12.3.1

Fedora 38 (ARM Clang)
	Kernel: Depends on container host
	Compiler: clang 16.0.6

Fedora 39 (ARM)
	Kernel: Depends on container host
	Compiler: gcc 13.2.1

Fedora 39 (ARM Clang)
	Kernel: Depends on container host
	Compiler: clang 17.0.6

Fedora 40 (ARM)
	Kernel: Depends on container host
	Compiler: gcc 14.1.1

Ubuntu 20.04 ARM SVE
	Kernel: 5.4.0-167-generic
	Compiler: gcc (Ubuntu 10.5.0-1ubuntu1~20.04) 10.5.0

To view detailed results, visit:
https://lab.dpdk.org/results/dashboard/patchsets/30648/

UNH-IOL DPDK Community Lab

To manage your email subscriptions, visit: 
https://lab.dpdk.org/results/dashboard/preferences/subscriptions/