From mboxrd@z Thu Jan  1 00:00:00 1970
Return-Path: <test-report-bounces@dpdk.org>
Received: from mails.dpdk.org (mails.dpdk.org [217.70.189.124])
	by inbox.dpdk.org (Postfix) with ESMTP id C5AB6456F4
	for <public@inbox.dpdk.org>; Tue, 30 Jul 2024 17:54:44 +0200 (CEST)
Received: from mails.dpdk.org (localhost [127.0.0.1])
	by mails.dpdk.org (Postfix) with ESMTP id 4410C40E54;
	Tue, 30 Jul 2024 17:54:40 +0200 (CEST)
Received: from mail-il1-f226.google.com (mail-il1-f226.google.com
 [209.85.166.226])
 by mails.dpdk.org (Postfix) with ESMTP id 23272402EB
 for <test-report@dpdk.org>; Tue, 30 Jul 2024 17:34:36 +0200 (CEST)
Received: by mail-il1-f226.google.com with SMTP id
 e9e14a558f8ab-39641271f2aso18360245ab.3
 for <test-report@dpdk.org>; Tue, 30 Jul 2024 08:34:36 -0700 (PDT)
DKIM-Signature: v=1; a=rsa-sha256; c=relaxed/relaxed;
 d=iol.unh.edu; s=unh-iol; t=1722353675; x=1722958475; darn=dpdk.org;
 h=references:in-reply-to:cc:to:from:subject:message-id:date:from:to
 :cc:subject:date:message-id:reply-to;
 bh=/4VnVnyPqQYQsW31VHHfAPvaRBvu6TH+H6ecIgT384c=;
 b=VvVQ8svOkSbW1M5yrSAAVa4EDCq2ILcCac0MAixqSffTJY6AWogXSwMREL8o+P1T/g
 /2tiT3261tdShzn8jNG5G7vja8kp5k5vuA+7B/d+uSKos74ic+0JITs0usTG7dBytDxs
 CpkCIkESQ6hkjpZsuMVupU8dBrm7cdzHYF01U=
X-Google-DKIM-Signature: v=1; a=rsa-sha256; c=relaxed/relaxed;
 d=1e100.net; s=20230601; t=1722353675; x=1722958475;
 h=references:in-reply-to:cc:to:from:subject:message-id:date
 :x-gm-message-state:from:to:cc:subject:date:message-id:reply-to;
 bh=/4VnVnyPqQYQsW31VHHfAPvaRBvu6TH+H6ecIgT384c=;
 b=kP2Fl/eqxWP6YYdKnFed6fci0AYQjwX/XW+EWd8/BKAJRAHamPDUQRQRl0HuCtql2w
 CQQCjU/LJdUsaeaJGfSikzdLkSyXEGyWkZANXuNshV76VRLLnU+5RRuEQBeERAY5+rY1
 yL2VmJOM/bEDAoymvJkBnOvAd0Pok+rOwEh4POorInX3MCwARUXVZL8K19iG/Seotcw0
 ygISyXQ7AMJL5BDZ87FKU9B952pmQ5hLk1dfM6neaMrLczhY0vZLZglscgkHkdHNi4cy
 Tv7zkaYtE5LYXjWZjJrw+Pw9b01P00HN4ySqksplcbtYyawWveHn6V8eJXtGTgo1U5vX
 ENfA==
X-Gm-Message-State: AOJu0Yw+ZiNJTf10UyPobdZeRDf3lXRafsoowzoC9glR2z8UGN8dmBeb
 XhB47yadSg1Xl+0tZu72sJ4uAmXJgZvrz3oSZbQ6c4xlaz3zDa+8oZyTE6CCIqS1IfkstnxL4zR
 K/IIqsjsKdT2Xv8r72/52MuIMgYist9/SZCYr6jfi
X-Google-Smtp-Source: AGHT+IGz4+xxJE3+A4wli9T+j4Yvd3Y689R4Tyfx1BKKlKgpIMegm3NkzcCHpBbKRYgAs4gAFMtT2Mkm061w
X-Received: by 2002:a92:c26e:0:b0:396:e8b8:88f with SMTP id
 e9e14a558f8ab-39aec4101c1mr132318845ab.18.1722353675465; 
 Tue, 30 Jul 2024 08:34:35 -0700 (PDT)
Received: from postal.iol.unh.edu (postal.iol.unh.edu. [132.177.123.84])
 by smtp-relay.gmail.com with ESMTPS id
 e9e14a558f8ab-39b0c01aaa1sm295195ab.55.2024.07.30.08.34.35
 (version=TLS1_2 cipher=ECDHE-ECDSA-AES128-GCM-SHA256 bits=128/128);
 Tue, 30 Jul 2024 08:34:35 -0700 (PDT)
X-Relaying-Domain: iol.unh.edu
Date: Tue, 30 Jul 2024 08:34:35 -0700 (PDT)
Message-ID: <66a9080b.050a0220.d83eb.1badSMTPIN_ADDED_MISSING@mx.google.com>
Received: from [172.21.0.7] (unknown [172.18.0.240])
 by postal.iol.unh.edu (Postfix) with ESMTP id 1EE766050A6B;
 Tue, 30 Jul 2024 11:34:35 -0400 (EDT)
Subject: |PENDING| pw142757 [PATCH] [v1] net/cpfl: fix invalid action types
From: dpdklab@iol.unh.edu
To: Test Report <test-report@dpdk.org>
Cc: dpdk-test-reports@iol.unh.edu
In-Reply-To: <20240730114540.1048785-1-praveen.shetty@intel.com>
References: <20240730114540.1048785-1-praveen.shetty@intel.com>
Content-Type: text/plain
X-BeenThere: test-report@dpdk.org
X-Mailman-Version: 2.1.29
Precedence: list
List-Id: automatic DPDK test reports <test-report.dpdk.org>
List-Unsubscribe: <https://mails.dpdk.org/options/test-report>,
 <mailto:test-report-request@dpdk.org?subject=unsubscribe>
List-Archive: <http://mails.dpdk.org/archives/test-report/>
List-Post: <mailto:test-report@dpdk.org>
List-Help: <mailto:test-report-request@dpdk.org?subject=help>
List-Subscribe: <https://mails.dpdk.org/listinfo/test-report>,
 <mailto:test-report-request@dpdk.org?subject=subscribe>
Errors-To: test-report-bounces@dpdk.org

Test-Label: iol-compile-amd64-testing
Test-Status: PENDING
http://dpdk.org/patch/142757

_Testing pending_

Submitter: Praveen Shetty <praveen.shetty@intel.com>
Date: Tuesday, July 30 2024 11:45:40 
DPDK git baseline: Repo:dpdk
  Branch: master
  CommitID:3b017bdc4c25e2cd6733a9363e9c566b95834cc4

142757 --> testing pending

Upstream job id: Generic-VM-DPDK-Compile-Meson#28357

Test environment and result as below:

+---------------------+--------------------+------------------+-------------------+-------------------+----------------------+
|     Environment     | dpdk_meson_compile | dpdk_compile_ovs | dpdk_compile_spdk | dpdk_msvc_compile | dpdk_mingw64_compile |
+=====================+====================+==================+===================+===================+======================+
| CentOS Stream 8     | PEND               | PEND             | PEND              | SKIPPED           | SKIPPED              |
+---------------------+--------------------+------------------+-------------------+-------------------+----------------------+
| CentOS Stream 9     | PEND               | PEND             | PEND              | SKIPPED           | SKIPPED              |
+---------------------+--------------------+------------------+-------------------+-------------------+----------------------+
| Debian Bullseye     | PEND               | PEND             | PEND              | SKIPPED           | SKIPPED              |
+---------------------+--------------------+------------------+-------------------+-------------------+----------------------+
| Fedora 37           | PEND               | PEND             | PEND              | SKIPPED           | SKIPPED              |
+---------------------+--------------------+------------------+-------------------+-------------------+----------------------+
| Fedora 38 (Clang)   | PEND               | PEND             | PEND              | SKIPPED           | SKIPPED              |
+---------------------+--------------------+------------------+-------------------+-------------------+----------------------+
| Debian 12           | PEND               | PEND             | PEND              | SKIPPED           | SKIPPED              |
+---------------------+--------------------+------------------+-------------------+-------------------+----------------------+
| Fedora 38           | PEND               | PEND             | PEND              | SKIPPED           | SKIPPED              |
+---------------------+--------------------+------------------+-------------------+-------------------+----------------------+
| Fedora 39           | PEND               | PEND             | PEND              | SKIPPED           | SKIPPED              |
+---------------------+--------------------+------------------+-------------------+-------------------+----------------------+
| Fedora 40 (Clang)   | PEND               | PEND             | PEND              | SKIPPED           | SKIPPED              |
+---------------------+--------------------+------------------+-------------------+-------------------+----------------------+
| Fedora 39 (Clang)   | PEND               | PEND             | PEND              | SKIPPED           | SKIPPED              |
+---------------------+--------------------+------------------+-------------------+-------------------+----------------------+
| Fedora 40           | PEND               | PEND             | PEND              | SKIPPED           | SKIPPED              |
+---------------------+--------------------+------------------+-------------------+-------------------+----------------------+
| openSUSE Leap 15    | PEND               | PEND             | SKIPPED           | SKIPPED           | SKIPPED              |
+---------------------+--------------------+------------------+-------------------+-------------------+----------------------+
| RHEL8               | PEND               | PEND             | SKIPPED           | SKIPPED           | SKIPPED              |
+---------------------+--------------------+------------------+-------------------+-------------------+----------------------+
| RHEL9               | PEND               | PEND             | SKIPPED           | SKIPPED           | SKIPPED              |
+---------------------+--------------------+------------------+-------------------+-------------------+----------------------+
| Ubuntu 20.04        | PEND               | PEND             | SKIPPED           | SKIPPED           | SKIPPED              |
+---------------------+--------------------+------------------+-------------------+-------------------+----------------------+
| Ubuntu 22.04        | PEND               | PEND             | PEND              | SKIPPED           | SKIPPED              |
+---------------------+--------------------+------------------+-------------------+-------------------+----------------------+
| Ubuntu 24.04        | PEND               | PEND             | PEND              | SKIPPED           | SKIPPED              |
+---------------------+--------------------+------------------+-------------------+-------------------+----------------------+
| Windows Server 2019 | PASS               | SKIPPED          | SKIPPED           | SKIPPED           | PASS                 |
+---------------------+--------------------+------------------+-------------------+-------------------+----------------------+
| Alpine              | PEND               | PEND             | SKIPPED           | SKIPPED           | SKIPPED              |
+---------------------+--------------------+------------------+-------------------+-------------------+----------------------+
| Windows Server 2022 | PASS               | SKIPPED          | SKIPPED           | PASS              | PASS                 |
+---------------------+--------------------+------------------+-------------------+-------------------+----------------------+
| FreeBSD 13.3        | PASS               | SKIPPED          | SKIPPED           | SKIPPED           | SKIPPED              |
+---------------------+--------------------+------------------+-------------------+-------------------+----------------------+
| FreeBSD 14.1        | PASS               | SKIPPED          | SKIPPED           | SKIPPED           | SKIPPED              |
+---------------------+--------------------+------------------+-------------------+-------------------+----------------------+


CentOS Stream 8
	Kernel: 5.4.0-167-generic
	Compiler: gcc 8.5.0 20210514

CentOS Stream 9
	Kernel: 5.4.0-167-generic
	Compiler: gcc 11.4.1 20230605

Debian Bullseye
	Kernel: 5.4.0-167-generic
	Compiler: gcc 10.2.1-6

Fedora 37
	Kernel: Depends on container host system
	Compiler: gcc 12.3.1

Fedora 38 (Clang)
	Kernel: Depends on container host
	Compiler: clang 16.0.6

Debian 12
	Kernel: Container Host Kernel
	Compiler: gcc 12.2.0

Fedora 38
	Kernel: Depends on container host
	Compiler: gcc 13.2.1

Fedora 39
	Kernel: Depends on container host
	Compiler: gcc 13.2.1

Fedora 40 (Clang)
	Kernel: Depends on container host
	Compiler: clang 18.1.6

Fedora 39 (Clang)
	Kernel: Depends on container host
	Compiler: clang 17.0.6

Fedora 40
	Kernel: Depends on container host
	Compiler: gcc 14.1.1

openSUSE Leap 15
	Kernel: 5.4.0-167-generic
	Compiler: gcc 7.5.0

RHEL8
	Kernel: 5.4.0-167-generic
	Compiler: gcc 8.5.0 20210514 (Red Hat 8.5.0-20)

RHEL9
	Kernel: Depends on container host
	Compiler: gcc 11.4.1

Ubuntu 20.04
	Kernel: 5.4.0-167-generic
	Compiler: gcc 9.4.0-1ubuntu1~20.04.1

Ubuntu 22.04
	Kernel: 5.4.0-167-generic
	Compiler: gcc 11.4.0

Ubuntu 24.04
	Kernel: 5.4.0-167-generic
	Compiler: gcc 13.2.0

Windows Server 2019
	Kernel: 10.0.17763
	Compiler: clang 14.0 and gcc 8.1.0 (MinGW)

Alpine
	Kernel: 5.4.0-167-generic
	Compiler: gcc (Alpine 13.2.1_git20231014) 13.2.1 20231014

Windows Server 2022
	Kernel: 10.0.20348.2031
	Compiler: clang 15.0.7, gcc 8.1.0 (MinGW), and MSVC VS 17.9

FreeBSD 13.3
	Kernel: 13.3-RELEASE-p1
	Compiler: clang 17.0.6

FreeBSD 14.1
	Kernel: 14.1
	Compiler: clang 18.1.5

To view detailed results, visit:
https://lab.dpdk.org/results/dashboard/patchsets/30652/

UNH-IOL DPDK Community Lab

To manage your email subscriptions, visit: 
https://lab.dpdk.org/results/dashboard/preferences/subscriptions/