From mboxrd@z Thu Jan  1 00:00:00 1970
Return-Path: <test-report-bounces@dpdk.org>
Received: from mails.dpdk.org (mails.dpdk.org [217.70.189.124])
	by inbox.dpdk.org (Postfix) with ESMTP id 5FCC7456F5
	for <public@inbox.dpdk.org>; Tue, 30 Jul 2024 19:13:08 +0200 (CEST)
Received: from mails.dpdk.org (localhost [127.0.0.1])
	by mails.dpdk.org (Postfix) with ESMTP id D58FB406BB;
	Tue, 30 Jul 2024 19:13:07 +0200 (CEST)
Received: from mail-il1-f225.google.com (mail-il1-f225.google.com
 [209.85.166.225])
 by mails.dpdk.org (Postfix) with ESMTP id 4D213402EB
 for <test-report@dpdk.org>; Tue, 30 Jul 2024 19:09:24 +0200 (CEST)
Received: by mail-il1-f225.google.com with SMTP id
 e9e14a558f8ab-396e2d21812so21757365ab.2
 for <test-report@dpdk.org>; Tue, 30 Jul 2024 10:09:24 -0700 (PDT)
DKIM-Signature: v=1; a=rsa-sha256; c=relaxed/relaxed;
 d=iol.unh.edu; s=unh-iol; t=1722359363; x=1722964163; darn=dpdk.org;
 h=references:in-reply-to:cc:to:from:subject:message-id:date:from:to
 :cc:subject:date:message-id:reply-to;
 bh=V62ZmOrvLAYmQF+bVIhIc8kcPSru2sKT5jUMULA2o5s=;
 b=O7ccrItIBCuOjeiX+vOAzJuC7I5np70p+MieMo3X96h/kJm3nNXVj0m70668tg1ZjO
 +xiqzksmivxjuC8lwGfE6jTbHriURbCZhLkqvliaUlLFmbfA+9kbnYKW+LyrHDKNPsHw
 EYKNjVYa0kWmr6OQreJ6CI7tcufBQaATQIXf4=
X-Google-DKIM-Signature: v=1; a=rsa-sha256; c=relaxed/relaxed;
 d=1e100.net; s=20230601; t=1722359363; x=1722964163;
 h=references:in-reply-to:cc:to:from:subject:message-id:date
 :x-gm-message-state:from:to:cc:subject:date:message-id:reply-to;
 bh=V62ZmOrvLAYmQF+bVIhIc8kcPSru2sKT5jUMULA2o5s=;
 b=WI3wMdGw4Kh/HDEMl3CTseCp/UsOVjt2C9tHBHgI7UXrhwi/eXsgMNuXj0phxjVqNa
 ILzMQqaUFWCuQn/Gya4U87r4XfONJ7F0XeXh7ECVgTC0wI5hvyfVD4/By72D2TENmP31
 JRJ+/5ezkCWKteJgUpkPl0u6HKlDFuIcq1juxNHalTwiRlgABHi+j/6hyKrGHYapV8Dd
 VszMv9jkc6Ajs/mEiba5Nctynz0zgxWDHqr/6zVpStPO/NDDCbcVSRFKA/3yublIQhrO
 xrTDYAQOBOePg6Ex7UtF6XV6r43HhDygorxLA+tH7LbgnHmKj9UB2V7B9qoHFVkTmOhh
 M8GA==
X-Gm-Message-State: AOJu0YyuKeibb6SWbTYAExSbq4i+/92PzSM5XbqymQXsCQQhQGTanxVq
 TkBrw+YcD9WLZ97P8b19TiklL1j7/Q/2RUeJN+1nySQ1sU7nZe/SlNCpGBGfZGObQHIUW7VGzti
 DtB/YyvDZWrbARTK9ui6Izv1EmYMaH8j8qeXbbK2D3sVjUCO2ptKNcNxh
X-Google-Smtp-Source: AGHT+IFyDPItkrHc3PAyAOzKkbE9CWe/ptvU/JS2ZH67BOysQqbkp5MO3R5bY714nvoPwjbybSZgVxj7Btxo
X-Received: by 2002:a05:6e02:1b09:b0:39b:936:83b3 with SMTP id
 e9e14a558f8ab-39b09368579mr22676255ab.9.1722359363345; 
 Tue, 30 Jul 2024 10:09:23 -0700 (PDT)
Received: from postal.iol.unh.edu (postal.iol.unh.edu.
 [2606:4100:3880:1234::84]) by smtp-relay.gmail.com with ESMTPS id
 e9e14a558f8ab-39a22e99e67sm6909035ab.26.2024.07.30.10.09.23
 (version=TLS1_2 cipher=ECDHE-ECDSA-AES128-GCM-SHA256 bits=128/128);
 Tue, 30 Jul 2024 10:09:23 -0700 (PDT)
X-Relaying-Domain: iol.unh.edu
Date: Tue, 30 Jul 2024 10:09:23 -0700 (PDT)
Message-ID: <66a91e43.050a0220.18cac0.6769SMTPIN_ADDED_MISSING@mx.google.com>
Received: from [172.21.0.6] (unknown [172.18.0.240])
 by postal.iol.unh.edu (Postfix) with ESMTP id CCD84605C351;
 Tue, 30 Jul 2024 13:09:22 -0400 (EDT)
Subject: |SUCCESS| pw142757 [PATCH] [v1] net/cpfl: fix invalid action types
From: dpdklab@iol.unh.edu
To: Test Report <test-report@dpdk.org>
Cc: dpdk-test-reports@iol.unh.edu
In-Reply-To: <20240730114540.1048785-1-praveen.shetty@intel.com>
References: <20240730114540.1048785-1-praveen.shetty@intel.com>
Content-Type: text/plain
X-BeenThere: test-report@dpdk.org
X-Mailman-Version: 2.1.29
Precedence: list
List-Id: automatic DPDK test reports <test-report.dpdk.org>
List-Unsubscribe: <https://mails.dpdk.org/options/test-report>,
 <mailto:test-report-request@dpdk.org?subject=unsubscribe>
List-Archive: <http://mails.dpdk.org/archives/test-report/>
List-Post: <mailto:test-report@dpdk.org>
List-Help: <mailto:test-report-request@dpdk.org?subject=help>
List-Subscribe: <https://mails.dpdk.org/listinfo/test-report>,
 <mailto:test-report-request@dpdk.org?subject=subscribe>
Errors-To: test-report-bounces@dpdk.org

Test-Label: iol-compile-arm64-testing
Test-Status: SUCCESS
http://dpdk.org/patch/142757

_Testing PASS_

Submitter: Praveen Shetty <praveen.shetty@intel.com>
Date: Tuesday, July 30 2024 11:45:40 
DPDK git baseline: Repo:dpdk
  Branch: master
  CommitID:3b017bdc4c25e2cd6733a9363e9c566b95834cc4

142757 --> testing pass

Upstream job id: Generic-DPDK-Compile-Meson#281653

Test environment and result as below:

+----------------------------------------+--------------------+
|              Environment               | dpdk_meson_compile |
+========================================+====================+
| RHEL9 (ARM)                            | PASS               |
+----------------------------------------+--------------------+
| Ubuntu 20.04 ARM GCC Cross Compile     | PASS               |
+----------------------------------------+--------------------+
| Ubuntu 20.04 ARM SVE                   | PASS               |
+----------------------------------------+--------------------+
| Debian 12 with MUSDK                   | PASS               |
+----------------------------------------+--------------------+
| Fedora 38 (ARM Clang)                  | PASS               |
+----------------------------------------+--------------------+
| Fedora 39 (ARM)                        | PASS               |
+----------------------------------------+--------------------+
| Fedora 38 (ARM)                        | PASS               |
+----------------------------------------+--------------------+
| Fedora 37 (ARM)                        | PASS               |
+----------------------------------------+--------------------+
| Fedora 39 (ARM Clang)                  | PASS               |
+----------------------------------------+--------------------+
| Fedora 40 (ARM)                        | PASS               |
+----------------------------------------+--------------------+
| Fedora 40 (ARM Clang)                  | PASS               |
+----------------------------------------+--------------------+
| Ubuntu 20.04 (ARM)                     | PASS               |
+----------------------------------------+--------------------+
| Debian 12 (arm)                        | PASS               |
+----------------------------------------+--------------------+
| Ubuntu 22.04 (ARM)                     | PASS               |
+----------------------------------------+--------------------+
| Ubuntu 24.04 (ARM)                     | PASS               |
+----------------------------------------+--------------------+
| CentOS Stream 9 (ARM)                  | PASS               |
+----------------------------------------+--------------------+
| Debian 11 (Buster) (ARM)               | PASS               |
+----------------------------------------+--------------------+
| Ubuntu 20.04 ARM Clang Cross Compile   | PASS               |
+----------------------------------------+--------------------+
| Ubuntu 20.04 aarch32 GCC Cross Compile | PASS               |
+----------------------------------------+--------------------+


RHEL9 (ARM)
	Kernel: Depends on container host
	Compiler: gcc 11.4.1

Ubuntu 20.04 ARM GCC Cross Compile
	Kernel: 5.4.0-167-generic
	Compiler: aarch64-linux-gnu-gcc (Ubuntu 9.4.0-1ubuntu1~20.04.2) 9.4.0

Ubuntu 20.04 ARM SVE
	Kernel: 5.4.0-167-generic
	Compiler: gcc (Ubuntu 10.5.0-1ubuntu1~20.04) 10.5.0

Debian 12 with MUSDK
	Kernel: Container Host Kernel
	Compiler: gcc 12.2.0

Fedora 38 (ARM Clang)
	Kernel: Depends on container host
	Compiler: clang 16.0.6

Fedora 39 (ARM)
	Kernel: Depends on container host
	Compiler: gcc 13.2.1

Fedora 38 (ARM)
	Kernel: Depends on container host
	Compiler: gcc 13.2.1

Fedora 37 (ARM)
	Kernel: Depends on container host
	Compiler: gcc 12.3.1

Fedora 39 (ARM Clang)
	Kernel: Depends on container host
	Compiler: clang 17.0.6

Fedora 40 (ARM)
	Kernel: Depends on container host
	Compiler: gcc 14.1.1

Fedora 40 (ARM Clang)
	Kernel: Depends on container host
	Compiler: clang 18.1.6

Ubuntu 20.04 (ARM)
	Kernel: Container Host Kernel
	Compiler: gcc 9.4.0

Debian 12 (arm)
	Kernel: Container Host Kernel
	Compiler: gcc 12.2.0

Ubuntu 22.04 (ARM)
	Kernel: Container Host Kernel
	Compiler: gcc 11.4.0

Ubuntu 24.04 (ARM)
	Kernel: 5.4.0-167-generic
	Compiler: gcc 13.2.0

CentOS Stream 9 (ARM)
	Kernel: Container Host Kernel
	Compiler: gcc 11.4.1

Debian 11 (Buster) (ARM)
	Kernel: Container Host Kernel
	Compiler: gcc 10.2.1

Ubuntu 20.04 ARM Clang Cross Compile
	Kernel: 5.4.0-72-generic
	Compiler: clang 10.0.0-4ubuntu1

Ubuntu 20.04 aarch32 GCC Cross Compile
	Kernel: 5.4.0-167-generic
	Compiler: gcc 9.4.0

To view detailed results, visit:
https://lab.dpdk.org/results/dashboard/patchsets/30652/

UNH-IOL DPDK Community Lab

To manage your email subscriptions, visit: 
https://lab.dpdk.org/results/dashboard/preferences/subscriptions/