From mboxrd@z Thu Jan  1 00:00:00 1970
Return-Path: <test-report-bounces@dpdk.org>
Received: from mails.dpdk.org (mails.dpdk.org [217.70.189.124])
	by inbox.dpdk.org (Postfix) with ESMTP id D9BE7456F5
	for <public@inbox.dpdk.org>; Tue, 30 Jul 2024 19:47:47 +0200 (CEST)
Received: from mails.dpdk.org (localhost [127.0.0.1])
	by mails.dpdk.org (Postfix) with ESMTP id 636A040E41;
	Tue, 30 Jul 2024 19:47:47 +0200 (CEST)
Received: from mail-il1-f225.google.com (mail-il1-f225.google.com
 [209.85.166.225])
 by mails.dpdk.org (Postfix) with ESMTP id 7B69D402A9
 for <test-report@dpdk.org>; Tue, 30 Jul 2024 19:35:13 +0200 (CEST)
Received: by mail-il1-f225.google.com with SMTP id
 e9e14a558f8ab-3738690172eso22837605ab.1
 for <test-report@dpdk.org>; Tue, 30 Jul 2024 10:35:13 -0700 (PDT)
DKIM-Signature: v=1; a=rsa-sha256; c=relaxed/relaxed;
 d=iol.unh.edu; s=unh-iol; t=1722360913; x=1722965713; darn=dpdk.org;
 h=references:in-reply-to:cc:to:from:subject:message-id:date:from:to
 :cc:subject:date:message-id:reply-to;
 bh=dzLeanlp/FLNwmPMX3EEKIqzdLcg0DaNnvgewX3UkhQ=;
 b=CvfRBAmqdPIx2rWNBAufeoUDVbotL2+NTsJ9tZfaqmWkB6wxCkWiWDuh4C7JMZdI4p
 FEfLLK/9MbdrsDMbheEYuJQdKQO2Tm0VsQoWZ7S+l65yQlWgA+jSNYnRcu3fkUkGIZ1I
 I/De0bTRIyN+u6GoOSlHd/Sy7zzHJbJEO4VRc=
X-Google-DKIM-Signature: v=1; a=rsa-sha256; c=relaxed/relaxed;
 d=1e100.net; s=20230601; t=1722360913; x=1722965713;
 h=references:in-reply-to:cc:to:from:subject:message-id:date
 :x-gm-message-state:from:to:cc:subject:date:message-id:reply-to;
 bh=dzLeanlp/FLNwmPMX3EEKIqzdLcg0DaNnvgewX3UkhQ=;
 b=YUIG5xpT1XEJ9w9OS5I4x9b/4njy0bLF/Hx6PlVATZ4VVT+S0SRhqLOou8GyA6NtV8
 stkL40xVTExvGjcO4RcJBmRSaui6kpJsPFt0cln9igWSOObjH6QGDSIlel6OMKOZBAQR
 Bimcm9sjv3KzCIcJyQRbg18upuaDREhYzp+1S+Fdjanng2lmYgLRubhyLgljppwO65Ht
 DjTAxjTmrTkEN4PJD5H+Nwjp4JqybJKuaqoo0CLRHUN/8CdHLRzrpf8UDhnSSOv0jYZZ
 F+jVu3Iz6SyUAmkw35mugwqJgWHdBJUGhD6XfIRgV5La0L18tDYhOuE77PBaULjeCFN9
 BpcA==
X-Gm-Message-State: AOJu0YwSY1N1mSkDNrgsHbNSTipGF72iycg+WtJvywuYFbUJo8p4gruM
 Zxw0li6fS3b3uaQLOGn/oCter4KDOTkBGjZGwz6c+Mp8E0vUyodIhOT6dl+0aLtr4Zc1bVfpcOu
 y1DSasXyPBIMtcUd1uZozj314fOZjTdmjKBJ7zkLN
X-Google-Smtp-Source: AGHT+IHNI2WVHkXdcoG6DK3vmd6uCJE5nhY00/EC46A2BBRYVBaoPTM4KycC7EBFPEEnaC6BT6AeCoq9RqaQ
X-Received: by 2002:a05:6e02:2198:b0:39a:ea4c:2982 with SMTP id
 e9e14a558f8ab-39aec2d8ce2mr154254035ab.10.1722360912775; 
 Tue, 30 Jul 2024 10:35:12 -0700 (PDT)
Received: from postal.iol.unh.edu (postal.iol.unh.edu. [132.177.123.84])
 by smtp-relay.gmail.com with ESMTPS id
 8926c6da1cb9f-4c29fc35b4esm301061173.71.2024.07.30.10.35.12
 (version=TLS1_2 cipher=ECDHE-ECDSA-AES128-GCM-SHA256 bits=128/128);
 Tue, 30 Jul 2024 10:35:12 -0700 (PDT)
X-Relaying-Domain: iol.unh.edu
Date: Tue, 30 Jul 2024 10:35:12 -0700 (PDT)
Message-ID: <66a92450.050a0220.24e1d2.22a6SMTPIN_ADDED_MISSING@mx.google.com>
Received: from [172.21.0.6] (unknown [172.18.0.240])
 by postal.iol.unh.edu (Postfix) with ESMTP id 4AD10605C351;
 Tue, 30 Jul 2024 13:35:12 -0400 (EDT)
Subject: |PENDING| pw142759-142760 [PATCH] [v2,2/2] examples/l3fwd: fix read 
From: dpdklab@iol.unh.edu
To: Test Report <test-report@dpdk.org>
Cc: dpdk-test-reports@iol.unh.edu
In-Reply-To: <20240730122235.1084-3-konstantin.v.ananyev@yandex.ru>
References: <20240730122235.1084-3-konstantin.v.ananyev@yandex.ru>
Content-Type: text/plain
X-BeenThere: test-report@dpdk.org
X-Mailman-Version: 2.1.29
Precedence: list
List-Id: automatic DPDK test reports <test-report.dpdk.org>
List-Unsubscribe: <https://mails.dpdk.org/options/test-report>,
 <mailto:test-report-request@dpdk.org?subject=unsubscribe>
List-Archive: <http://mails.dpdk.org/archives/test-report/>
List-Post: <mailto:test-report@dpdk.org>
List-Help: <mailto:test-report-request@dpdk.org?subject=help>
List-Subscribe: <https://mails.dpdk.org/listinfo/test-report>,
 <mailto:test-report-request@dpdk.org?subject=subscribe>
Errors-To: test-report-bounces@dpdk.org

Test-Label: iol-abi-testing
Test-Status: PENDING
http://dpdk.org/patch/142760

_Testing pending_

Submitter: Konstantin Ananyev <konstantin.v.ananyev@yandex.ru>
Date: Tuesday, July 30 2024 12:22:35 
DPDK git baseline: Repo:dpdk
  Branch: master
  CommitID:4b5abe7ec1ed2d43a285599bbba23f62ac049d8f

142759-142760 --> testing pending

Upstream job id: Generic-DPDK-Compile-ABI#100937

Test environment and result as below:

+-------------------+----------+
|    Environment    | abi_test |
+===================+==========+
| CentOS Stream 8   | PASS     |
+-------------------+----------+
| CentOS Stream 9   | PEND     |
+-------------------+----------+
| Debian Bullseye   | PASS     |
+-------------------+----------+
| Debian 12         | PEND     |
+-------------------+----------+
| Fedora 37         | PEND     |
+-------------------+----------+
| Fedora 38         | PEND     |
+-------------------+----------+
| Fedora 38 (Clang) | PEND     |
+-------------------+----------+
| Fedora 39         | PASS     |
+-------------------+----------+
| Fedora 39 (Clang) | PEND     |
+-------------------+----------+
| Fedora 40 (Clang) | PEND     |
+-------------------+----------+
| Fedora 40         | PASS     |
+-------------------+----------+
| openSUSE Leap 15  | PEND     |
+-------------------+----------+
| RHEL8             | PASS     |
+-------------------+----------+
| RHEL9             | PEND     |
+-------------------+----------+
| Ubuntu 22.04      | PEND     |
+-------------------+----------+
| Ubuntu 24.04      | PEND     |
+-------------------+----------+


CentOS Stream 8
	Kernel: 5.4.0-167-generic
	Compiler: gcc 8.5.0 20210514

CentOS Stream 9
	Kernel: 5.4.0-167-generic
	Compiler: gcc 11.4.1 20230605

Debian Bullseye
	Kernel: 5.4.0-167-generic
	Compiler: gcc 10.2.1-6

Debian 12
	Kernel: Container Host Kernel
	Compiler: gcc 12.2.0

Fedora 37
	Kernel: Depends on container host system
	Compiler: gcc 12.3.1

Fedora 38
	Kernel: Depends on container host
	Compiler: gcc 13.2.1

Fedora 38 (Clang)
	Kernel: Depends on container host
	Compiler: clang 16.0.6

Fedora 39
	Kernel: Depends on container host
	Compiler: gcc 13.2.1

Fedora 39 (Clang)
	Kernel: Depends on container host
	Compiler: clang 17.0.6

Fedora 40 (Clang)
	Kernel: Depends on container host
	Compiler: clang 18.1.6

Fedora 40
	Kernel: Depends on container host
	Compiler: gcc 14.1.1

openSUSE Leap 15
	Kernel: 5.4.0-167-generic
	Compiler: gcc 7.5.0

RHEL8
	Kernel: 5.4.0-167-generic
	Compiler: gcc 8.5.0 20210514 (Red Hat 8.5.0-20)

RHEL9
	Kernel: Depends on container host
	Compiler: gcc 11.4.1

Ubuntu 22.04
	Kernel: 5.4.0-167-generic
	Compiler: gcc 11.4.0

Ubuntu 24.04
	Kernel: 5.4.0-167-generic
	Compiler: gcc 13.2.0

To view detailed results, visit:
https://lab.dpdk.org/results/dashboard/patchsets/30654/

UNH-IOL DPDK Community Lab

To manage your email subscriptions, visit: 
https://lab.dpdk.org/results/dashboard/preferences/subscriptions/