From mboxrd@z Thu Jan  1 00:00:00 1970
Return-Path: <test-report-bounces@dpdk.org>
Received: from mails.dpdk.org (mails.dpdk.org [217.70.189.124])
	by inbox.dpdk.org (Postfix) with ESMTP id 7892B456F8
	for <public@inbox.dpdk.org>; Tue, 30 Jul 2024 20:39:09 +0200 (CEST)
Received: from mails.dpdk.org (localhost [127.0.0.1])
	by mails.dpdk.org (Postfix) with ESMTP id 1316040A8A;
	Tue, 30 Jul 2024 20:39:09 +0200 (CEST)
Received: from mail-oa1-f100.google.com (mail-oa1-f100.google.com
 [209.85.160.100])
 by mails.dpdk.org (Postfix) with ESMTP id 5AEBF402A9
 for <test-report@dpdk.org>; Tue, 30 Jul 2024 20:13:52 +0200 (CEST)
Received: by mail-oa1-f100.google.com with SMTP id
 586e51a60fabf-25dfb580d1fso2126498fac.2
 for <test-report@dpdk.org>; Tue, 30 Jul 2024 11:13:52 -0700 (PDT)
DKIM-Signature: v=1; a=rsa-sha256; c=relaxed/relaxed;
 d=iol.unh.edu; s=unh-iol; t=1722363231; x=1722968031; darn=dpdk.org;
 h=references:in-reply-to:cc:to:from:subject:message-id:date:from:to
 :cc:subject:date:message-id:reply-to;
 bh=pfnZN5SnOmvKKgHJKfFk2C+P2RZwtXWCHn3FKerhOnU=;
 b=XOFhlolDNIXVrwyamwhcm1c5BRUYSemYD3Vgv6I0orje3RTH+AJIZTJRwydGf/mDue
 LzJynWKJ3tzVmSox+fQfRlQoxPHq3JvGvAZyZKhGBs6RdB3ZnKjMACJX0kORUNzE24qd
 3WrvYCxfLCoI/5VTG3wii7cG1UaKqBMBPOicY=
X-Google-DKIM-Signature: v=1; a=rsa-sha256; c=relaxed/relaxed;
 d=1e100.net; s=20230601; t=1722363231; x=1722968031;
 h=references:in-reply-to:cc:to:from:subject:message-id:date
 :x-gm-message-state:from:to:cc:subject:date:message-id:reply-to;
 bh=pfnZN5SnOmvKKgHJKfFk2C+P2RZwtXWCHn3FKerhOnU=;
 b=MzolmUJKKIQUNLStHNzwwDObzLwwZxHoc5ww8hPk3Y0tDDXeocy5n+VkTWC6bzUS+R
 9BFjHKz7cuoEVnnmPbleEd2pGZXyaV0gcU75cDQfEQNzxb2DPelEL7Qu4MSNd/lVVSLi
 ileZS0tRAbSUIFkT+dAbDftxw7xA3zsOJ/I8yNSVnA4Qp0B+Ey3TB68c/FkEaifgWX1i
 ZmqzPrWErUbh6yRMH0LRqzqKsRFM2FfOsOdtMj3aKSIRnmTVBCcFkIGoJOquJMAyS/8A
 Bzd10BegdsEIkqzAA4uzDiTBMifaveiX9ArEguJBwap+4V4UTBx6pfve1mN5PT7YY+9E
 G1+w==
X-Gm-Message-State: AOJu0YydUzgxrCoWnwI9pRsZ6zvKEPj96Lme73XyISMv4wD6xHiA8MBy
 brRyuLE5PAPqVpiX0qMrtabhI5tvrb2W11E9ortL0M8T1a+ZrMLHEoqaUd/56kd8G+Os9tobk16
 yrvcTz55qMwJp9aMh9yYwqL5Ll9fVoCHSFOhAzQck
X-Google-Smtp-Source: AGHT+IHNHf7qgKzWKrD1M/cpegOab1KzKgTQipsK17LOQdc5uGPiA15NuP6MiSiEnSHKJQhJKN+AL10rSeIL
X-Received: by 2002:a05:6871:d210:b0:25e:940:e934 with SMTP id
 586e51a60fabf-267d4f5000bmr12981812fac.47.1722363231659; 
 Tue, 30 Jul 2024 11:13:51 -0700 (PDT)
Received: from postal.iol.unh.edu (postal.iol.unh.edu. [132.177.123.84])
 by smtp-relay.gmail.com with ESMTPS id
 586e51a60fabf-2655e1fc859sm555258fac.35.2024.07.30.11.13.51
 (version=TLS1_2 cipher=ECDHE-ECDSA-AES128-GCM-SHA256 bits=128/128);
 Tue, 30 Jul 2024 11:13:51 -0700 (PDT)
X-Relaying-Domain: iol.unh.edu
Date: Tue, 30 Jul 2024 11:13:51 -0700 (PDT)
Message-ID: <66a92d5f.050a0220.78df5.e8caSMTPIN_ADDED_MISSING@mx.google.com>
Received: from [172.21.0.8] (unknown [172.18.0.240])
 by postal.iol.unh.edu (Postfix) with ESMTP id 208E7605C351;
 Tue, 30 Jul 2024 14:13:51 -0400 (EDT)
Subject: |PENDING| pw142761 [PATCH] [v3] doc: announce changes to dma device 
From: dpdklab@iol.unh.edu
To: Test Report <test-report@dpdk.org>
Cc: dpdk-test-reports@iol.unh.edu
In-Reply-To: <20240730125302.2132377-1-amitprakashs@marvell.com>
References: <20240730125302.2132377-1-amitprakashs@marvell.com>
Content-Type: text/plain
X-BeenThere: test-report@dpdk.org
X-Mailman-Version: 2.1.29
Precedence: list
List-Id: automatic DPDK test reports <test-report.dpdk.org>
List-Unsubscribe: <https://mails.dpdk.org/options/test-report>,
 <mailto:test-report-request@dpdk.org?subject=unsubscribe>
List-Archive: <http://mails.dpdk.org/archives/test-report/>
List-Post: <mailto:test-report@dpdk.org>
List-Help: <mailto:test-report-request@dpdk.org?subject=help>
List-Subscribe: <https://mails.dpdk.org/listinfo/test-report>,
 <mailto:test-report-request@dpdk.org?subject=subscribe>
Errors-To: test-report-bounces@dpdk.org

Test-Label: iol-compile-amd64-testing
Test-Status: PENDING
http://dpdk.org/patch/142761

_Testing pending_

Submitter: Amit Prakash Shukla <amitprakashs@marvell.com>
Date: Tuesday, July 30 2024 12:53:02 
DPDK git baseline: Repo:dpdk
  Branch: master
  CommitID:4b5abe7ec1ed2d43a285599bbba23f62ac049d8f

142761 --> testing pending

Upstream job id: Windows-Compile-DPDK-Mingw64#21132

Test environment and result as below:

+---------------------+----------------------+--------------------+-------------------+
|     Environment     | dpdk_mingw64_compile | dpdk_meson_compile | dpdk_msvc_compile |
+=====================+======================+====================+===================+
| Windows Server 2022 | PASS                 | PEND               | PEND              |
+---------------------+----------------------+--------------------+-------------------+
| Windows Server 2019 | PASS                 | PEND               | SKIPPED           |
+---------------------+----------------------+--------------------+-------------------+
| FreeBSD 13.3        | SKIPPED              | PASS               | SKIPPED           |
+---------------------+----------------------+--------------------+-------------------+
| FreeBSD 14.1        | SKIPPED              | PEND               | SKIPPED           |
+---------------------+----------------------+--------------------+-------------------+


Windows Server 2022
	Kernel: 10.0.20348.2031
	Compiler: clang 15.0.7, gcc 8.1.0 (MinGW), and MSVC VS 17.9

Windows Server 2019
	Kernel: 10.0.17763
	Compiler: clang 14.0 and gcc 8.1.0 (MinGW)

FreeBSD 13.3
	Kernel: 13.3-RELEASE-p1
	Compiler: clang 17.0.6

FreeBSD 14.1
	Kernel: 14.1
	Compiler: clang 18.1.5

To view detailed results, visit:
https://lab.dpdk.org/results/dashboard/patchsets/30655/

UNH-IOL DPDK Community Lab

To manage your email subscriptions, visit: 
https://lab.dpdk.org/results/dashboard/preferences/subscriptions/