From mboxrd@z Thu Jan  1 00:00:00 1970
Return-Path: <test-report-bounces@dpdk.org>
Received: from mails.dpdk.org (mails.dpdk.org [217.70.189.124])
	by inbox.dpdk.org (Postfix) with ESMTP id E87C3456F8
	for <public@inbox.dpdk.org>; Tue, 30 Jul 2024 20:39:10 +0200 (CEST)
Received: from mails.dpdk.org (localhost [127.0.0.1])
	by mails.dpdk.org (Postfix) with ESMTP id E673940A81;
	Tue, 30 Jul 2024 20:39:10 +0200 (CEST)
Received: from mail-yw1-f226.google.com (mail-yw1-f226.google.com
 [209.85.128.226])
 by mails.dpdk.org (Postfix) with ESMTP id 01277402F1
 for <test-report@dpdk.org>; Tue, 30 Jul 2024 20:15:56 +0200 (CEST)
Received: by mail-yw1-f226.google.com with SMTP id
 00721157ae682-6678a45eaa3so36617317b3.2
 for <test-report@dpdk.org>; Tue, 30 Jul 2024 11:15:55 -0700 (PDT)
DKIM-Signature: v=1; a=rsa-sha256; c=relaxed/relaxed;
 d=iol.unh.edu; s=unh-iol; t=1722363355; x=1722968155; darn=dpdk.org;
 h=references:in-reply-to:cc:to:from:subject:message-id:date:from:to
 :cc:subject:date:message-id:reply-to;
 bh=L5ZXpHgz1IOUOHvGbCU66u9R9pfZ2rbnOnfkS0DxjRA=;
 b=VZ6bSU4pSObcn73eebS/glNZBTroHp4LKP7brKbIhRBsmRMW1kJ+POjeKBo5VFkmuy
 YkATzjYT3SjoGLTknpj9JPUKcdExGP2zoQL9x5xhkRhaGVWjtmJUCx35drdfqNEnIWDR
 n2N2oOAE98Gy0ISsYIpXinu2Ro5bbVo6mn0mo=
X-Google-DKIM-Signature: v=1; a=rsa-sha256; c=relaxed/relaxed;
 d=1e100.net; s=20230601; t=1722363355; x=1722968155;
 h=references:in-reply-to:cc:to:from:subject:message-id:date
 :x-gm-message-state:from:to:cc:subject:date:message-id:reply-to;
 bh=L5ZXpHgz1IOUOHvGbCU66u9R9pfZ2rbnOnfkS0DxjRA=;
 b=KEP6KJ2My+Ckwk4Z4OX1STOemEEDOCLTg3YsXmbKcyF5RwJ4eMs+PnCQf+yFChaMZF
 wp0g2p7mIbFLVhpFXriYxEhVVMPLlyZRXWIwv4XLogo8vW6zwMpcoEVKSxCnmwPQSYQv
 5dKPzghtI0ijwdd/JCs4EwHIj7Fgj56C288w+ZCGB2jTrLGZgYeFaIq01idl8yXxrYoR
 gNcHjHQ/wu58G5RSLKZkGBokFAUz3Y7ClUdBuNuwBrJypL5wK0+WMwtL5fSP7T3kt7+2
 KodKt3wdm2ey5I/vQKpPwqDUZ6iCZwL61U19BdIp7QmhMjtZZyfBCFAYHev7LJRfFxen
 BndQ==
X-Gm-Message-State: AOJu0Yzga42d/0nh8eHjT5lEiBV6a1lhMaZBCpNOcyoAipZTEddqReXZ
 VXBdPI3CaRVVnlS0+10opqQBt3Ld+A/bDiOLE1aZ9SDLPOcFkXdvg9BZLVdfuXizlp1HtZyyhaf
 1okHwW21Kv9xY+LyGHzrVdq64floZvTtrCNyVyxbr
X-Google-Smtp-Source: AGHT+IHbN1N0E3yL9kFrjoKSBpd+H4tGoKDx6YqvJ1yK6bcvqOm4QKMWasgUghtZ9GJbbpex3HE++Qrh6pfE
X-Received: by 2002:a81:8245:0:b0:627:7e65:979 with SMTP id
 00721157ae682-67a079864eemr141702087b3.24.1722363355436; 
 Tue, 30 Jul 2024 11:15:55 -0700 (PDT)
Received: from postal.iol.unh.edu (postal.iol.unh.edu. [132.177.123.84])
 by smtp-relay.gmail.com with ESMTPS id
 00721157ae682-67567b4aa24sm8492787b3.23.2024.07.30.11.15.55
 (version=TLS1_2 cipher=ECDHE-ECDSA-AES128-GCM-SHA256 bits=128/128);
 Tue, 30 Jul 2024 11:15:55 -0700 (PDT)
X-Relaying-Domain: iol.unh.edu
Date: Tue, 30 Jul 2024 11:15:55 -0700 (PDT)
Message-ID: <66a92ddb.810a0220.19e5d7.2ecdSMTPIN_ADDED_MISSING@mx.google.com>
Received: from [172.21.0.8] (unknown [172.18.0.240])
 by postal.iol.unh.edu (Postfix) with ESMTP id 17C08605C351;
 Tue, 30 Jul 2024 14:15:55 -0400 (EDT)
Subject: |PENDING| pw142761 [PATCH] [v3] doc: announce changes to dma device 
From: dpdklab@iol.unh.edu
To: Test Report <test-report@dpdk.org>
Cc: dpdk-test-reports@iol.unh.edu
In-Reply-To: <20240730125302.2132377-1-amitprakashs@marvell.com>
References: <20240730125302.2132377-1-amitprakashs@marvell.com>
Content-Type: text/plain
X-BeenThere: test-report@dpdk.org
X-Mailman-Version: 2.1.29
Precedence: list
List-Id: automatic DPDK test reports <test-report.dpdk.org>
List-Unsubscribe: <https://mails.dpdk.org/options/test-report>,
 <mailto:test-report-request@dpdk.org?subject=unsubscribe>
List-Archive: <http://mails.dpdk.org/archives/test-report/>
List-Post: <mailto:test-report@dpdk.org>
List-Help: <mailto:test-report-request@dpdk.org?subject=help>
List-Subscribe: <https://mails.dpdk.org/listinfo/test-report>,
 <mailto:test-report-request@dpdk.org?subject=subscribe>
Errors-To: test-report-bounces@dpdk.org

Test-Label: iol-compile-amd64-testing
Test-Status: PENDING
http://dpdk.org/patch/142761

_Testing pending_

Submitter: Amit Prakash Shukla <amitprakashs@marvell.com>
Date: Tuesday, July 30 2024 12:53:02 
DPDK git baseline: Repo:dpdk
  Branch: master
  CommitID:4b5abe7ec1ed2d43a285599bbba23f62ac049d8f

142761 --> testing pending

Upstream job id: Windows-Compile-DPDK-Meson#23948

Test environment and result as below:

+---------------------+----------------------+--------------------+-------------------+
|     Environment     | dpdk_mingw64_compile | dpdk_meson_compile | dpdk_msvc_compile |
+=====================+======================+====================+===================+
| Windows Server 2022 | PASS                 | PEND               | PEND              |
+---------------------+----------------------+--------------------+-------------------+
| Windows Server 2019 | PASS                 | PASS               | SKIPPED           |
+---------------------+----------------------+--------------------+-------------------+
| FreeBSD 13.3        | SKIPPED              | PASS               | SKIPPED           |
+---------------------+----------------------+--------------------+-------------------+
| FreeBSD 14.1        | SKIPPED              | PEND               | SKIPPED           |
+---------------------+----------------------+--------------------+-------------------+


Windows Server 2022
	Kernel: 10.0.20348.2031
	Compiler: clang 15.0.7, gcc 8.1.0 (MinGW), and MSVC VS 17.9

Windows Server 2019
	Kernel: 10.0.17763
	Compiler: clang 14.0 and gcc 8.1.0 (MinGW)

FreeBSD 13.3
	Kernel: 13.3-RELEASE-p1
	Compiler: clang 17.0.6

FreeBSD 14.1
	Kernel: 14.1
	Compiler: clang 18.1.5

To view detailed results, visit:
https://lab.dpdk.org/results/dashboard/patchsets/30655/

UNH-IOL DPDK Community Lab

To manage your email subscriptions, visit: 
https://lab.dpdk.org/results/dashboard/preferences/subscriptions/