From mboxrd@z Thu Jan  1 00:00:00 1970
Return-Path: <test-report-bounces@dpdk.org>
Received: from mails.dpdk.org (mails.dpdk.org [217.70.189.124])
	by inbox.dpdk.org (Postfix) with ESMTP id 81273456F8
	for <public@inbox.dpdk.org>; Tue, 30 Jul 2024 20:39:13 +0200 (CEST)
Received: from mails.dpdk.org (localhost [127.0.0.1])
	by mails.dpdk.org (Postfix) with ESMTP id 89E9B40E42;
	Tue, 30 Jul 2024 20:39:11 +0200 (CEST)
Received: from mail-oa1-f100.google.com (mail-oa1-f100.google.com
 [209.85.160.100])
 by mails.dpdk.org (Postfix) with ESMTP id 8948D402F1
 for <test-report@dpdk.org>; Tue, 30 Jul 2024 20:36:08 +0200 (CEST)
Received: by mail-oa1-f100.google.com with SMTP id
 586e51a60fabf-260fed6c380so3048953fac.1
 for <test-report@dpdk.org>; Tue, 30 Jul 2024 11:36:08 -0700 (PDT)
DKIM-Signature: v=1; a=rsa-sha256; c=relaxed/relaxed;
 d=iol.unh.edu; s=unh-iol; t=1722364568; x=1722969368; darn=dpdk.org;
 h=references:in-reply-to:cc:to:from:subject:message-id:date:from:to
 :cc:subject:date:message-id:reply-to;
 bh=ksDTqWqMt4mTJfycZhYFV0M9UoT2XGXpPuNIptFpH04=;
 b=JXr/ZHxTQ9LU5hAqGg8g+7NY27JniNARMMaIkGrbEknoJtLr1BV1LGpBONyCgDPBhA
 pZ1r5tBLwm305dTaddJGqEYTehLc4x4pURRHWxvYQgN8XJuGpinPHN8crnFcXl+YW+pP
 4knErrxeoHoCfSQdJsENXcBfdAtNrZ01frRc4=
X-Google-DKIM-Signature: v=1; a=rsa-sha256; c=relaxed/relaxed;
 d=1e100.net; s=20230601; t=1722364568; x=1722969368;
 h=references:in-reply-to:cc:to:from:subject:message-id:date
 :x-gm-message-state:from:to:cc:subject:date:message-id:reply-to;
 bh=ksDTqWqMt4mTJfycZhYFV0M9UoT2XGXpPuNIptFpH04=;
 b=A0BXHbIQ/FnrML6MCWi/Qjjg6xjkF8DMWSia0pbF69dc3hYyUAGFEq17s5TuHVvK+D
 tampuoiYF+1DmJ7ehOb6rye25NVcv9Jmpkx/iQoxmtRyUzB696cjHiPx+/9zFAPREujt
 sDrc98UKkp3pnImuKTqOvo7j2w6DBIJbagB3zik20/2H0LrbeU7496YGaUJvko6qIo2q
 ADzrw9lHYI8IxqDtWZokK5iWohRxV3jCVayB/HIAiTChOCczswHQfkuYpvWzjE6zPFT1
 cGF7/RlOPoIaBE9pXNezHbk+JUs0iIZb4UtaUPuwynCaqGJklk33oaZwxGZxYoPshyd2
 RfUA==
X-Gm-Message-State: AOJu0Yzq52Eyf3MNsrO/eNU30bPY/2taYeb+01IWIXqz8eALKLY/zmn/
 53NebhRRZ1RvDUXx7GvJPGDYaSI0JZ1t0IQRlXqRadG58CLL5Ri+9TBxgUt+3PCjTQ84Nu1kbfU
 pFrM7kTZ/Bt1SIsx2KUPcevXktfGWyie6mAFPP1QKc+N0no5qu9HTOF9E
X-Google-Smtp-Source: AGHT+IFb1TFD2WuoMcRSyJglMakHzG8cY/PorwbtPPV0btqYJbDr+ChGh+il6VUQERRRH5o4HAS/WVnqhjpC
X-Received: by 2002:a05:6871:b2c:b0:260:fd20:a885 with SMTP id
 586e51a60fabf-267d4de4083mr16321237fac.27.1722364567914; 
 Tue, 30 Jul 2024 11:36:07 -0700 (PDT)
Received: from postal.iol.unh.edu (postal.iol.unh.edu.
 [2606:4100:3880:1234::84]) by smtp-relay.gmail.com with ESMTPS id
 586e51a60fabf-2653e790be9sm610972fac.24.2024.07.30.11.36.07
 (version=TLS1_2 cipher=ECDHE-ECDSA-AES128-GCM-SHA256 bits=128/128);
 Tue, 30 Jul 2024 11:36:07 -0700 (PDT)
X-Relaying-Domain: iol.unh.edu
Date: Tue, 30 Jul 2024 11:36:07 -0700 (PDT)
Message-ID: <66a93297.050a0220.2f6650.3fc4SMTPIN_ADDED_MISSING@mx.google.com>
Received: from [172.21.0.9] (unknown [172.18.0.240])
 by postal.iol.unh.edu (Postfix) with ESMTP id 5843A605C351;
 Tue, 30 Jul 2024 14:36:07 -0400 (EDT)
Subject: |PENDING| pw142761 [PATCH] [v3] doc: announce changes to dma device 
From: dpdklab@iol.unh.edu
To: Test Report <test-report@dpdk.org>
Cc: dpdk-test-reports@iol.unh.edu
In-Reply-To: <20240730125302.2132377-1-amitprakashs@marvell.com>
References: <20240730125302.2132377-1-amitprakashs@marvell.com>
Content-Type: text/plain
X-BeenThere: test-report@dpdk.org
X-Mailman-Version: 2.1.29
Precedence: list
List-Id: automatic DPDK test reports <test-report.dpdk.org>
List-Unsubscribe: <https://mails.dpdk.org/options/test-report>,
 <mailto:test-report-request@dpdk.org?subject=unsubscribe>
List-Archive: <http://mails.dpdk.org/archives/test-report/>
List-Post: <mailto:test-report@dpdk.org>
List-Help: <mailto:test-report-request@dpdk.org?subject=help>
List-Subscribe: <https://mails.dpdk.org/listinfo/test-report>,
 <mailto:test-report-request@dpdk.org?subject=subscribe>
Errors-To: test-report-bounces@dpdk.org

Test-Label: iol-unit-arm64-testing
Test-Status: PENDING
http://dpdk.org/patch/142761

_Testing pending_

Submitter: Amit Prakash Shukla <amitprakashs@marvell.com>
Date: Tuesday, July 30 2024 12:53:02 
DPDK git baseline: Repo:dpdk
  Branch: master
  CommitID:4b5abe7ec1ed2d43a285599bbba23f62ac049d8f

142761 --> testing pending

Upstream job id: Generic-Unit-Test-DPDK#246396

Test environment and result as below:

+-----------------------------+----------------+--------------+---------------------------+------------------------------+
|         Environment         | dpdk_unit_test | lpm_autotest | cryptodev_sw_zuc_autotest | cryptodev_sw_snow3g_autotest |
+=============================+================+==============+===========================+==============================+
| CentOS Stream 9 (ARM)       | PASS           | SKIPPED      | SKIPPED                   | SKIPPED                      |
+-----------------------------+----------------+--------------+---------------------------+------------------------------+
| Debian 12 (arm)             | PASS           | SKIPPED      | PEND                      | PEND                         |
+-----------------------------+----------------+--------------+---------------------------+------------------------------+
| Debian 11 (Buster) (ARM)    | PASS           | SKIPPED      | SKIPPED                   | SKIPPED                      |
+-----------------------------+----------------+--------------+---------------------------+------------------------------+
| Fedora 37 (ARM)             | PASS           | SKIPPED      | SKIPPED                   | SKIPPED                      |
+-----------------------------+----------------+--------------+---------------------------+------------------------------+
| Fedora 39 (ARM Clang)       | PEND           | SKIPPED      | SKIPPED                   | SKIPPED                      |
+-----------------------------+----------------+--------------+---------------------------+------------------------------+
| Fedora 39 (ARM)             | PASS           | SKIPPED      | SKIPPED                   | SKIPPED                      |
+-----------------------------+----------------+--------------+---------------------------+------------------------------+
| Fedora 38 (ARM Clang)       | PEND           | SKIPPED      | SKIPPED                   | SKIPPED                      |
+-----------------------------+----------------+--------------+---------------------------+------------------------------+
| Fedora 40 (ARM)             | PASS           | SKIPPED      | SKIPPED                   | SKIPPED                      |
+-----------------------------+----------------+--------------+---------------------------+------------------------------+
| Fedora 40 (ARM Clang)       | PEND           | SKIPPED      | SKIPPED                   | SKIPPED                      |
+-----------------------------+----------------+--------------+---------------------------+------------------------------+
| RHEL9 (ARM)                 | PEND           | SKIPPED      | SKIPPED                   | SKIPPED                      |
+-----------------------------+----------------+--------------+---------------------------+------------------------------+
| Ubuntu 20.04 (ARM)          | PEND           | SKIPPED      | SKIPPED                   | SKIPPED                      |
+-----------------------------+----------------+--------------+---------------------------+------------------------------+
| Ubuntu 22.04 (ARM)          | PEND           | SKIPPED      | SKIPPED                   | SKIPPED                      |
+-----------------------------+----------------+--------------+---------------------------+------------------------------+
| Ubuntu 24.04 (ARM)          | PEND           | SKIPPED      | SKIPPED                   | SKIPPED                      |
+-----------------------------+----------------+--------------+---------------------------+------------------------------+
| 32-bit Ubuntu 20.04.4 (ARM) | PEND           | SKIPPED      | SKIPPED                   | SKIPPED                      |
+-----------------------------+----------------+--------------+---------------------------+------------------------------+
| Ubuntu 20.04 ARM SVE        | SKIPPED        | PEND         | SKIPPED                   | SKIPPED                      |
+-----------------------------+----------------+--------------+---------------------------+------------------------------+


CentOS Stream 9 (ARM)
	Kernel: Container Host Kernel
	Compiler: gcc 11.4.1

Debian 12 (arm)
	Kernel: Container Host Kernel
	Compiler: gcc 12.2.0

Debian 11 (Buster) (ARM)
	Kernel: Container Host Kernel
	Compiler: gcc 10.2.1

Fedora 37 (ARM)
	Kernel: Depends on container host
	Compiler: gcc 12.3.1

Fedora 39 (ARM Clang)
	Kernel: Depends on container host
	Compiler: clang 17.0.6

Fedora 39 (ARM)
	Kernel: Depends on container host
	Compiler: gcc 13.2.1

Fedora 38 (ARM Clang)
	Kernel: Depends on container host
	Compiler: clang 16.0.6

Fedora 40 (ARM)
	Kernel: Depends on container host
	Compiler: gcc 14.1.1

Fedora 40 (ARM Clang)
	Kernel: Depends on container host
	Compiler: clang 18.1.6

RHEL9 (ARM)
	Kernel: Depends on container host
	Compiler: gcc 11.4.1

Ubuntu 20.04 (ARM)
	Kernel: Container Host Kernel
	Compiler: gcc 9.4.0

Ubuntu 22.04 (ARM)
	Kernel: Container Host Kernel
	Compiler: gcc 11.4.0

Ubuntu 24.04 (ARM)
	Kernel: 5.4.0-167-generic
	Compiler: gcc 13.2.0

32-bit Ubuntu 20.04.4 (ARM)
	Kernel: 5.4.0-155-generic aarch64
	Compiler: gcc 9.4

Ubuntu 20.04 ARM SVE
	Kernel: 5.4.0-167-generic
	Compiler: gcc (Ubuntu 10.5.0-1ubuntu1~20.04) 10.5.0

To view detailed results, visit:
https://lab.dpdk.org/results/dashboard/patchsets/30655/

UNH-IOL DPDK Community Lab

To manage your email subscriptions, visit: 
https://lab.dpdk.org/results/dashboard/preferences/subscriptions/