From mboxrd@z Thu Jan 1 00:00:00 1970 Return-Path: Received: from mails.dpdk.org (mails.dpdk.org [217.70.189.124]) by inbox.dpdk.org (Postfix) with ESMTP id 57439456FA for ; Tue, 30 Jul 2024 21:28:11 +0200 (CEST) Received: from mails.dpdk.org (localhost [127.0.0.1]) by mails.dpdk.org (Postfix) with ESMTP id 9F09440B9A; Tue, 30 Jul 2024 21:28:10 +0200 (CEST) Received: from mail-pg1-f226.google.com (mail-pg1-f226.google.com [209.85.215.226]) by mails.dpdk.org (Postfix) with ESMTP id E19DB402F1 for ; Tue, 30 Jul 2024 20:57:00 +0200 (CEST) Received: by mail-pg1-f226.google.com with SMTP id 41be03b00d2f7-7ae3d7222d4so2254382a12.3 for ; Tue, 30 Jul 2024 11:57:00 -0700 (PDT) DKIM-Signature: v=1; a=rsa-sha256; c=relaxed/relaxed; d=iol.unh.edu; s=unh-iol; t=1722365820; x=1722970620; darn=dpdk.org; h=references:in-reply-to:cc:to:from:subject:message-id:date:from:to :cc:subject:date:message-id:reply-to; bh=D7IiI8qZBzDbKJmPH84G31ts2oUj/MAcRh78g0ldfZk=; b=h9QOJzkS6WWqKF6jyg+wudpNXKqv8Pog6lKzIcWnVnQ44gTzBcT1Rx3X8XHGARvevk aKcgFePW4/0NSDbcmkzaswU8CK/YD+pOyW/RyeUEvY3M0bgv3S758QFdy64Y/L2UjzU9 RtTzpDDRvauIjChrbxVytBC3xAJIoVRNOeUqA= X-Google-DKIM-Signature: v=1; a=rsa-sha256; c=relaxed/relaxed; d=1e100.net; s=20230601; t=1722365820; x=1722970620; h=references:in-reply-to:cc:to:from:subject:message-id:date :x-gm-message-state:from:to:cc:subject:date:message-id:reply-to; bh=D7IiI8qZBzDbKJmPH84G31ts2oUj/MAcRh78g0ldfZk=; b=QCqYaolu7sKOG0m3XfNISdFxGepMp1iIlmj9b/fyurXxEE67Q9Yvff6KDaeOj78viq Pzz4GBiMBxbJj00hpm18Ql2HYBpjCC+GA1KUo3od00nIh9V6GJeApMmgQJ02gAF66rpD sEkdt0BXuj/I10UtVuKoowkbYICzzMYfOPrOMCbAEh4KnaVeKz20PhvFCn+yp6Ub8VuY 6aIu82YjaTyntxttqmANsYLLJL9dxLhViMvniybyu0F+4ygc5orQbI21vvm8de0hJPme TIjBGZAxGgSilQpyh38kiZ8mYKcFNp0soS2NsGZOP+mJ4pYYWJdHmKXNWFFpFjRpF+gE Cytw== X-Gm-Message-State: AOJu0YyV96ufAl0G1Fm6A0M0oNZk/a2FCKTq4RMh0guFd8Vp2THofesO Zine5ea0yKAGFeUqjXTWNSPelN9ODvgd2v7chtEbdzJ7KyFatDbklh3OwPAleUm3Js3TUDZEnN3 62S0GhKZSMgmGHw+y9CnDQpeNVWkhruOLjuF82G9g X-Google-Smtp-Source: AGHT+IEmZQIM3qb/uam8yst/Ov1Hl8n84EgDGVrWm7Z6HIXXPcP4hp5u5otI+TF6DmV5ja9lE3VdsMwKnm72 X-Received: by 2002:a17:90b:388a:b0:2cd:ba3e:38a5 with SMTP id 98e67ed59e1d1-2cf7e1facafmr12707364a91.21.1722365820070; Tue, 30 Jul 2024 11:57:00 -0700 (PDT) Received: from postal.iol.unh.edu (postal.iol.unh.edu. [132.177.123.84]) by smtp-relay.gmail.com with ESMTPS id 98e67ed59e1d1-2cdb75f1c9fsm755787a91.17.2024.07.30.11.56.59 (version=TLS1_2 cipher=ECDHE-ECDSA-AES128-GCM-SHA256 bits=128/128); Tue, 30 Jul 2024 11:57:00 -0700 (PDT) X-Relaying-Domain: iol.unh.edu Date: Tue, 30 Jul 2024 11:57:00 -0700 (PDT) Message-ID: <66a9377c.170a0220.e097e.c6f0SMTPIN_ADDED_MISSING@mx.google.com> Received: from [172.21.0.6] (unknown [172.18.0.240]) by postal.iol.unh.edu (Postfix) with ESMTP id D8C5B605C351; Tue, 30 Jul 2024 14:56:58 -0400 (EDT) Subject: |PENDING| pw142761 [PATCH] [v3] doc: announce changes to dma device From: dpdklab@iol.unh.edu To: Test Report Cc: dpdk-test-reports@iol.unh.edu In-Reply-To: <20240730125302.2132377-1-amitprakashs@marvell.com> References: <20240730125302.2132377-1-amitprakashs@marvell.com> Content-Type: text/plain X-BeenThere: test-report@dpdk.org X-Mailman-Version: 2.1.29 Precedence: list List-Id: automatic DPDK test reports List-Unsubscribe: , List-Archive: List-Post: List-Help: List-Subscribe: , Errors-To: test-report-bounces@dpdk.org Test-Label: iol-unit-arm64-testing Test-Status: PENDING http://dpdk.org/patch/142761 _Testing pending_ Submitter: Amit Prakash Shukla Date: Tuesday, July 30 2024 12:53:02 DPDK git baseline: Repo:dpdk Branch: master CommitID:4b5abe7ec1ed2d43a285599bbba23f62ac049d8f 142761 --> testing pending Upstream job id: Generic-Unit-Test-DPDK#246404 Test environment and result as below: +-----------------------------+----------------+--------------+---------------------------+------------------------------+ | Environment | dpdk_unit_test | lpm_autotest | cryptodev_sw_zuc_autotest | cryptodev_sw_snow3g_autotest | +=============================+================+==============+===========================+==============================+ | CentOS Stream 9 (ARM) | PASS | SKIPPED | SKIPPED | SKIPPED | +-----------------------------+----------------+--------------+---------------------------+------------------------------+ | Debian 12 (arm) | PASS | SKIPPED | PEND | PEND | +-----------------------------+----------------+--------------+---------------------------+------------------------------+ | Debian 11 (Buster) (ARM) | PASS | SKIPPED | SKIPPED | SKIPPED | +-----------------------------+----------------+--------------+---------------------------+------------------------------+ | Fedora 37 (ARM) | PASS | SKIPPED | SKIPPED | SKIPPED | +-----------------------------+----------------+--------------+---------------------------+------------------------------+ | Fedora 39 (ARM Clang) | PASS | SKIPPED | SKIPPED | SKIPPED | +-----------------------------+----------------+--------------+---------------------------+------------------------------+ | Fedora 39 (ARM) | PASS | SKIPPED | SKIPPED | SKIPPED | +-----------------------------+----------------+--------------+---------------------------+------------------------------+ | Fedora 38 (ARM Clang) | PASS | SKIPPED | SKIPPED | SKIPPED | +-----------------------------+----------------+--------------+---------------------------+------------------------------+ | Fedora 40 (ARM) | PASS | SKIPPED | SKIPPED | SKIPPED | +-----------------------------+----------------+--------------+---------------------------+------------------------------+ | Fedora 40 (ARM Clang) | PASS | SKIPPED | SKIPPED | SKIPPED | +-----------------------------+----------------+--------------+---------------------------+------------------------------+ | RHEL9 (ARM) | PASS | SKIPPED | SKIPPED | SKIPPED | +-----------------------------+----------------+--------------+---------------------------+------------------------------+ | Ubuntu 20.04 (ARM) | PASS | SKIPPED | SKIPPED | SKIPPED | +-----------------------------+----------------+--------------+---------------------------+------------------------------+ | Ubuntu 22.04 (ARM) | PASS | SKIPPED | SKIPPED | SKIPPED | +-----------------------------+----------------+--------------+---------------------------+------------------------------+ | Ubuntu 24.04 (ARM) | PEND | SKIPPED | SKIPPED | SKIPPED | +-----------------------------+----------------+--------------+---------------------------+------------------------------+ | 32-bit Ubuntu 20.04.4 (ARM) | PASS | SKIPPED | SKIPPED | SKIPPED | +-----------------------------+----------------+--------------+---------------------------+------------------------------+ | Fedora 38 (ARM) | PEND | SKIPPED | SKIPPED | SKIPPED | +-----------------------------+----------------+--------------+---------------------------+------------------------------+ | Ubuntu 20.04 ARM SVE | SKIPPED | PEND | SKIPPED | SKIPPED | +-----------------------------+----------------+--------------+---------------------------+------------------------------+ CentOS Stream 9 (ARM) Kernel: Container Host Kernel Compiler: gcc 11.4.1 Debian 12 (arm) Kernel: Container Host Kernel Compiler: gcc 12.2.0 Debian 11 (Buster) (ARM) Kernel: Container Host Kernel Compiler: gcc 10.2.1 Fedora 37 (ARM) Kernel: Depends on container host Compiler: gcc 12.3.1 Fedora 39 (ARM Clang) Kernel: Depends on container host Compiler: clang 17.0.6 Fedora 39 (ARM) Kernel: Depends on container host Compiler: gcc 13.2.1 Fedora 38 (ARM Clang) Kernel: Depends on container host Compiler: clang 16.0.6 Fedora 40 (ARM) Kernel: Depends on container host Compiler: gcc 14.1.1 Fedora 40 (ARM Clang) Kernel: Depends on container host Compiler: clang 18.1.6 RHEL9 (ARM) Kernel: Depends on container host Compiler: gcc 11.4.1 Ubuntu 20.04 (ARM) Kernel: Container Host Kernel Compiler: gcc 9.4.0 Ubuntu 22.04 (ARM) Kernel: Container Host Kernel Compiler: gcc 11.4.0 Ubuntu 24.04 (ARM) Kernel: 5.4.0-167-generic Compiler: gcc 13.2.0 32-bit Ubuntu 20.04.4 (ARM) Kernel: 5.4.0-155-generic aarch64 Compiler: gcc 9.4 Fedora 38 (ARM) Kernel: Depends on container host Compiler: gcc 13.2.1 Ubuntu 20.04 ARM SVE Kernel: 5.4.0-167-generic Compiler: gcc (Ubuntu 10.5.0-1ubuntu1~20.04) 10.5.0 To view detailed results, visit: https://lab.dpdk.org/results/dashboard/patchsets/30655/ UNH-IOL DPDK Community Lab To manage your email subscriptions, visit: https://lab.dpdk.org/results/dashboard/preferences/subscriptions/