From mboxrd@z Thu Jan  1 00:00:00 1970
Return-Path: <test-report-bounces@dpdk.org>
Received: from mails.dpdk.org (mails.dpdk.org [217.70.189.124])
	by inbox.dpdk.org (Postfix) with ESMTP id EE6AF456F3
	for <public@inbox.dpdk.org>; Tue, 30 Jul 2024 22:59:03 +0200 (CEST)
Received: from mails.dpdk.org (localhost [127.0.0.1])
	by mails.dpdk.org (Postfix) with ESMTP id 5BEC140B99;
	Tue, 30 Jul 2024 22:59:03 +0200 (CEST)
Received: from mail-yb1-f228.google.com (mail-yb1-f228.google.com
 [209.85.219.228])
 by mails.dpdk.org (Postfix) with ESMTP id 454E04025E
 for <test-report@dpdk.org>; Tue, 30 Jul 2024 22:30:31 +0200 (CEST)
Received: by mail-yb1-f228.google.com with SMTP id
 3f1490d57ef6-e02b79c6f21so3864260276.2
 for <test-report@dpdk.org>; Tue, 30 Jul 2024 13:30:31 -0700 (PDT)
DKIM-Signature: v=1; a=rsa-sha256; c=relaxed/relaxed;
 d=iol.unh.edu; s=unh-iol; t=1722371430; x=1722976230; darn=dpdk.org;
 h=references:in-reply-to:cc:to:from:subject:message-id:date:from:to
 :cc:subject:date:message-id:reply-to;
 bh=/4yPY8pvuJT/3ZffSnginkKpyVdv+T5TrLwrYw71Su0=;
 b=a9UHXXBbNrj7sIe3ZTGByCvgYZhp3nEmqS3FN2mMTmd1Y0lIecMXtAwpARDoKvGQMS
 OHDc2wQdtxSkCc214orSZgd92jtblK7Zly/Fuebu38oTFi0NihQzQliTCCtf2vkI+KOv
 B1rzpluGdwoft6K+897H5/1QEBj1mr1AXZrGQ=
X-Google-DKIM-Signature: v=1; a=rsa-sha256; c=relaxed/relaxed;
 d=1e100.net; s=20230601; t=1722371430; x=1722976230;
 h=references:in-reply-to:cc:to:from:subject:message-id:date
 :x-gm-message-state:from:to:cc:subject:date:message-id:reply-to;
 bh=/4yPY8pvuJT/3ZffSnginkKpyVdv+T5TrLwrYw71Su0=;
 b=h89RnuHnigf4GzI1HCRyRgw+tQJkrkpjHVR2rAzYk2zCtlzXSd6fYFo4PimHGx5G47
 p89hSjWRBOYKGPWbiuZYU1Ir4n36nblTPV4qwUtN0O243cttf6l2G9E9W5Imeu++7NqR
 xEZOWzI9TVyLeQHxvvhm65uPg3l6OebhTTiDKytRvMgeqYYnFnulpuuAQV5LyibF2mT2
 v3cNaCkuE1cjX3HWDNYCM/GnhNLViVQnc+nqyx1nCztjcD/nyspDDWsY+8VSxAvMi+V5
 pOBV8ShEeb+JUybJdK9VQ+O2Z0lXVeKV2z5lQ05b+BrnloauGA00Ep4Wah7xvGy9c1+S
 vIMA==
X-Gm-Message-State: AOJu0Yw8tLp5FX1fbY2OyuTwuvEXbh01P30c9/+/RY0wQUed9q5dcq4K
 i7oxJ2O2KxNGIHnXK/mkg96c3EKN+2u9KjsdfwMZwpZLKzCpVHrnHLtfWuUj9VY50zBXcLCJwJd
 fD8TYv7YKxDG89lQkWwbwG7VDI0JtTjXzHTXTf3gH
X-Google-Smtp-Source: AGHT+IHoEZWm0yzd3VN2NT5DyJspuNFF8dAKGj0iFb/fikv9iW36DGj18Cufw+x7HuZvAFj5k5OLyrrixW0j
X-Received: by 2002:a05:6902:20c6:b0:e0b:55d8:cde6 with SMTP id
 3f1490d57ef6-e0b55d91d39mr12596355276.6.1722371430512; 
 Tue, 30 Jul 2024 13:30:30 -0700 (PDT)
Received: from postal.iol.unh.edu (postal.iol.unh.edu. [132.177.123.84])
 by smtp-relay.gmail.com with ESMTPS id
 3f1490d57ef6-e0b2a94333esm265385276.25.2024.07.30.13.30.30
 (version=TLS1_2 cipher=ECDHE-ECDSA-AES128-GCM-SHA256 bits=128/128);
 Tue, 30 Jul 2024 13:30:30 -0700 (PDT)
X-Relaying-Domain: iol.unh.edu
Date: Tue, 30 Jul 2024 13:30:30 -0700 (PDT)
Message-ID: <66a94d66.050a0220.197e6.e584SMTPIN_ADDED_MISSING@mx.google.com>
Received: from [172.21.0.8] (unknown [172.18.0.240])
 by postal.iol.unh.edu (Postfix) with ESMTP id 1D371605C351;
 Tue, 30 Jul 2024 16:30:30 -0400 (EDT)
Subject: |PENDING| pw142761 [PATCH] [v3] doc: announce changes to dma device 
From: dpdklab@iol.unh.edu
To: Test Report <test-report@dpdk.org>
Cc: dpdk-test-reports@iol.unh.edu
In-Reply-To: <20240730125302.2132377-1-amitprakashs@marvell.com>
References: <20240730125302.2132377-1-amitprakashs@marvell.com>
Content-Type: text/plain
X-BeenThere: test-report@dpdk.org
X-Mailman-Version: 2.1.29
Precedence: list
List-Id: automatic DPDK test reports <test-report.dpdk.org>
List-Unsubscribe: <https://mails.dpdk.org/options/test-report>,
 <mailto:test-report-request@dpdk.org?subject=unsubscribe>
List-Archive: <http://mails.dpdk.org/archives/test-report/>
List-Post: <mailto:test-report@dpdk.org>
List-Help: <mailto:test-report-request@dpdk.org?subject=help>
List-Subscribe: <https://mails.dpdk.org/listinfo/test-report>,
 <mailto:test-report-request@dpdk.org?subject=subscribe>
Errors-To: test-report-bounces@dpdk.org

Test-Label: iol-unit-amd64-testing
Test-Status: PENDING
http://dpdk.org/patch/142761

_Testing pending_

Submitter: Amit Prakash Shukla <amitprakashs@marvell.com>
Date: Tuesday, July 30 2024 12:53:02 
DPDK git baseline: Repo:dpdk
  Branch: master
  CommitID:4b5abe7ec1ed2d43a285599bbba23f62ac049d8f

142761 --> testing pending

Upstream job id: Generic-Unit-Test-DPDK#246397

Test environment and result as below:

+---------------------+----------------+
|     Environment     | dpdk_unit_test |
+=====================+================+
| CentOS Stream 8     | PASS           |
+---------------------+----------------+
| CentOS Stream 9     | PASS           |
+---------------------+----------------+
| Debian Bullseye     | PASS           |
+---------------------+----------------+
| Debian 12           | PASS           |
+---------------------+----------------+
| Fedora 37           | PASS           |
+---------------------+----------------+
| Fedora 38 (Clang)   | PASS           |
+---------------------+----------------+
| Fedora 38           | PASS           |
+---------------------+----------------+
| Fedora 39           | PASS           |
+---------------------+----------------+
| Fedora 39 (Clang)   | PASS           |
+---------------------+----------------+
| Fedora 40 (Clang)   | PASS           |
+---------------------+----------------+
| Fedora 40           | PASS           |
+---------------------+----------------+
| RHEL8               | PASS           |
+---------------------+----------------+
| openSUSE Leap 15    | PASS           |
+---------------------+----------------+
| RHEL9               | PEND           |
+---------------------+----------------+
| Ubuntu 20.04        | PASS           |
+---------------------+----------------+
| Ubuntu 22.04        | PEND           |
+---------------------+----------------+
| Ubuntu 24.04        | PEND           |
+---------------------+----------------+
| Windows Server 2019 | PASS           |
+---------------------+----------------+
| Windows Server 2022 | PASS           |
+---------------------+----------------+


CentOS Stream 8
	Kernel: 5.4.0-167-generic
	Compiler: gcc 8.5.0 20210514

CentOS Stream 9
	Kernel: 5.4.0-167-generic
	Compiler: gcc 11.4.1 20230605

Debian Bullseye
	Kernel: 5.4.0-167-generic
	Compiler: gcc 10.2.1-6

Debian 12
	Kernel: Container Host Kernel
	Compiler: gcc 12.2.0

Fedora 37
	Kernel: Depends on container host system
	Compiler: gcc 12.3.1

Fedora 38 (Clang)
	Kernel: Depends on container host
	Compiler: clang 16.0.6

Fedora 38
	Kernel: Depends on container host
	Compiler: gcc 13.2.1

Fedora 39
	Kernel: Depends on container host
	Compiler: gcc 13.2.1

Fedora 39 (Clang)
	Kernel: Depends on container host
	Compiler: clang 17.0.6

Fedora 40 (Clang)
	Kernel: Depends on container host
	Compiler: clang 18.1.6

Fedora 40
	Kernel: Depends on container host
	Compiler: gcc 14.1.1

RHEL8
	Kernel: 5.4.0-167-generic
	Compiler: gcc 8.5.0 20210514 (Red Hat 8.5.0-20)

openSUSE Leap 15
	Kernel: 5.4.0-167-generic
	Compiler: gcc 7.5.0

RHEL9
	Kernel: Depends on container host
	Compiler: gcc 11.4.1

Ubuntu 20.04
	Kernel: 5.4.0-167-generic
	Compiler: gcc 9.4.0-1ubuntu1~20.04.1

Ubuntu 22.04
	Kernel: 5.4.0-167-generic
	Compiler: gcc 11.4.0

Ubuntu 24.04
	Kernel: 5.4.0-167-generic
	Compiler: gcc 13.2.0

Windows Server 2019
	Kernel: 10.0.17763
	Compiler: clang 14.0 and gcc 8.1.0 (MinGW)

Windows Server 2022
	Kernel: 10.0.20348.2031
	Compiler: clang 15.0.7, gcc 8.1.0 (MinGW), and MSVC VS 17.9

To view detailed results, visit:
https://lab.dpdk.org/results/dashboard/patchsets/30655/

UNH-IOL DPDK Community Lab

To manage your email subscriptions, visit: 
https://lab.dpdk.org/results/dashboard/preferences/subscriptions/