From mboxrd@z Thu Jan  1 00:00:00 1970
Return-Path: <test-report-bounces@dpdk.org>
Received: from mails.dpdk.org (mails.dpdk.org [217.70.189.124])
	by inbox.dpdk.org (Postfix) with ESMTP id 55CC7456F3
	for <public@inbox.dpdk.org>; Tue, 30 Jul 2024 23:40:18 +0200 (CEST)
Received: from mails.dpdk.org (localhost [127.0.0.1])
	by mails.dpdk.org (Postfix) with ESMTP id 1D1A940A82;
	Tue, 30 Jul 2024 23:40:18 +0200 (CEST)
Received: from mail-pl1-f226.google.com (mail-pl1-f226.google.com
 [209.85.214.226])
 by mails.dpdk.org (Postfix) with ESMTP id 5986540267
 for <test-report@dpdk.org>; Tue, 30 Jul 2024 23:37:56 +0200 (CEST)
Received: by mail-pl1-f226.google.com with SMTP id
 d9443c01a7336-1fed72d23a7so35426545ad.1
 for <test-report@dpdk.org>; Tue, 30 Jul 2024 14:37:56 -0700 (PDT)
DKIM-Signature: v=1; a=rsa-sha256; c=relaxed/relaxed;
 d=iol.unh.edu; s=unh-iol; t=1722375475; x=1722980275; darn=dpdk.org;
 h=references:in-reply-to:cc:to:from:subject:message-id:date:from:to
 :cc:subject:date:message-id:reply-to;
 bh=AvVUoUe0Uh9v+2RzIXpk0OtXAzz+wzy5ofMZbduAvfw=;
 b=KbDj/Vam4KLZboc9i+jNyjtYPt/oFwYLraDqjunuDKO1BddoQyD+A04GPWGR9lmjwu
 XHGeINDaRFF6Ibt0q56xZhuSgvvSrKkgBuj5s4hNCMrMxnnJuFp497A0dtN/KpT20sBo
 r76cqsUTV030i5V8L6Wx+GtFpHFM8WTP2sICo=
X-Google-DKIM-Signature: v=1; a=rsa-sha256; c=relaxed/relaxed;
 d=1e100.net; s=20230601; t=1722375475; x=1722980275;
 h=references:in-reply-to:cc:to:from:subject:message-id:date
 :x-gm-message-state:from:to:cc:subject:date:message-id:reply-to;
 bh=AvVUoUe0Uh9v+2RzIXpk0OtXAzz+wzy5ofMZbduAvfw=;
 b=PtR+rMx0NLVHQ0PYy/Euvc4qAiFJvMD+XSBGVXDLd9RaUXF8rmW0vDBQ0ycI9wLUKO
 UC7A6RD+kX9uWUBjcfun1yIVC+eVamnyw9uuSvNfS3dtbPxaXB7yADm11acu4aAt0lN2
 GN/cNr26eeHU6BQaGq0PakFLx0inD2Zst9NXhCw9EKijHcEX0wvhDV+75K/0c1EnW5wK
 CVr51uv5JuPqVMGqY+2Hp20ZFIg5K54b0tkZcni/SZ0+v/QWWyKfXgkmt9TjwbLJ6uCy
 chmyytVxCq2rHeFKVgBleHDmGHLc+YXzM9VuhfBsOk8UTIV86crQfu9D/wWJ1Wb/oSKY
 F8gw==
X-Gm-Message-State: AOJu0YyFOogRjUFxhwV042w/v9XqlHfmtIy6Tn1hqSTfckquZQNR4sjH
 KLCEj+uxhnFCyivTZ4OY4zHzWVyAEKBYDg7VsBk7P1DkbPX5d6TL1l7lnKuR2Y5naRRkPxvrp7s
 0EGOfJ8Fl6YsrTdRwAQFISFFgiZp5brhTrbhLyahc0fl26vccs4ESZmGP
X-Google-Smtp-Source: AGHT+IGDiHTRJKQrsyMvMAs5ayfzKrX9671TOJlgkBc3yzsTPOX0fo+R17Ag/iAPHmr55imqIM4A4BZU7Igs
X-Received: by 2002:a17:902:e547:b0:1fd:d3db:bd06 with SMTP id
 d9443c01a7336-1ff047deaf1mr113680495ad.2.1722375475529; 
 Tue, 30 Jul 2024 14:37:55 -0700 (PDT)
Received: from postal.iol.unh.edu (postal.iol.unh.edu.
 [2606:4100:3880:1234::84]) by smtp-relay.gmail.com with ESMTPS id
 d9443c01a7336-1fed7f35b89sm4384705ad.136.2024.07.30.14.37.55
 (version=TLS1_2 cipher=ECDHE-ECDSA-AES128-GCM-SHA256 bits=128/128);
 Tue, 30 Jul 2024 14:37:55 -0700 (PDT)
X-Relaying-Domain: iol.unh.edu
Date: Tue, 30 Jul 2024 14:37:55 -0700 (PDT)
Message-ID: <66a95d33.170a0220.34109f.94e0SMTPIN_ADDED_MISSING@mx.google.com>
Received: from [172.21.0.8] (unknown [172.18.0.240])
 by postal.iol.unh.edu (Postfix) with ESMTP id 0419B605C351;
 Tue, 30 Jul 2024 17:37:55 -0400 (EDT)
Subject: |PENDING| pw142759-142760 [PATCH] [v2,2/2] examples/l3fwd: fix read 
From: dpdklab@iol.unh.edu
To: Test Report <test-report@dpdk.org>
Cc: dpdk-test-reports@iol.unh.edu
In-Reply-To: <20240730122235.1084-3-konstantin.v.ananyev@yandex.ru>
References: <20240730122235.1084-3-konstantin.v.ananyev@yandex.ru>
Content-Type: text/plain
X-BeenThere: test-report@dpdk.org
X-Mailman-Version: 2.1.29
Precedence: list
List-Id: automatic DPDK test reports <test-report.dpdk.org>
List-Unsubscribe: <https://mails.dpdk.org/options/test-report>,
 <mailto:test-report-request@dpdk.org?subject=unsubscribe>
List-Archive: <http://mails.dpdk.org/archives/test-report/>
List-Post: <mailto:test-report@dpdk.org>
List-Help: <mailto:test-report-request@dpdk.org?subject=help>
List-Subscribe: <https://mails.dpdk.org/listinfo/test-report>,
 <mailto:test-report-request@dpdk.org?subject=subscribe>
Errors-To: test-report-bounces@dpdk.org

Test-Label: iol-compile-arm64-testing
Test-Status: PENDING
http://dpdk.org/patch/142760

_Testing pending_

Submitter: Konstantin Ananyev <konstantin.v.ananyev@yandex.ru>
Date: Tuesday, July 30 2024 12:22:35 
DPDK git baseline: Repo:dpdk
  Branch: master
  CommitID:4b5abe7ec1ed2d43a285599bbba23f62ac049d8f

142759-142760 --> testing pending

Upstream job id: Generic-DPDK-Compile-Meson#281764

Test environment and result as below:

+----------------------------------------+--------------------+
|              Environment               | dpdk_meson_compile |
+========================================+====================+
| RHEL9 (ARM)                            | PASS               |
+----------------------------------------+--------------------+
| Ubuntu 20.04 ARM GCC Cross Compile     | PEND               |
+----------------------------------------+--------------------+
| Ubuntu 20.04 ARM SVE                   | PASS               |
+----------------------------------------+--------------------+
| Debian 12 with MUSDK                   | PASS               |
+----------------------------------------+--------------------+
| Fedora 37 (ARM)                        | PASS               |
+----------------------------------------+--------------------+
| Fedora 38 (ARM)                        | PASS               |
+----------------------------------------+--------------------+
| Fedora 38 (ARM Clang)                  | PASS               |
+----------------------------------------+--------------------+
| Fedora 39 (ARM)                        | PASS               |
+----------------------------------------+--------------------+
| Fedora 39 (ARM Clang)                  | PASS               |
+----------------------------------------+--------------------+
| Fedora 40 (ARM)                        | PASS               |
+----------------------------------------+--------------------+
| Fedora 40 (ARM Clang)                  | PASS               |
+----------------------------------------+--------------------+
| Ubuntu 20.04 (ARM)                     | PASS               |
+----------------------------------------+--------------------+
| Ubuntu 22.04 (ARM)                     | PASS               |
+----------------------------------------+--------------------+
| Ubuntu 24.04 (ARM)                     | PASS               |
+----------------------------------------+--------------------+
| CentOS Stream 9 (ARM)                  | PASS               |
+----------------------------------------+--------------------+
| Debian 11 (Buster) (ARM)               | PASS               |
+----------------------------------------+--------------------+
| Debian 12 (arm)                        | PASS               |
+----------------------------------------+--------------------+
| Ubuntu 20.04 ARM Clang Cross Compile   | PASS               |
+----------------------------------------+--------------------+
| Ubuntu 20.04 aarch32 GCC Cross Compile | PASS               |
+----------------------------------------+--------------------+


RHEL9 (ARM)
	Kernel: Depends on container host
	Compiler: gcc 11.4.1

Ubuntu 20.04 ARM GCC Cross Compile
	Kernel: 5.4.0-167-generic
	Compiler: aarch64-linux-gnu-gcc (Ubuntu 9.4.0-1ubuntu1~20.04.2) 9.4.0

Ubuntu 20.04 ARM SVE
	Kernel: 5.4.0-167-generic
	Compiler: gcc (Ubuntu 10.5.0-1ubuntu1~20.04) 10.5.0

Debian 12 with MUSDK
	Kernel: Container Host Kernel
	Compiler: gcc 12.2.0

Fedora 37 (ARM)
	Kernel: Depends on container host
	Compiler: gcc 12.3.1

Fedora 38 (ARM)
	Kernel: Depends on container host
	Compiler: gcc 13.2.1

Fedora 38 (ARM Clang)
	Kernel: Depends on container host
	Compiler: clang 16.0.6

Fedora 39 (ARM)
	Kernel: Depends on container host
	Compiler: gcc 13.2.1

Fedora 39 (ARM Clang)
	Kernel: Depends on container host
	Compiler: clang 17.0.6

Fedora 40 (ARM)
	Kernel: Depends on container host
	Compiler: gcc 14.1.1

Fedora 40 (ARM Clang)
	Kernel: Depends on container host
	Compiler: clang 18.1.6

Ubuntu 20.04 (ARM)
	Kernel: Container Host Kernel
	Compiler: gcc 9.4.0

Ubuntu 22.04 (ARM)
	Kernel: Container Host Kernel
	Compiler: gcc 11.4.0

Ubuntu 24.04 (ARM)
	Kernel: 5.4.0-167-generic
	Compiler: gcc 13.2.0

CentOS Stream 9 (ARM)
	Kernel: Container Host Kernel
	Compiler: gcc 11.4.1

Debian 11 (Buster) (ARM)
	Kernel: Container Host Kernel
	Compiler: gcc 10.2.1

Debian 12 (arm)
	Kernel: Container Host Kernel
	Compiler: gcc 12.2.0

Ubuntu 20.04 ARM Clang Cross Compile
	Kernel: 5.4.0-72-generic
	Compiler: clang 10.0.0-4ubuntu1

Ubuntu 20.04 aarch32 GCC Cross Compile
	Kernel: 5.4.0-167-generic
	Compiler: gcc 9.4.0

To view detailed results, visit:
https://lab.dpdk.org/results/dashboard/patchsets/30654/

UNH-IOL DPDK Community Lab

To manage your email subscriptions, visit: 
https://lab.dpdk.org/results/dashboard/preferences/subscriptions/