From mboxrd@z Thu Jan  1 00:00:00 1970
Return-Path: <test-report-bounces@dpdk.org>
Received: from mails.dpdk.org (mails.dpdk.org [217.70.189.124])
	by inbox.dpdk.org (Postfix) with ESMTP id 4B5B5456FF
	for <public@inbox.dpdk.org>; Wed, 31 Jul 2024 10:26:50 +0200 (CEST)
Received: from mails.dpdk.org (localhost [127.0.0.1])
	by mails.dpdk.org (Postfix) with ESMTP id B075042D97;
	Wed, 31 Jul 2024 10:26:47 +0200 (CEST)
Received: from mail-il1-f225.google.com (mail-il1-f225.google.com
 [209.85.166.225])
 by mails.dpdk.org (Postfix) with ESMTP id 2F3C84065D
 for <test-report@dpdk.org>; Wed, 31 Jul 2024 09:33:17 +0200 (CEST)
Received: by mail-il1-f225.google.com with SMTP id
 e9e14a558f8ab-39865a15900so19703695ab.1
 for <test-report@dpdk.org>; Wed, 31 Jul 2024 00:33:17 -0700 (PDT)
DKIM-Signature: v=1; a=rsa-sha256; c=relaxed/relaxed;
 d=iol.unh.edu; s=unh-iol; t=1722411196; x=1723015996; darn=dpdk.org;
 h=references:in-reply-to:cc:to:from:subject:message-id:date:from:to
 :cc:subject:date:message-id:reply-to;
 bh=zvqtt3C2TQL1g6hknATjWgf8iXeKSH6ls348sjy5VO4=;
 b=EoowrHJyTBpuUZmBTgq3oN6wpxM6xMM7UhcA3JpK7/Gv+XZPosFwUECQ1v9VhUFMZr
 10xuXlrGMzX7claZKgYVVhRrG5dD3hwGVPgpSGWwbz7QfgMXyoXx6q0HA7riSX6kMADf
 yauHNpR2SsmVDaNpVLDf7Md60Z13JgJ9zcGJA=
X-Google-DKIM-Signature: v=1; a=rsa-sha256; c=relaxed/relaxed;
 d=1e100.net; s=20230601; t=1722411196; x=1723015996;
 h=references:in-reply-to:cc:to:from:subject:message-id:date
 :x-gm-message-state:from:to:cc:subject:date:message-id:reply-to;
 bh=zvqtt3C2TQL1g6hknATjWgf8iXeKSH6ls348sjy5VO4=;
 b=VHO6UJkMpAh9IYUHSLMRdve818QRu4h4+usmltJsiDxLrb6e4vp2DPoJ3aFn9KSK2z
 PUCLm6C/xUCA+NnQ08Mj3DsyfaIos2fcb2pRu8FYdQbTeP5ERJEM22LNGT6/CAKSyLaa
 Q1cxWihvA3aV9IAT925ZgZZlwG7bFqh3WSyQzCu0l4rr+2lOR9YSuOXVx5ME8Rs/GfPL
 DD92Dz7lLMTjXMRmjP32/KoU36Ako/kxBtlfY8eIK5BtMbXbM0EAxNHJYHHs5qqzHX/T
 1KRlz7VT+NBc8uJJNjCMI6NhE6v1XNbo+AVJy6f2HCdMCCDx4sKGhPh/i6K9631kNdVv
 1Zqw==
X-Gm-Message-State: AOJu0YzRmgh7f07Ur/p1j1X5F8J0Sm3+/LR0fa/KTkNg3VWP4s9Az0xf
 jjXkZSZb1wjLVjOJNtKy0XjE+VVqW05iWKdaYhLpZehhdIDqt82TyZW9sUB9nhCZV1D7jDI5JLL
 0NhHTODYcUazObw0sv7qsdXwztKAgE/rGC8q1fUlMtdW6r+3mwcMIH4yr
X-Google-Smtp-Source: AGHT+IFVuV+0848xq5AEJuAO6Ge0dRmCISbjrpV9ICZudGSEcxFYBuszoNQKJWIV9AeTS87dJ9SelOIkuC+K
X-Received: by 2002:a05:6e02:1a0f:b0:399:df91:bf47 with SMTP id
 e9e14a558f8ab-39aec2aee3fmr142677975ab.18.1722411196307; 
 Wed, 31 Jul 2024 00:33:16 -0700 (PDT)
Received: from postal.iol.unh.edu (postal.iol.unh.edu.
 [2606:4100:3880:1234::84]) by smtp-relay.gmail.com with ESMTPS id
 e9e14a558f8ab-39b0c01aaa1sm948185ab.55.2024.07.31.00.33.16
 (version=TLS1_2 cipher=ECDHE-ECDSA-AES128-GCM-SHA256 bits=128/128);
 Wed, 31 Jul 2024 00:33:16 -0700 (PDT)
X-Relaying-Domain: iol.unh.edu
Date: Wed, 31 Jul 2024 00:33:16 -0700 (PDT)
Message-ID: <66a9e8bc.050a0220.d83eb.6887SMTPIN_ADDED_MISSING@mx.google.com>
Received: from [172.21.0.7] (unknown [172.18.0.240])
 by postal.iol.unh.edu (Postfix) with ESMTP id C2D766052500;
 Wed, 31 Jul 2024 03:33:15 -0400 (EDT)
Subject: |PENDING| pw142769-142771 [PATCH] [v2,3/3] test: remove unused resou
From: dpdklab@iol.unh.edu
To: Test Report <test-report@dpdk.org>
Cc: dpdk-test-reports@iol.unh.edu
In-Reply-To: <20240731042141.76985-4-stephen@networkplumber.org>
References: <20240731042141.76985-4-stephen@networkplumber.org>
Content-Type: text/plain
X-BeenThere: test-report@dpdk.org
X-Mailman-Version: 2.1.29
Precedence: list
List-Id: automatic DPDK test reports <test-report.dpdk.org>
List-Unsubscribe: <https://mails.dpdk.org/options/test-report>,
 <mailto:test-report-request@dpdk.org?subject=unsubscribe>
List-Archive: <http://mails.dpdk.org/archives/test-report/>
List-Post: <mailto:test-report@dpdk.org>
List-Help: <mailto:test-report-request@dpdk.org?subject=help>
List-Subscribe: <https://mails.dpdk.org/listinfo/test-report>,
 <mailto:test-report-request@dpdk.org?subject=subscribe>
Errors-To: test-report-bounces@dpdk.org

Test-Label: iol-abi-testing
Test-Status: PENDING
http://dpdk.org/patch/142771

_Testing pending_

Submitter: Stephen Hemminger <stephen@networkplumber.org>
Date: Wednesday, July 31 2024 04:20:31 
DPDK git baseline: Repo:dpdk
  Branch: master
  CommitID:1d245ca8239d947258b3ae7cc4d8df97ef527852

142769-142771 --> testing pending

Upstream job id: Generic-DPDK-Compile-ABI#101010

Test environment and result as below:

+-------------------+----------+
|    Environment    | abi_test |
+===================+==========+
| CentOS Stream 9   | PASS     |
+-------------------+----------+
| CentOS Stream 8   | PASS     |
+-------------------+----------+
| Fedora 37         | PASS     |
+-------------------+----------+
| Debian Bullseye   | PASS     |
+-------------------+----------+
| Debian 12         | PEND     |
+-------------------+----------+
| Fedora 38 (Clang) | PASS     |
+-------------------+----------+
| Fedora 38         | PASS     |
+-------------------+----------+
| Fedora 39 (Clang) | PEND     |
+-------------------+----------+
| Fedora 39         | PEND     |
+-------------------+----------+
| Fedora 40 (Clang) | PEND     |
+-------------------+----------+
| openSUSE Leap 15  | PEND     |
+-------------------+----------+
| RHEL8             | PEND     |
+-------------------+----------+
| Fedora 40         | PEND     |
+-------------------+----------+
| Ubuntu 22.04      | PASS     |
+-------------------+----------+
| RHEL9             | PEND     |
+-------------------+----------+
| Ubuntu 24.04      | PEND     |
+-------------------+----------+


CentOS Stream 9
	Kernel: 5.4.0-167-generic
	Compiler: gcc 11.4.1 20230605

CentOS Stream 8
	Kernel: 5.4.0-167-generic
	Compiler: gcc 8.5.0 20210514

Fedora 37
	Kernel: Depends on container host system
	Compiler: gcc 12.3.1

Debian Bullseye
	Kernel: 5.4.0-167-generic
	Compiler: gcc 10.2.1-6

Debian 12
	Kernel: Container Host Kernel
	Compiler: gcc 12.2.0

Fedora 38 (Clang)
	Kernel: Depends on container host
	Compiler: clang 16.0.6

Fedora 38
	Kernel: Depends on container host
	Compiler: gcc 13.2.1

Fedora 39 (Clang)
	Kernel: Depends on container host
	Compiler: clang 17.0.6

Fedora 39
	Kernel: Depends on container host
	Compiler: gcc 13.2.1

Fedora 40 (Clang)
	Kernel: Depends on container host
	Compiler: clang 18.1.6

openSUSE Leap 15
	Kernel: 5.4.0-167-generic
	Compiler: gcc 7.5.0

RHEL8
	Kernel: 5.4.0-167-generic
	Compiler: gcc 8.5.0 20210514 (Red Hat 8.5.0-20)

Fedora 40
	Kernel: Depends on container host
	Compiler: gcc 14.1.1

Ubuntu 22.04
	Kernel: 5.4.0-167-generic
	Compiler: gcc 11.4.0

RHEL9
	Kernel: Depends on container host
	Compiler: gcc 11.4.1

Ubuntu 24.04
	Kernel: 5.4.0-167-generic
	Compiler: gcc 13.2.0

To view detailed results, visit:
https://lab.dpdk.org/results/dashboard/patchsets/30661/

UNH-IOL DPDK Community Lab

To manage your email subscriptions, visit: 
https://lab.dpdk.org/results/dashboard/preferences/subscriptions/