From mboxrd@z Thu Jan  1 00:00:00 1970
Return-Path: <test-report-bounces@dpdk.org>
Received: from mails.dpdk.org (mails.dpdk.org [217.70.189.124])
	by inbox.dpdk.org (Postfix) with ESMTP id E2A33456FF
	for <public@inbox.dpdk.org>; Wed, 31 Jul 2024 11:18:30 +0200 (CEST)
Received: from mails.dpdk.org (localhost [127.0.0.1])
	by mails.dpdk.org (Postfix) with ESMTP id 3DCFC427A0;
	Wed, 31 Jul 2024 11:18:30 +0200 (CEST)
Received: from mail-oi1-f226.google.com (mail-oi1-f226.google.com
 [209.85.167.226])
 by mails.dpdk.org (Postfix) with ESMTP id 8DB934065D
 for <test-report@dpdk.org>; Wed, 31 Jul 2024 10:13:51 +0200 (CEST)
Received: by mail-oi1-f226.google.com with SMTP id
 5614622812f47-3db1e4219f8so2597185b6e.3
 for <test-report@dpdk.org>; Wed, 31 Jul 2024 01:13:51 -0700 (PDT)
DKIM-Signature: v=1; a=rsa-sha256; c=relaxed/relaxed;
 d=iol.unh.edu; s=unh-iol; t=1722413630; x=1723018430; darn=dpdk.org;
 h=references:in-reply-to:cc:to:from:subject:message-id:date:from:to
 :cc:subject:date:message-id:reply-to;
 bh=WBihC0Uwg6dKQa/9j437ijec7P8ZbweARCKCX99mDbo=;
 b=iKntMMq/ZSOjaGQDhOsyVI3JICacdWRAM2QSJ4h+75Kk7sopCYfiPqdSbGabBMpTML
 TCh1fQY4OWAiKToVJhSDGpH3TYZHhka7j0Y6TcXJXwcBGyfIxgjoF9+ZQr7I7A5P+c3O
 DXhGdNY1MS7AIwDGHRArEu/+snzmRz+i4D6c4=
X-Google-DKIM-Signature: v=1; a=rsa-sha256; c=relaxed/relaxed;
 d=1e100.net; s=20230601; t=1722413630; x=1723018430;
 h=references:in-reply-to:cc:to:from:subject:message-id:date
 :x-gm-message-state:from:to:cc:subject:date:message-id:reply-to;
 bh=WBihC0Uwg6dKQa/9j437ijec7P8ZbweARCKCX99mDbo=;
 b=gWguLCVttY7EnptNNEO3nEwwhiO7YcbrKgjvf4Efze2Gc+qORWqK9nhyiqvLsjlwfr
 blCsKjwkqUJ+lSi13cCN596OWBlhEDyZlbNz58WOflRd7q0/IADMw7ZE8rF8vkT17wYw
 JTj/e8MOiOz2uYwJmKL+a58hOK39i1xUXHWLdLm/KYGIrh5XKcSsUx2OTiKWHsilwjW+
 nM/TmW6NP3io1KxXw7OffJEkZSwcxquFxT4srPsyjdDWsDq6Du8//p+y244hWB4Txd5q
 ytbNASURSN6661SGWAl1ctiV+17rg6B++vj/Dh7OyRcd0KZQfKFNjfOcqSkehs6o2bzl
 +goA==
X-Gm-Message-State: AOJu0YxXt28XG5RaxIXn3FACF8Lv9iWFYzlxVH6dAl47pmnGmvkhqNXq
 eqTpI/RtZDMMtRZm485zL4mtR6hIMLDpNLAM8s9YEdaFt3u0cEN4Sbh+53olzEKxAOrV3quy46u
 /9upM6YGGQDQ+Ny5fclROvALzGKKw5chquaFHnM3h
X-Google-Smtp-Source: AGHT+IH7t7DjhrgyacL0dih9brg+G1upXC6jZlUVC47wqHXyZGIQ2fyBBC9G3LtQ4l4JyWdd7Z4lqkZunFsC
X-Received: by 2002:a05:6808:10c1:b0:3d6:3050:7caa with SMTP id
 5614622812f47-3db2343c9c8mr16217587b6e.0.1722413630580; 
 Wed, 31 Jul 2024 01:13:50 -0700 (PDT)
Received: from postal.iol.unh.edu (postal.iol.unh.edu. [132.177.123.84])
 by smtp-relay.gmail.com with ESMTPS id
 41be03b00d2f7-7a9f827421esm566349a12.19.2024.07.31.01.13.50
 (version=TLS1_2 cipher=ECDHE-ECDSA-AES128-GCM-SHA256 bits=128/128);
 Wed, 31 Jul 2024 01:13:50 -0700 (PDT)
X-Relaying-Domain: iol.unh.edu
Date: Wed, 31 Jul 2024 01:13:50 -0700 (PDT)
Message-ID: <66a9f23e.630a0220.10a5d9.24d7SMTPIN_ADDED_MISSING@mx.google.com>
Received: from [172.21.0.6] (unknown [172.18.0.240])
 by postal.iol.unh.edu (Postfix) with ESMTP id A79FB6052500;
 Wed, 31 Jul 2024 04:13:49 -0400 (EDT)
Subject: |SUCCESS| pw142769-142771 [PATCH] [v2,3/3] test: remove unused resou
From: dpdklab@iol.unh.edu
To: Test Report <test-report@dpdk.org>
Cc: dpdk-test-reports@iol.unh.edu
In-Reply-To: <20240731042141.76985-4-stephen@networkplumber.org>
References: <20240731042141.76985-4-stephen@networkplumber.org>
Content-Type: text/plain
X-BeenThere: test-report@dpdk.org
X-Mailman-Version: 2.1.29
Precedence: list
List-Id: automatic DPDK test reports <test-report.dpdk.org>
List-Unsubscribe: <https://mails.dpdk.org/options/test-report>,
 <mailto:test-report-request@dpdk.org?subject=unsubscribe>
List-Archive: <http://mails.dpdk.org/archives/test-report/>
List-Post: <mailto:test-report@dpdk.org>
List-Help: <mailto:test-report-request@dpdk.org?subject=help>
List-Subscribe: <https://mails.dpdk.org/listinfo/test-report>,
 <mailto:test-report-request@dpdk.org?subject=subscribe>
Errors-To: test-report-bounces@dpdk.org

Test-Label: iol-abi-testing
Test-Status: SUCCESS
http://dpdk.org/patch/142771

_Testing PASS_

Submitter: Stephen Hemminger <stephen@networkplumber.org>
Date: Wednesday, July 31 2024 04:20:31 
DPDK git baseline: Repo:dpdk
  Branch: master
  CommitID:1d245ca8239d947258b3ae7cc4d8df97ef527852

142769-142771 --> testing pass

Upstream job id: Generic-DPDK-Compile-ABI#101020

Test environment and result as below:

+-------------------+----------+
|    Environment    | abi_test |
+===================+==========+
| CentOS Stream 9   | PASS     |
+-------------------+----------+
| CentOS Stream 8   | PASS     |
+-------------------+----------+
| Fedora 37         | PASS     |
+-------------------+----------+
| Debian Bullseye   | PASS     |
+-------------------+----------+
| Debian 12         | PASS     |
+-------------------+----------+
| Fedora 38 (Clang) | PASS     |
+-------------------+----------+
| Fedora 38         | PASS     |
+-------------------+----------+
| Fedora 39 (Clang) | PASS     |
+-------------------+----------+
| Fedora 39         | PASS     |
+-------------------+----------+
| Fedora 40 (Clang) | PASS     |
+-------------------+----------+
| openSUSE Leap 15  | PASS     |
+-------------------+----------+
| RHEL8             | PASS     |
+-------------------+----------+
| Fedora 40         | PASS     |
+-------------------+----------+
| Ubuntu 22.04      | PASS     |
+-------------------+----------+
| RHEL9             | PASS     |
+-------------------+----------+
| Ubuntu 24.04      | PASS     |
+-------------------+----------+


CentOS Stream 9
	Kernel: 5.4.0-167-generic
	Compiler: gcc 11.4.1 20230605

CentOS Stream 8
	Kernel: 5.4.0-167-generic
	Compiler: gcc 8.5.0 20210514

Fedora 37
	Kernel: Depends on container host system
	Compiler: gcc 12.3.1

Debian Bullseye
	Kernel: 5.4.0-167-generic
	Compiler: gcc 10.2.1-6

Debian 12
	Kernel: Container Host Kernel
	Compiler: gcc 12.2.0

Fedora 38 (Clang)
	Kernel: Depends on container host
	Compiler: clang 16.0.6

Fedora 38
	Kernel: Depends on container host
	Compiler: gcc 13.2.1

Fedora 39 (Clang)
	Kernel: Depends on container host
	Compiler: clang 17.0.6

Fedora 39
	Kernel: Depends on container host
	Compiler: gcc 13.2.1

Fedora 40 (Clang)
	Kernel: Depends on container host
	Compiler: clang 18.1.6

openSUSE Leap 15
	Kernel: 5.4.0-167-generic
	Compiler: gcc 7.5.0

RHEL8
	Kernel: 5.4.0-167-generic
	Compiler: gcc 8.5.0 20210514 (Red Hat 8.5.0-20)

Fedora 40
	Kernel: Depends on container host
	Compiler: gcc 14.1.1

Ubuntu 22.04
	Kernel: 5.4.0-167-generic
	Compiler: gcc 11.4.0

RHEL9
	Kernel: Depends on container host
	Compiler: gcc 11.4.1

Ubuntu 24.04
	Kernel: 5.4.0-167-generic
	Compiler: gcc 13.2.0

To view detailed results, visit:
https://lab.dpdk.org/results/dashboard/patchsets/30661/

UNH-IOL DPDK Community Lab

To manage your email subscriptions, visit: 
https://lab.dpdk.org/results/dashboard/preferences/subscriptions/