From mboxrd@z Thu Jan  1 00:00:00 1970
Return-Path: <test-report-bounces@dpdk.org>
Received: from mails.dpdk.org (mails.dpdk.org [217.70.189.124])
	by inbox.dpdk.org (Postfix) with ESMTP id 662C8456FF
	for <public@inbox.dpdk.org>; Wed, 31 Jul 2024 11:18:41 +0200 (CEST)
Received: from mails.dpdk.org (localhost [127.0.0.1])
	by mails.dpdk.org (Postfix) with ESMTP id 0671B40E1E;
	Wed, 31 Jul 2024 11:18:36 +0200 (CEST)
Received: from mail-yw1-f225.google.com (mail-yw1-f225.google.com
 [209.85.128.225])
 by mails.dpdk.org (Postfix) with ESMTP id 55E9840668
 for <test-report@dpdk.org>; Wed, 31 Jul 2024 10:53:01 +0200 (CEST)
Received: by mail-yw1-f225.google.com with SMTP id
 00721157ae682-66526e430e0so42711657b3.2
 for <test-report@dpdk.org>; Wed, 31 Jul 2024 01:53:01 -0700 (PDT)
DKIM-Signature: v=1; a=rsa-sha256; c=relaxed/relaxed;
 d=iol.unh.edu; s=unh-iol; t=1722415980; x=1723020780; darn=dpdk.org;
 h=references:in-reply-to:cc:to:from:subject:message-id:date:from:to
 :cc:subject:date:message-id:reply-to;
 bh=KW1U1WDpI16bo147SGqoJm1zjXUtAEyUzyM6P6BnsUA=;
 b=FHGlwaiomQ51kKzgBxPaC8p8wjGdNi87AtezaaX+F5ttP1cwyhXvlzdrPvLSBLrWfX
 gaFiq2obqED45aCdCfuCX7s4eOsKD1fWlxwQ0rKgkk4R+IxGRdKOFAWH7TTaX8VP5WoP
 AW7E6saAI+0fbucFAAQ5+eYrD42ZdgxyVLiYw=
X-Google-DKIM-Signature: v=1; a=rsa-sha256; c=relaxed/relaxed;
 d=1e100.net; s=20230601; t=1722415980; x=1723020780;
 h=references:in-reply-to:cc:to:from:subject:message-id:date
 :x-gm-message-state:from:to:cc:subject:date:message-id:reply-to;
 bh=KW1U1WDpI16bo147SGqoJm1zjXUtAEyUzyM6P6BnsUA=;
 b=oQZ6uTarJygehtEdzQ69m+vOe2dSieq4juSc/uM5U8Ig1H9+VgMcGDLQEAk2H+jOLB
 h37jKcU9EJ6h3A9SqIasCLGQDoYsBI4OcPLxAPhdv8uJTNMssEBQxLXWASyJtkpLqtsE
 pMlil8W87PaUcs8nrjIZ9Ba6Ny1CNlu+ZuW6isH1v80XWZlXAj/+NPNuspwGMTvscTfE
 1z6YJ4wdQHqsjZztZ6el2GWYHDCbCu+rKwZoi+lGQB3xatMen7U6fzQ7I6ldyXvUyEjy
 NJzeb+l+FnY93UMAGhkVMjto0P8/0D4zZ4eUSja2jStf77+m2o3T66VrKxap+TUdNp4t
 q7Aw==
X-Gm-Message-State: AOJu0Yxkf4yE16Je5Vo626T5HqeaWb46Gchny0dLx3Q7c2/ajiKbT5Wp
 uDe1dovAdGsBTBz1zGGvQoFXTb2hLzgjeUnknKSI5Uv6so1hfJBsTvhMfoyrksd0y/bdsEBpD5a
 w5HSLsrJHdWf8vq8vyPMyHlb1wzXXqbJwvPtcj1gM
X-Google-Smtp-Source: AGHT+IEzuD15XJbOkWPQ4MoTK73LJrUaql2lON/8cW5aX/BCPYvcC04nQUeg6vwh/hPJ43sv6HRc3FQhL8lx
X-Received: by 2002:a81:5c04:0:b0:664:4b9c:3de with SMTP id
 00721157ae682-67a06440ff2mr137970227b3.13.1722415980782; 
 Wed, 31 Jul 2024 01:53:00 -0700 (PDT)
Received: from postal.iol.unh.edu (postal.iol.unh.edu. [132.177.123.84])
 by smtp-relay.gmail.com with ESMTPS id
 00721157ae682-6756b8c8ee1sm8525897b3.71.2024.07.31.01.53.00
 (version=TLS1_2 cipher=ECDHE-ECDSA-AES128-GCM-SHA256 bits=128/128);
 Wed, 31 Jul 2024 01:53:00 -0700 (PDT)
X-Relaying-Domain: iol.unh.edu
Date: Wed, 31 Jul 2024 01:53:00 -0700 (PDT)
Message-ID: <66a9fb6c.810a0220.b6be2.1ffcSMTPIN_ADDED_MISSING@mx.google.com>
Received: from [172.21.0.7] (unknown [172.18.0.240])
 by postal.iol.unh.edu (Postfix) with ESMTP id 6E4766052722;
 Wed, 31 Jul 2024 04:53:00 -0400 (EDT)
Subject: |PENDING| pw142769-142771 [PATCH] [v2,3/3] test: remove unused resou
From: dpdklab@iol.unh.edu
To: Test Report <test-report@dpdk.org>
Cc: dpdk-test-reports@iol.unh.edu
In-Reply-To: <20240731042141.76985-4-stephen@networkplumber.org>
References: <20240731042141.76985-4-stephen@networkplumber.org>
Content-Type: text/plain
X-BeenThere: test-report@dpdk.org
X-Mailman-Version: 2.1.29
Precedence: list
List-Id: automatic DPDK test reports <test-report.dpdk.org>
List-Unsubscribe: <https://mails.dpdk.org/options/test-report>,
 <mailto:test-report-request@dpdk.org?subject=unsubscribe>
List-Archive: <http://mails.dpdk.org/archives/test-report/>
List-Post: <mailto:test-report@dpdk.org>
List-Help: <mailto:test-report-request@dpdk.org?subject=help>
List-Subscribe: <https://mails.dpdk.org/listinfo/test-report>,
 <mailto:test-report-request@dpdk.org?subject=subscribe>
Errors-To: test-report-bounces@dpdk.org

Test-Label: iol-compile-arm64-testing
Test-Status: PENDING
http://dpdk.org/patch/142771

_Testing pending_

Submitter: Stephen Hemminger <stephen@networkplumber.org>
Date: Wednesday, July 31 2024 04:20:31 
DPDK git baseline: Repo:dpdk
  Branch: master
  CommitID:1d245ca8239d947258b3ae7cc4d8df97ef527852

142769-142771 --> testing pending

Upstream job id: Generic-DPDK-Compile-Meson#282086

Test environment and result as below:

+----------------------------------------+--------------------+
|              Environment               | dpdk_meson_compile |
+========================================+====================+
| RHEL9 (ARM)                            | PASS               |
+----------------------------------------+--------------------+
| Ubuntu 20.04 ARM GCC Cross Compile     | PASS               |
+----------------------------------------+--------------------+
| Ubuntu 20.04 ARM SVE                   | PASS               |
+----------------------------------------+--------------------+
| Debian 12 with MUSDK                   | PASS               |
+----------------------------------------+--------------------+
| Fedora 37 (ARM)                        | PASS               |
+----------------------------------------+--------------------+
| Fedora 38 (ARM)                        | PASS               |
+----------------------------------------+--------------------+
| Fedora 38 (ARM Clang)                  | PEND               |
+----------------------------------------+--------------------+
| Fedora 39 (ARM)                        | PASS               |
+----------------------------------------+--------------------+
| Fedora 39 (ARM Clang)                  | PEND               |
+----------------------------------------+--------------------+
| Fedora 40 (ARM)                        | PASS               |
+----------------------------------------+--------------------+
| Fedora 40 (ARM Clang)                  | PEND               |
+----------------------------------------+--------------------+
| Ubuntu 20.04 (ARM)                     | PASS               |
+----------------------------------------+--------------------+
| Ubuntu 22.04 (ARM)                     | PASS               |
+----------------------------------------+--------------------+
| Ubuntu 24.04 (ARM)                     | PASS               |
+----------------------------------------+--------------------+
| CentOS Stream 9 (ARM)                  | PASS               |
+----------------------------------------+--------------------+
| Debian 11 (Buster) (ARM)               | PASS               |
+----------------------------------------+--------------------+
| Debian 12 (arm)                        | PASS               |
+----------------------------------------+--------------------+
| Ubuntu 20.04 ARM Clang Cross Compile   | PEND               |
+----------------------------------------+--------------------+
| Ubuntu 20.04 aarch32 GCC Cross Compile | PEND               |
+----------------------------------------+--------------------+


RHEL9 (ARM)
	Kernel: Depends on container host
	Compiler: gcc 11.4.1

Ubuntu 20.04 ARM GCC Cross Compile
	Kernel: 5.4.0-167-generic
	Compiler: aarch64-linux-gnu-gcc (Ubuntu 9.4.0-1ubuntu1~20.04.2) 9.4.0

Ubuntu 20.04 ARM SVE
	Kernel: 5.4.0-167-generic
	Compiler: gcc (Ubuntu 10.5.0-1ubuntu1~20.04) 10.5.0

Debian 12 with MUSDK
	Kernel: Container Host Kernel
	Compiler: gcc 12.2.0

Fedora 37 (ARM)
	Kernel: Depends on container host
	Compiler: gcc 12.3.1

Fedora 38 (ARM)
	Kernel: Depends on container host
	Compiler: gcc 13.2.1

Fedora 38 (ARM Clang)
	Kernel: Depends on container host
	Compiler: clang 16.0.6

Fedora 39 (ARM)
	Kernel: Depends on container host
	Compiler: gcc 13.2.1

Fedora 39 (ARM Clang)
	Kernel: Depends on container host
	Compiler: clang 17.0.6

Fedora 40 (ARM)
	Kernel: Depends on container host
	Compiler: gcc 14.1.1

Fedora 40 (ARM Clang)
	Kernel: Depends on container host
	Compiler: clang 18.1.6

Ubuntu 20.04 (ARM)
	Kernel: Container Host Kernel
	Compiler: gcc 9.4.0

Ubuntu 22.04 (ARM)
	Kernel: Container Host Kernel
	Compiler: gcc 11.4.0

Ubuntu 24.04 (ARM)
	Kernel: 5.4.0-167-generic
	Compiler: gcc 13.2.0

CentOS Stream 9 (ARM)
	Kernel: Container Host Kernel
	Compiler: gcc 11.4.1

Debian 11 (Buster) (ARM)
	Kernel: Container Host Kernel
	Compiler: gcc 10.2.1

Debian 12 (arm)
	Kernel: Container Host Kernel
	Compiler: gcc 12.2.0

Ubuntu 20.04 ARM Clang Cross Compile
	Kernel: 5.4.0-72-generic
	Compiler: clang 10.0.0-4ubuntu1

Ubuntu 20.04 aarch32 GCC Cross Compile
	Kernel: 5.4.0-167-generic
	Compiler: gcc 9.4.0

To view detailed results, visit:
https://lab.dpdk.org/results/dashboard/patchsets/30661/

UNH-IOL DPDK Community Lab

To manage your email subscriptions, visit: 
https://lab.dpdk.org/results/dashboard/preferences/subscriptions/