From mboxrd@z Thu Jan  1 00:00:00 1970
Return-Path: <test-report-bounces@dpdk.org>
Received: from mails.dpdk.org (mails.dpdk.org [217.70.189.124])
	by inbox.dpdk.org (Postfix) with ESMTP id DA48A45702
	for <public@inbox.dpdk.org>; Wed, 31 Jul 2024 17:56:25 +0200 (CEST)
Received: from mails.dpdk.org (localhost [127.0.0.1])
	by mails.dpdk.org (Postfix) with ESMTP id D299C42F05;
	Wed, 31 Jul 2024 17:56:25 +0200 (CEST)
Received: from mail-yw1-f226.google.com (mail-yw1-f226.google.com
 [209.85.128.226])
 by mails.dpdk.org (Postfix) with ESMTP id 676A642EF5
 for <test-report@dpdk.org>; Wed, 31 Jul 2024 17:56:18 +0200 (CEST)
Received: by mail-yw1-f226.google.com with SMTP id
 00721157ae682-661d7e68e89so9629027b3.0
 for <test-report@dpdk.org>; Wed, 31 Jul 2024 08:56:18 -0700 (PDT)
DKIM-Signature: v=1; a=rsa-sha256; c=relaxed/relaxed;
 d=iol.unh.edu; s=unh-iol; t=1722441378; x=1723046178; darn=dpdk.org;
 h=references:in-reply-to:cc:to:from:subject:message-id:date:from:to
 :cc:subject:date:message-id:reply-to;
 bh=y2hS1a+M7qoEkhQeaNUMKOGU1cHGwc3wGMOzOh1jkUU=;
 b=UhzeUYLhXJdTmwXYS5aKj0iR4h1sk8wP9ea1HZFQBNRPmx3xuuHI7/mH+LVlrOPtpd
 hvPeU52eBABQwy1u2jMeSHobQYb4MJLvHbEEfzLIUdQdECWu+4SKBiY6d957uf5qP4Vw
 o+BP59DSmhmBsk1Xsrgsl1TZoT+ZMtEX12Mfk=
X-Google-DKIM-Signature: v=1; a=rsa-sha256; c=relaxed/relaxed;
 d=1e100.net; s=20230601; t=1722441378; x=1723046178;
 h=references:in-reply-to:cc:to:from:subject:message-id:date
 :x-gm-message-state:from:to:cc:subject:date:message-id:reply-to;
 bh=y2hS1a+M7qoEkhQeaNUMKOGU1cHGwc3wGMOzOh1jkUU=;
 b=sZCbmXZLiLh9w3e73Q0ZbmITtPs9gjVNm4sUpL5sZrxNzVAgcX4FhzcBHpQgHwhvRt
 tGtwHPkWGjmocPoUaMrjWQOBfVQsnNT8skdh30N279zYsnJ7NGPSEeqwPhaoupQ/uSvB
 aWnlQPx+SO9upqOkWHTHnwrH49FXYfX/67UcEL4fTEe3jpANsUb0M1zLn0V3aKMFi/O5
 vhombyplNS4Vc9VFKzHznOm0ASuE2+y7F/DaEjg8cTMJ8iRrZYoRzKYFQ2P45RvglvoJ
 7BzbXeNbFMGe7sWm4tWTSUvii7OM2BGQLuKuvpXUHI3cDtBqbR91PlBalO6mol/t9b9r
 P8iw==
X-Gm-Message-State: AOJu0Yzph7oC5rLwQHyvoCPTWA94UYa5rpUtlkmSllAu46NJFy1TWurY
 f15bdt/ELM/85/TPuj+rtDjcr+WRTOvQeDKALeRmsjOCkDr1w77SOT8ceByC9DAbmK+GvT3WUJp
 Js8lOMpBlN1Z68eA0hvwmbRh/wh8vjIGInYAekNqcFUZ+cO1MAwh5eLQQ
X-Google-Smtp-Source: AGHT+IEjV9pRCqwc4HJl/EWpYUiMGvckoWjiRinpT/9zUlrvL5fupomLOWuMmcE6sv8SN7WLZb5El2kiopGg
X-Received: by 2002:a05:690c:dcf:b0:64b:16ed:7c86 with SMTP id
 00721157ae682-6826a4c9405mr65021207b3.4.1722441377788; 
 Wed, 31 Jul 2024 08:56:17 -0700 (PDT)
Received: from postal.iol.unh.edu (postal.iol.unh.edu.
 [2606:4100:3880:1234::84]) by smtp-relay.gmail.com with ESMTPS id
 00721157ae682-6756b7ce7a1sm5232257b3.64.2024.07.31.08.56.17
 (version=TLS1_2 cipher=ECDHE-ECDSA-AES128-GCM-SHA256 bits=128/128);
 Wed, 31 Jul 2024 08:56:17 -0700 (PDT)
X-Relaying-Domain: iol.unh.edu
Date: Wed, 31 Jul 2024 08:56:17 -0700 (PDT)
Message-ID: <66aa5ea1.810a0220.2bd24a.9fb6SMTPIN_ADDED_MISSING@mx.google.com>
Received: from [172.21.0.9] (unknown [172.18.0.240])
 by postal.iol.unh.edu (Postfix) with ESMTP id 688C7605C351;
 Wed, 31 Jul 2024 11:56:17 -0400 (EDT)
Subject: |PENDING| pw142783-142784 [PATCH] [v2,2/2] doc: give full width to N
From: dpdklab@iol.unh.edu
To: Test Report <test-report@dpdk.org>
Cc: dpdk-test-reports@iol.unh.edu
In-Reply-To: <20240731083332.709421-3-thomas@monjalon.net>
References: <20240731083332.709421-3-thomas@monjalon.net>
Content-Type: text/plain
X-BeenThere: test-report@dpdk.org
X-Mailman-Version: 2.1.29
Precedence: list
List-Id: automatic DPDK test reports <test-report.dpdk.org>
List-Unsubscribe: <https://mails.dpdk.org/options/test-report>,
 <mailto:test-report-request@dpdk.org?subject=unsubscribe>
List-Archive: <http://mails.dpdk.org/archives/test-report/>
List-Post: <mailto:test-report@dpdk.org>
List-Help: <mailto:test-report-request@dpdk.org?subject=help>
List-Subscribe: <https://mails.dpdk.org/listinfo/test-report>,
 <mailto:test-report-request@dpdk.org?subject=subscribe>
Errors-To: test-report-bounces@dpdk.org

Test-Label: iol-unit-arm64-testing
Test-Status: PENDING
http://dpdk.org/patch/142784

_Testing pending_

Submitter: Thomas Monjalon <thomas@monjalon.net>
Date: Wednesday, July 31 2024 08:31:32 
DPDK git baseline: Repo:dpdk
  Branch: master
  CommitID:1d245ca8239d947258b3ae7cc4d8df97ef527852

142783-142784 --> testing pending

Upstream job id: Generic-Unit-Test-DPDK#246941

Test environment and result as below:

+-----------------------------+--------------+------------------------------+---------------------------+----------------+
|         Environment         | lpm_autotest | cryptodev_sw_snow3g_autotest | cryptodev_sw_zuc_autotest | dpdk_unit_test |
+=============================+==============+==============================+===========================+================+
| Ubuntu 20.04 ARM SVE        | PEND         | SKIPPED                      | SKIPPED                   | SKIPPED        |
+-----------------------------+--------------+------------------------------+---------------------------+----------------+
| Debian 12 (arm)             | SKIPPED      | PASS                         | PASS                      | PASS           |
+-----------------------------+--------------+------------------------------+---------------------------+----------------+
| Debian 11 (Buster) (ARM)    | SKIPPED      | SKIPPED                      | SKIPPED                   | PASS           |
+-----------------------------+--------------+------------------------------+---------------------------+----------------+
| Fedora 37 (ARM)             | SKIPPED      | SKIPPED                      | SKIPPED                   | PASS           |
+-----------------------------+--------------+------------------------------+---------------------------+----------------+
| Fedora 38 (ARM Clang)       | SKIPPED      | SKIPPED                      | SKIPPED                   | PEND           |
+-----------------------------+--------------+------------------------------+---------------------------+----------------+
| Fedora 38 (ARM)             | SKIPPED      | SKIPPED                      | SKIPPED                   | PASS           |
+-----------------------------+--------------+------------------------------+---------------------------+----------------+
| Fedora 39 (ARM Clang)       | SKIPPED      | SKIPPED                      | SKIPPED                   | PEND           |
+-----------------------------+--------------+------------------------------+---------------------------+----------------+
| Fedora 40 (ARM)             | SKIPPED      | SKIPPED                      | SKIPPED                   | PEND           |
+-----------------------------+--------------+------------------------------+---------------------------+----------------+
| Fedora 40 (ARM Clang)       | SKIPPED      | SKIPPED                      | SKIPPED                   | PEND           |
+-----------------------------+--------------+------------------------------+---------------------------+----------------+
| RHEL9 (ARM)                 | SKIPPED      | SKIPPED                      | SKIPPED                   | PEND           |
+-----------------------------+--------------+------------------------------+---------------------------+----------------+
| Ubuntu 20.04 (ARM)          | SKIPPED      | SKIPPED                      | SKIPPED                   | PEND           |
+-----------------------------+--------------+------------------------------+---------------------------+----------------+
| Ubuntu 22.04 (ARM)          | SKIPPED      | SKIPPED                      | SKIPPED                   | PEND           |
+-----------------------------+--------------+------------------------------+---------------------------+----------------+
| Ubuntu 24.04 (ARM)          | SKIPPED      | SKIPPED                      | SKIPPED                   | PEND           |
+-----------------------------+--------------+------------------------------+---------------------------+----------------+
| 32-bit Ubuntu 20.04.4 (ARM) | SKIPPED      | SKIPPED                      | SKIPPED                   | PEND           |
+-----------------------------+--------------+------------------------------+---------------------------+----------------+
| Fedora 39 (ARM)             | SKIPPED      | SKIPPED                      | SKIPPED                   | PEND           |
+-----------------------------+--------------+------------------------------+---------------------------+----------------+
| CentOS Stream 9 (ARM)       | SKIPPED      | SKIPPED                      | SKIPPED                   | PEND           |
+-----------------------------+--------------+------------------------------+---------------------------+----------------+


Ubuntu 20.04 ARM SVE
	Kernel: 5.4.0-167-generic
	Compiler: gcc (Ubuntu 10.5.0-1ubuntu1~20.04) 10.5.0

Debian 12 (arm)
	Kernel: Container Host Kernel
	Compiler: gcc 12.2.0

Debian 11 (Buster) (ARM)
	Kernel: Container Host Kernel
	Compiler: gcc 10.2.1

Fedora 37 (ARM)
	Kernel: Depends on container host
	Compiler: gcc 12.3.1

Fedora 38 (ARM Clang)
	Kernel: Depends on container host
	Compiler: clang 16.0.6

Fedora 38 (ARM)
	Kernel: Depends on container host
	Compiler: gcc 13.2.1

Fedora 39 (ARM Clang)
	Kernel: Depends on container host
	Compiler: clang 17.0.6

Fedora 40 (ARM)
	Kernel: Depends on container host
	Compiler: gcc 14.1.1

Fedora 40 (ARM Clang)
	Kernel: Depends on container host
	Compiler: clang 18.1.6

RHEL9 (ARM)
	Kernel: Depends on container host
	Compiler: gcc 11.4.1

Ubuntu 20.04 (ARM)
	Kernel: Container Host Kernel
	Compiler: gcc 9.4.0

Ubuntu 22.04 (ARM)
	Kernel: Container Host Kernel
	Compiler: gcc 11.4.0

Ubuntu 24.04 (ARM)
	Kernel: 5.4.0-167-generic
	Compiler: gcc 13.2.0

32-bit Ubuntu 20.04.4 (ARM)
	Kernel: 5.4.0-155-generic aarch64
	Compiler: gcc 9.4

Fedora 39 (ARM)
	Kernel: Depends on container host
	Compiler: gcc 13.2.1

CentOS Stream 9 (ARM)
	Kernel: Container Host Kernel
	Compiler: gcc 11.4.1

To view detailed results, visit:
https://lab.dpdk.org/results/dashboard/patchsets/30672/

UNH-IOL DPDK Community Lab

To manage your email subscriptions, visit: 
https://lab.dpdk.org/results/dashboard/preferences/subscriptions/