From mboxrd@z Thu Jan  1 00:00:00 1970
Return-Path: <test-report-bounces@dpdk.org>
Received: from mails.dpdk.org (mails.dpdk.org [217.70.189.124])
	by inbox.dpdk.org (Postfix) with ESMTP id 7B1A445704
	for <public@inbox.dpdk.org>; Wed, 31 Jul 2024 20:47:50 +0200 (CEST)
Received: from mails.dpdk.org (localhost [127.0.0.1])
	by mails.dpdk.org (Postfix) with ESMTP id 72A2E40A80;
	Wed, 31 Jul 2024 20:47:50 +0200 (CEST)
Received: from mail-ot1-f98.google.com (mail-ot1-f98.google.com
 [209.85.210.98]) by mails.dpdk.org (Postfix) with ESMTP id 04AEC4067E
 for <test-report@dpdk.org>; Wed, 31 Jul 2024 20:47:35 +0200 (CEST)
Received: by mail-ot1-f98.google.com with SMTP id
 46e09a7af769-7093d565310so4878273a34.2
 for <test-report@dpdk.org>; Wed, 31 Jul 2024 11:47:34 -0700 (PDT)
DKIM-Signature: v=1; a=rsa-sha256; c=relaxed/relaxed;
 d=iol.unh.edu; s=unh-iol; t=1722451654; x=1723056454; darn=dpdk.org;
 h=references:in-reply-to:cc:to:from:subject:message-id:date:from:to
 :cc:subject:date:message-id:reply-to;
 bh=n1bjWOuR33lkLUx+kN5pnDQZdVsBRBkCT55FRu5RsUc=;
 b=QPPKFxswd0u08tC6PkEP58hwcQOMlann/EtQTGSdsJC3T7xYrsTAP/ezzLG+ClA401
 +/H3TstTnXp3Y08OZ6TXPpUdcs7yW4awyNZlSmU3faD5Deob3HwckqERT2nLuTVCaNDh
 wjzGMR4eMBUAjNtk9TASp3q2k78BtNJdyoz8s=
X-Google-DKIM-Signature: v=1; a=rsa-sha256; c=relaxed/relaxed;
 d=1e100.net; s=20230601; t=1722451654; x=1723056454;
 h=references:in-reply-to:cc:to:from:subject:message-id:date
 :x-gm-message-state:from:to:cc:subject:date:message-id:reply-to;
 bh=n1bjWOuR33lkLUx+kN5pnDQZdVsBRBkCT55FRu5RsUc=;
 b=jX2PESqcJQTlZ0Ejy/BZEI3IH4Clokh/DOplIZCaA7LlFOufzVZvtclScYWKXInUnT
 zAYVGcvttBtgNvjtHzCKHfdJoHUs9WOP8To0vcdZ1a1H0OdiIkXvAnQ5WDDhsl8bQmSk
 6JcCSqR1Ezp2tFy+UsXUpepr8aoN2Xc94lWT+eY1Hc8FsV23mHryQHOOD2jhzkxUE9UI
 A5+BT4K32nUekKB+ziC+eDpphx7UTbukNs+3DHdbYcPpWBKNbSSeV5WLp/gMhXLvw8c6
 2d7pJFa0DpU0Cef9Y5d2VqEenLHRjQ1SyQd7RsPjPiO0PpXAPXx//wXSsJTBj7dJqJmN
 kqIA==
X-Gm-Message-State: AOJu0Yz3+3i4fJnAVBLBYkPGDDAIetFggf3PU0/HgkJj9N4IXuQcQLWp
 iuyRY2qooAMrLXEOzQV1mttmcX/wcwfIL4jJIP74jYwEi2D9T8Pxyk6dTs0NiHH6oS7ZdeHlbEc
 2zikzjvkfaFewhpWXtWk7ARsBHjTwJo/JJ1sM/3uq/tfqZkunKuV8ZPKZ
X-Google-Smtp-Source: AGHT+IHgdsGGYKpi8MFI891vzp8GdGPG4YCHoTJr88nATdQSEoSZv0m+Jq9ItevHO10GPj4L6GuGQvXBDzot
X-Received: by 2002:a05:6358:2d86:b0:1ac:ec74:a00a with SMTP id
 e5c5f4694b2df-1af2eda8af7mr43913655d.17.1722451653957; 
 Wed, 31 Jul 2024 11:47:33 -0700 (PDT)
Received: from postal.iol.unh.edu (postal.iol.unh.edu.
 [2606:4100:3880:1234::84]) by smtp-relay.gmail.com with ESMTPS id
 6a1803df08f44-6bb3f8dda38sm6653456d6.2.2024.07.31.11.47.33
 (version=TLS1_2 cipher=ECDHE-ECDSA-AES128-GCM-SHA256 bits=128/128);
 Wed, 31 Jul 2024 11:47:33 -0700 (PDT)
X-Relaying-Domain: iol.unh.edu
Date: Wed, 31 Jul 2024 11:47:33 -0700 (PDT)
Message-ID: <66aa86c5.050a0220.2f646c.7946SMTPIN_ADDED_MISSING@mx.google.com>
Received: from [172.21.0.6] (unknown [172.18.0.240])
 by postal.iol.unh.edu (Postfix) with ESMTP id A3F97605C351;
 Wed, 31 Jul 2024 14:47:33 -0400 (EDT)
Subject: |PENDING| pw142780 [PATCH] [v1,1/1] mldev: introduce data type conve
From: dpdklab@iol.unh.edu
To: Test Report <test-report@dpdk.org>
Cc: dpdk-test-reports@iol.unh.edu
In-Reply-To: <20240731063250.9008-1-syalavarthi@marvell.com>
References: <20240731063250.9008-1-syalavarthi@marvell.com>
Content-Type: text/plain
X-BeenThere: test-report@dpdk.org
X-Mailman-Version: 2.1.29
Precedence: list
List-Id: automatic DPDK test reports <test-report.dpdk.org>
List-Unsubscribe: <https://mails.dpdk.org/options/test-report>,
 <mailto:test-report-request@dpdk.org?subject=unsubscribe>
List-Archive: <http://mails.dpdk.org/archives/test-report/>
List-Post: <mailto:test-report@dpdk.org>
List-Help: <mailto:test-report-request@dpdk.org?subject=help>
List-Subscribe: <https://mails.dpdk.org/listinfo/test-report>,
 <mailto:test-report-request@dpdk.org?subject=subscribe>
Errors-To: test-report-bounces@dpdk.org

Test-Label: iol-compile-arm64-testing
Test-Status: PENDING
http://dpdk.org/patch/142780

_Testing pending_

Submitter: Srikanth Yalavarthi <syalavarthi@marvell.com>
Date: Wednesday, July 31 2024 06:32:49 
DPDK git baseline: Repo:dpdk
  Branch: master
  CommitID:1d245ca8239d947258b3ae7cc4d8df97ef527852

142780 --> testing pending

Upstream job id: Generic-DPDK-Compile-Meson#282459

Test environment and result as below:

+----------------------------------------+--------------------+
|              Environment               | dpdk_meson_compile |
+========================================+====================+
| RHEL9 (ARM)                            | PASS               |
+----------------------------------------+--------------------+
| Ubuntu 20.04 ARM GCC Cross Compile     | PEND               |
+----------------------------------------+--------------------+
| Ubuntu 20.04 ARM SVE                   | PASS               |
+----------------------------------------+--------------------+
| Debian 12 with MUSDK                   | PASS               |
+----------------------------------------+--------------------+
| Fedora 37 (ARM)                        | PASS               |
+----------------------------------------+--------------------+
| Fedora 38 (ARM)                        | PEND               |
+----------------------------------------+--------------------+
| Fedora 38 (ARM Clang)                  | PEND               |
+----------------------------------------+--------------------+
| Fedora 39 (ARM)                        | PEND               |
+----------------------------------------+--------------------+
| Fedora 40 (ARM)                        | PEND               |
+----------------------------------------+--------------------+
| Fedora 40 (ARM Clang)                  | PEND               |
+----------------------------------------+--------------------+
| Ubuntu 20.04 (ARM)                     | PEND               |
+----------------------------------------+--------------------+
| Ubuntu 22.04 (ARM)                     | PEND               |
+----------------------------------------+--------------------+
| Ubuntu 24.04 (ARM)                     | PEND               |
+----------------------------------------+--------------------+
| CentOS Stream 9 (ARM)                  | PEND               |
+----------------------------------------+--------------------+
| Debian 11 (Buster) (ARM)               | PEND               |
+----------------------------------------+--------------------+
| Debian 12 (arm)                        | PEND               |
+----------------------------------------+--------------------+
| Ubuntu 20.04 ARM Clang Cross Compile   | PEND               |
+----------------------------------------+--------------------+
| Ubuntu 20.04 aarch32 GCC Cross Compile | PEND               |
+----------------------------------------+--------------------+


RHEL9 (ARM)
	Kernel: Depends on container host
	Compiler: gcc 11.4.1

Ubuntu 20.04 ARM GCC Cross Compile
	Kernel: 5.4.0-167-generic
	Compiler: aarch64-linux-gnu-gcc (Ubuntu 9.4.0-1ubuntu1~20.04.2) 9.4.0

Ubuntu 20.04 ARM SVE
	Kernel: 5.4.0-167-generic
	Compiler: gcc (Ubuntu 10.5.0-1ubuntu1~20.04) 10.5.0

Debian 12 with MUSDK
	Kernel: Container Host Kernel
	Compiler: gcc 12.2.0

Fedora 37 (ARM)
	Kernel: Depends on container host
	Compiler: gcc 12.3.1

Fedora 38 (ARM)
	Kernel: Depends on container host
	Compiler: gcc 13.2.1

Fedora 38 (ARM Clang)
	Kernel: Depends on container host
	Compiler: clang 16.0.6

Fedora 39 (ARM)
	Kernel: Depends on container host
	Compiler: gcc 13.2.1

Fedora 40 (ARM)
	Kernel: Depends on container host
	Compiler: gcc 14.1.1

Fedora 40 (ARM Clang)
	Kernel: Depends on container host
	Compiler: clang 18.1.6

Ubuntu 20.04 (ARM)
	Kernel: Container Host Kernel
	Compiler: gcc 9.4.0

Ubuntu 22.04 (ARM)
	Kernel: Container Host Kernel
	Compiler: gcc 11.4.0

Ubuntu 24.04 (ARM)
	Kernel: 5.4.0-167-generic
	Compiler: gcc 13.2.0

CentOS Stream 9 (ARM)
	Kernel: Container Host Kernel
	Compiler: gcc 11.4.1

Debian 11 (Buster) (ARM)
	Kernel: Container Host Kernel
	Compiler: gcc 10.2.1

Debian 12 (arm)
	Kernel: Container Host Kernel
	Compiler: gcc 12.2.0

Ubuntu 20.04 ARM Clang Cross Compile
	Kernel: 5.4.0-72-generic
	Compiler: clang 10.0.0-4ubuntu1

Ubuntu 20.04 aarch32 GCC Cross Compile
	Kernel: 5.4.0-167-generic
	Compiler: gcc 9.4.0

To view detailed results, visit:
https://lab.dpdk.org/results/dashboard/patchsets/30669/

UNH-IOL DPDK Community Lab

To manage your email subscriptions, visit: 
https://lab.dpdk.org/results/dashboard/preferences/subscriptions/