From mboxrd@z Thu Jan  1 00:00:00 1970
Return-Path: <test-report-bounces@dpdk.org>
Received: from mails.dpdk.org (mails.dpdk.org [217.70.189.124])
	by inbox.dpdk.org (Postfix) with ESMTP id 23EE845704
	for <public@inbox.dpdk.org>; Wed, 31 Jul 2024 21:44:00 +0200 (CEST)
Received: from mails.dpdk.org (localhost [127.0.0.1])
	by mails.dpdk.org (Postfix) with ESMTP id 202A54067E;
	Wed, 31 Jul 2024 21:44:00 +0200 (CEST)
Received: from mail-oa1-f97.google.com (mail-oa1-f97.google.com
 [209.85.160.97]) by mails.dpdk.org (Postfix) with ESMTP id 61BE8400D5
 for <test-report@dpdk.org>; Wed, 31 Jul 2024 21:43:45 +0200 (CEST)
Received: by mail-oa1-f97.google.com with SMTP id
 586e51a60fabf-26109c97728so3788402fac.0
 for <test-report@dpdk.org>; Wed, 31 Jul 2024 12:43:45 -0700 (PDT)
DKIM-Signature: v=1; a=rsa-sha256; c=relaxed/relaxed;
 d=iol.unh.edu; s=unh-iol; t=1722455024; x=1723059824; darn=dpdk.org;
 h=references:in-reply-to:cc:to:from:subject:message-id:date:from:to
 :cc:subject:date:message-id:reply-to;
 bh=trzmSBeo+0I6CtZI3sUI4kA6PyM8IRkaiuVrIYXMsTY=;
 b=N/YxUU5Ci58hoFa57e2qpRFKSlh7PS7swJc7cHYMuhczXOtsjkrrXrdGP+nLCJFk91
 mFbttPTGrnllT5Pe2QhdXxvbCxP6Kb+CldX2CCG9YiROKNfqjKxRxypClgKkJLk6cQGt
 5WD/7xtd3AKDiP4cxGNCIZvVZl3cblUWMhUZg=
X-Google-DKIM-Signature: v=1; a=rsa-sha256; c=relaxed/relaxed;
 d=1e100.net; s=20230601; t=1722455024; x=1723059824;
 h=references:in-reply-to:cc:to:from:subject:message-id:date
 :x-gm-message-state:from:to:cc:subject:date:message-id:reply-to;
 bh=trzmSBeo+0I6CtZI3sUI4kA6PyM8IRkaiuVrIYXMsTY=;
 b=RYjc7DxGuVAetAnGRt1/hZwvA2BDLLpQ8hIeCnYmWYuys/+0RcA6wrjUZO9quaIvsL
 s/5JzeIAqf0DO7YHX/m/odymwjX+XyTKPWv+s6fPiHn09BIyp1R/v7+Nx9ajtz5WdPXb
 S96d+iZmAS2p/ngWF7FYapdND21Xdq0usDYktlAJRwDar8sHLFI0Ijd4vHRc4J/J9sWE
 hd9OaOSEZwkW13BccXljDaniTdlBBc8D/YJwJYd3nAlUPrSZHKdreCL8ZVDm6Svw58YF
 GOH4AmsyWIq2NwWvss982eWZIXF7jO+rnHljqpIAcmbQ+l9FJLAUQsrmHYSAORkFe/Ue
 nxXw==
X-Gm-Message-State: AOJu0Yz5+tCC5wGmMwwEdND1/EwJ5iG0x0lVGcLNXsDT2924omUDgiBJ
 T8+ovFzeYJHHduuepZZjQ+7UBxn49DDHDX+/+y9T+4ktE+ZccKXW8JDf+EdR9xuXnDooaLY3NFj
 vM5uT2K8K4oWWqxJutgRB9khzqDht9+/5rvArbecA+dVFOccBtDFBn0pm
X-Google-Smtp-Source: AGHT+IG/jGY4cTk13PD6yGUOMDNiDvEbk5YJzX6zSmloOvLq5U1VJjuFLGsr+ll3g6ETjuuXH0r4F7Xij49C
X-Received: by 2002:a05:6870:b50d:b0:24e:8987:6f34 with SMTP id
 586e51a60fabf-2687a357dc8mr227850fac.3.1722455024721; 
 Wed, 31 Jul 2024 12:43:44 -0700 (PDT)
Received: from postal.iol.unh.edu (postal.iol.unh.edu.
 [2606:4100:3880:1234::84]) by smtp-relay.gmail.com with ESMTPS id
 586e51a60fabf-2655e1fb5bbsm599496fac.34.2024.07.31.12.43.44
 (version=TLS1_2 cipher=ECDHE-ECDSA-AES128-GCM-SHA256 bits=128/128);
 Wed, 31 Jul 2024 12:43:44 -0700 (PDT)
X-Relaying-Domain: iol.unh.edu
Date: Wed, 31 Jul 2024 12:43:44 -0700 (PDT)
Message-ID: <66aa93f0.050a0220.3742d0.1806SMTPIN_ADDED_MISSING@mx.google.com>
Received: from [172.21.0.6] (unknown [172.18.0.240])
 by postal.iol.unh.edu (Postfix) with ESMTP id 57EB1605C351;
 Wed, 31 Jul 2024 15:43:44 -0400 (EDT)
Subject: |PENDING| pw142783-142784 [PATCH] [v2,2/2] doc: give full width to N
From: dpdklab@iol.unh.edu
To: Test Report <test-report@dpdk.org>
Cc: dpdk-test-reports@iol.unh.edu
In-Reply-To: <20240731083332.709421-3-thomas@monjalon.net>
References: <20240731083332.709421-3-thomas@monjalon.net>
Content-Type: text/plain
X-BeenThere: test-report@dpdk.org
X-Mailman-Version: 2.1.29
Precedence: list
List-Id: automatic DPDK test reports <test-report.dpdk.org>
List-Unsubscribe: <https://mails.dpdk.org/options/test-report>,
 <mailto:test-report-request@dpdk.org?subject=unsubscribe>
List-Archive: <http://mails.dpdk.org/archives/test-report/>
List-Post: <mailto:test-report@dpdk.org>
List-Help: <mailto:test-report-request@dpdk.org?subject=help>
List-Subscribe: <https://mails.dpdk.org/listinfo/test-report>,
 <mailto:test-report-request@dpdk.org?subject=subscribe>
Errors-To: test-report-bounces@dpdk.org

Test-Label: iol-compile-amd64-testing
Test-Status: PENDING
http://dpdk.org/patch/142784

_Testing pending_

Submitter: Thomas Monjalon <thomas@monjalon.net>
Date: Wednesday, July 31 2024 08:31:32 
DPDK git baseline: Repo:dpdk
  Branch: master
  CommitID:1d245ca8239d947258b3ae7cc4d8df97ef527852

142783-142784 --> testing pending

Upstream job id: Generic-DPDK-Compile-Meson#282332

Test environment and result as below:

+---------------------+--------------------+----------------------+-------------------+------------------+-------------------+
|     Environment     | dpdk_meson_compile | dpdk_mingw64_compile | dpdk_msvc_compile | dpdk_compile_ovs | dpdk_compile_spdk |
+=====================+====================+======================+===================+==================+===================+
| Windows Server 2022 | PASS               | PASS                 | PASS              | SKIPPED          | SKIPPED           |
+---------------------+--------------------+----------------------+-------------------+------------------+-------------------+
| FreeBSD 13.3        | PASS               | SKIPPED              | SKIPPED           | SKIPPED          | SKIPPED           |
+---------------------+--------------------+----------------------+-------------------+------------------+-------------------+
| FreeBSD 14.1        | PASS               | SKIPPED              | SKIPPED           | SKIPPED          | SKIPPED           |
+---------------------+--------------------+----------------------+-------------------+------------------+-------------------+
| Windows Server 2019 | PASS               | PASS                 | SKIPPED           | SKIPPED          | SKIPPED           |
+---------------------+--------------------+----------------------+-------------------+------------------+-------------------+
| CentOS Stream 8     | PASS               | SKIPPED              | SKIPPED           | PASS             | PASS              |
+---------------------+--------------------+----------------------+-------------------+------------------+-------------------+
| CentOS Stream 9     | PASS               | SKIPPED              | SKIPPED           | PASS             | PASS              |
+---------------------+--------------------+----------------------+-------------------+------------------+-------------------+
| Debian Bullseye     | PASS               | SKIPPED              | SKIPPED           | PASS             | PASS              |
+---------------------+--------------------+----------------------+-------------------+------------------+-------------------+
| Debian 12           | PASS               | SKIPPED              | SKIPPED           | PASS             | PASS              |
+---------------------+--------------------+----------------------+-------------------+------------------+-------------------+
| Fedora 37           | PASS               | SKIPPED              | SKIPPED           | PASS             | PASS              |
+---------------------+--------------------+----------------------+-------------------+------------------+-------------------+
| Fedora 38 (Clang)   | PEND               | SKIPPED              | SKIPPED           | PEND             | PEND              |
+---------------------+--------------------+----------------------+-------------------+------------------+-------------------+
| Fedora 38           | PASS               | SKIPPED              | SKIPPED           | PASS             | PASS              |
+---------------------+--------------------+----------------------+-------------------+------------------+-------------------+
| Fedora 39 (Clang)   | PEND               | SKIPPED              | SKIPPED           | PEND             | PEND              |
+---------------------+--------------------+----------------------+-------------------+------------------+-------------------+
| Fedora 39           | PASS               | SKIPPED              | SKIPPED           | PASS             | PASS              |
+---------------------+--------------------+----------------------+-------------------+------------------+-------------------+
| Fedora 40 (Clang)   | PEND               | SKIPPED              | SKIPPED           | PEND             | PEND              |
+---------------------+--------------------+----------------------+-------------------+------------------+-------------------+
| Fedora 40           | PEND               | SKIPPED              | SKIPPED           | PEND             | PEND              |
+---------------------+--------------------+----------------------+-------------------+------------------+-------------------+
| openSUSE Leap 15    | PEND               | SKIPPED              | SKIPPED           | PEND             | SKIPPED           |
+---------------------+--------------------+----------------------+-------------------+------------------+-------------------+
| RHEL8               | PEND               | SKIPPED              | SKIPPED           | PEND             | SKIPPED           |
+---------------------+--------------------+----------------------+-------------------+------------------+-------------------+
| RHEL9               | PEND               | SKIPPED              | SKIPPED           | PEND             | SKIPPED           |
+---------------------+--------------------+----------------------+-------------------+------------------+-------------------+
| Ubuntu 20.04        | PEND               | SKIPPED              | SKIPPED           | PEND             | SKIPPED           |
+---------------------+--------------------+----------------------+-------------------+------------------+-------------------+
| Ubuntu 22.04        | PEND               | SKIPPED              | SKIPPED           | PEND             | PEND              |
+---------------------+--------------------+----------------------+-------------------+------------------+-------------------+
| Ubuntu 24.04        | PEND               | SKIPPED              | SKIPPED           | PEND             | PEND              |
+---------------------+--------------------+----------------------+-------------------+------------------+-------------------+
| Alpine              | PEND               | SKIPPED              | SKIPPED           | PEND             | SKIPPED           |
+---------------------+--------------------+----------------------+-------------------+------------------+-------------------+


Windows Server 2022
	Kernel: 10.0.20348.2031
	Compiler: clang 15.0.7, gcc 8.1.0 (MinGW), and MSVC VS 17.9

FreeBSD 13.3
	Kernel: 13.3-RELEASE-p1
	Compiler: clang 17.0.6

FreeBSD 14.1
	Kernel: 14.1
	Compiler: clang 18.1.5

Windows Server 2019
	Kernel: 10.0.17763
	Compiler: clang 14.0 and gcc 8.1.0 (MinGW)

CentOS Stream 8
	Kernel: 5.4.0-167-generic
	Compiler: gcc 8.5.0 20210514

CentOS Stream 9
	Kernel: 5.4.0-167-generic
	Compiler: gcc 11.4.1 20230605

Debian Bullseye
	Kernel: 5.4.0-167-generic
	Compiler: gcc 10.2.1-6

Debian 12
	Kernel: Container Host Kernel
	Compiler: gcc 12.2.0

Fedora 37
	Kernel: Depends on container host system
	Compiler: gcc 12.3.1

Fedora 38 (Clang)
	Kernel: Depends on container host
	Compiler: clang 16.0.6

Fedora 38
	Kernel: Depends on container host
	Compiler: gcc 13.2.1

Fedora 39 (Clang)
	Kernel: Depends on container host
	Compiler: clang 17.0.6

Fedora 39
	Kernel: Depends on container host
	Compiler: gcc 13.2.1

Fedora 40 (Clang)
	Kernel: Depends on container host
	Compiler: clang 18.1.6

Fedora 40
	Kernel: Depends on container host
	Compiler: gcc 14.1.1

openSUSE Leap 15
	Kernel: 5.4.0-167-generic
	Compiler: gcc 7.5.0

RHEL8
	Kernel: 5.4.0-167-generic
	Compiler: gcc 8.5.0 20210514 (Red Hat 8.5.0-20)

RHEL9
	Kernel: Depends on container host
	Compiler: gcc 11.4.1

Ubuntu 20.04
	Kernel: 5.4.0-167-generic
	Compiler: gcc 9.4.0-1ubuntu1~20.04.1

Ubuntu 22.04
	Kernel: 5.4.0-167-generic
	Compiler: gcc 11.4.0

Ubuntu 24.04
	Kernel: 5.4.0-167-generic
	Compiler: gcc 13.2.0

Alpine
	Kernel: 5.4.0-167-generic
	Compiler: gcc (Alpine 13.2.1_git20231014) 13.2.1 20231014

To view detailed results, visit:
https://lab.dpdk.org/results/dashboard/patchsets/30672/

UNH-IOL DPDK Community Lab

To manage your email subscriptions, visit: 
https://lab.dpdk.org/results/dashboard/preferences/subscriptions/