From mboxrd@z Thu Jan  1 00:00:00 1970
Return-Path: <test-report-bounces@dpdk.org>
Received: from mails.dpdk.org (mails.dpdk.org [217.70.189.124])
	by inbox.dpdk.org (Postfix) with ESMTP id 4CCEF45705
	for <public@inbox.dpdk.org>; Wed, 31 Jul 2024 22:15:03 +0200 (CEST)
Received: from mails.dpdk.org (localhost [127.0.0.1])
	by mails.dpdk.org (Postfix) with ESMTP id 4996D4067E;
	Wed, 31 Jul 2024 22:15:03 +0200 (CEST)
Received: from mail-vk1-f226.google.com (mail-vk1-f226.google.com
 [209.85.221.226])
 by mails.dpdk.org (Postfix) with ESMTP id D19C2400D5
 for <test-report@dpdk.org>; Wed, 31 Jul 2024 22:14:54 +0200 (CEST)
Received: by mail-vk1-f226.google.com with SMTP id
 71dfb90a1353d-4f6e9fc29b7so1746690e0c.3
 for <test-report@dpdk.org>; Wed, 31 Jul 2024 13:14:54 -0700 (PDT)
DKIM-Signature: v=1; a=rsa-sha256; c=relaxed/relaxed;
 d=iol.unh.edu; s=unh-iol; t=1722456894; x=1723061694; darn=dpdk.org;
 h=references:in-reply-to:cc:to:from:subject:message-id:date:from:to
 :cc:subject:date:message-id:reply-to;
 bh=uSQQxqydXCbhfXQbwTkdu52VWBzoFLXjlqnqCKjpmYY=;
 b=QpT2YXfpM7hznDT1a7lAA7KUGoS++wBQO071BfcZ7STCBztc0M8XiR/Zl8gW2divNY
 bmZi8FGRraSR9Trbrzp9Z94i1RU2k0gT0mwzwrMwG2xoEEU6ppoHGUAdFdeUZTD+kuef
 6mN6FJm4w1D/WCsmQCWSuqkH3kZ6byKpIMU1U=
X-Google-DKIM-Signature: v=1; a=rsa-sha256; c=relaxed/relaxed;
 d=1e100.net; s=20230601; t=1722456894; x=1723061694;
 h=references:in-reply-to:cc:to:from:subject:message-id:date
 :x-gm-message-state:from:to:cc:subject:date:message-id:reply-to;
 bh=uSQQxqydXCbhfXQbwTkdu52VWBzoFLXjlqnqCKjpmYY=;
 b=mC+fcA3iGTmagxTEkZe90Z5l7rpK+HKsLBOvLJdZmhdmVSsKLfkE4Lbsfg57eozeSh
 QMkbwwHPZU+o9mbvPYGrsU29ipKAkRn0x+dGi+TXK7dPuL9tq26rZscfjybyaVhNNkRd
 5dLneGqVRmORWwsgxUPOU7lV6ZrixLX3rOwRR4oy9pTvVkCkuecDzrIrx3Omva+2gvpZ
 ms8vTZNLaXTFXyYbiIiQc0AXR8fBGFZ16qK3VhT7i3VmF3GVYybWmJAdzrgPxGZT5g14
 IeniUCbqCSAghd9W8Xy1WFDA3V+vJTRVdOoDJEIYmxI6hu/pq2tNuRXhlR9y6zRhPmZA
 rqBw==
X-Gm-Message-State: AOJu0YxfWN4jKUJKzDXSskTxJHOHHmoJkGXPFpu0u7OZJVuedoA4Lfyf
 7adDYrewSlhCOkVLc+V51pzBIX5hvVpn6Haw0opZDz3E7q/61KEFQ7lvs8x8rtud87IdBXtC9h9
 TMs/FTXTt1jPSS0X1lzqYCmcC7VaLoFMBE8Mw3vBjrDyhaTPMIRP7E7Eh
X-Google-Smtp-Source: AGHT+IGN0KJJ1KyqQEMWK3RYmBn4jUXw71L71dqZTc4kOgNeh+TSHoZ86i8MdE2jknlLqFXqR6sDNveY3Xwy
X-Received: by 2002:a05:6122:3190:b0:4f5:199b:2a61 with SMTP id
 71dfb90a1353d-4f8966f25e9mr579067e0c.9.1722456894153; 
 Wed, 31 Jul 2024 13:14:54 -0700 (PDT)
Received: from postal.iol.unh.edu (postal.iol.unh.edu.
 [2606:4100:3880:1234::84]) by smtp-relay.gmail.com with ESMTPS id
 71dfb90a1353d-4f6c8961b90sm851557e0c.9.2024.07.31.13.14.54
 (version=TLS1_2 cipher=ECDHE-ECDSA-AES128-GCM-SHA256 bits=128/128);
 Wed, 31 Jul 2024 13:14:54 -0700 (PDT)
X-Relaying-Domain: iol.unh.edu
Date: Wed, 31 Jul 2024 13:14:54 -0700 (PDT)
Message-ID: <66aa9b3e.050a0220.1e676c.27fbSMTPIN_ADDED_MISSING@mx.google.com>
Received: from [172.21.0.6] (unknown [172.18.0.240])
 by postal.iol.unh.edu (Postfix) with ESMTP id CA88A605C351;
 Wed, 31 Jul 2024 16:14:53 -0400 (EDT)
Subject: |PENDING| pw142780 [PATCH] [v1,1/1] mldev: introduce data type conve
From: dpdklab@iol.unh.edu
To: Test Report <test-report@dpdk.org>
Cc: dpdk-test-reports@iol.unh.edu
In-Reply-To: <20240731063250.9008-1-syalavarthi@marvell.com>
References: <20240731063250.9008-1-syalavarthi@marvell.com>
Content-Type: text/plain
X-BeenThere: test-report@dpdk.org
X-Mailman-Version: 2.1.29
Precedence: list
List-Id: automatic DPDK test reports <test-report.dpdk.org>
List-Unsubscribe: <https://mails.dpdk.org/options/test-report>,
 <mailto:test-report-request@dpdk.org?subject=unsubscribe>
List-Archive: <http://mails.dpdk.org/archives/test-report/>
List-Post: <mailto:test-report@dpdk.org>
List-Help: <mailto:test-report-request@dpdk.org?subject=help>
List-Subscribe: <https://mails.dpdk.org/listinfo/test-report>,
 <mailto:test-report-request@dpdk.org?subject=subscribe>
Errors-To: test-report-bounces@dpdk.org

Test-Label: iol-unit-amd64-testing
Test-Status: PENDING
http://dpdk.org/patch/142780

_Testing pending_

Submitter: Srikanth Yalavarthi <syalavarthi@marvell.com>
Date: Wednesday, July 31 2024 06:32:49 
DPDK git baseline: Repo:dpdk
  Branch: master
  CommitID:1d245ca8239d947258b3ae7cc4d8df97ef527852

142780 --> testing pending

Upstream job id: Generic-Unit-Test-DPDK#247035

Test environment and result as below:

+---------------------+----------------+
|     Environment     | dpdk_unit_test |
+=====================+================+
| CentOS Stream 8     | PASS           |
+---------------------+----------------+
| CentOS Stream 9     | PASS           |
+---------------------+----------------+
| Debian Bullseye     | PEND           |
+---------------------+----------------+
| Debian 12           | PASS           |
+---------------------+----------------+
| Fedora 37           | PEND           |
+---------------------+----------------+
| Fedora 38           | PEND           |
+---------------------+----------------+
| Fedora 38 (Clang)   | PEND           |
+---------------------+----------------+
| RHEL8               | PEND           |
+---------------------+----------------+
| Fedora 39           | PEND           |
+---------------------+----------------+
| Fedora 39 (Clang)   | PEND           |
+---------------------+----------------+
| RHEL9               | PEND           |
+---------------------+----------------+
| Fedora 40 (Clang)   | PEND           |
+---------------------+----------------+
| Fedora 40           | PEND           |
+---------------------+----------------+
| Ubuntu 20.04        | PEND           |
+---------------------+----------------+
| Ubuntu 22.04        | PEND           |
+---------------------+----------------+
| Ubuntu 24.04        | PEND           |
+---------------------+----------------+
| Windows Server 2022 | PASS           |
+---------------------+----------------+
| Windows Server 2019 | PASS           |
+---------------------+----------------+
| openSUSE Leap 15    | PEND           |
+---------------------+----------------+


CentOS Stream 8
	Kernel: 5.4.0-167-generic
	Compiler: gcc 8.5.0 20210514

CentOS Stream 9
	Kernel: 5.4.0-167-generic
	Compiler: gcc 11.4.1 20230605

Debian Bullseye
	Kernel: 5.4.0-167-generic
	Compiler: gcc 10.2.1-6

Debian 12
	Kernel: Container Host Kernel
	Compiler: gcc 12.2.0

Fedora 37
	Kernel: Depends on container host system
	Compiler: gcc 12.3.1

Fedora 38
	Kernel: Depends on container host
	Compiler: gcc 13.2.1

Fedora 38 (Clang)
	Kernel: Depends on container host
	Compiler: clang 16.0.6

RHEL8
	Kernel: 5.4.0-167-generic
	Compiler: gcc 8.5.0 20210514 (Red Hat 8.5.0-20)

Fedora 39
	Kernel: Depends on container host
	Compiler: gcc 13.2.1

Fedora 39 (Clang)
	Kernel: Depends on container host
	Compiler: clang 17.0.6

RHEL9
	Kernel: Depends on container host
	Compiler: gcc 11.4.1

Fedora 40 (Clang)
	Kernel: Depends on container host
	Compiler: clang 18.1.6

Fedora 40
	Kernel: Depends on container host
	Compiler: gcc 14.1.1

Ubuntu 20.04
	Kernel: 5.4.0-167-generic
	Compiler: gcc 9.4.0-1ubuntu1~20.04.1

Ubuntu 22.04
	Kernel: 5.4.0-167-generic
	Compiler: gcc 11.4.0

Ubuntu 24.04
	Kernel: 5.4.0-167-generic
	Compiler: gcc 13.2.0

Windows Server 2022
	Kernel: 10.0.20348.2031
	Compiler: clang 15.0.7, gcc 8.1.0 (MinGW), and MSVC VS 17.9

Windows Server 2019
	Kernel: 10.0.17763
	Compiler: clang 14.0 and gcc 8.1.0 (MinGW)

openSUSE Leap 15
	Kernel: 5.4.0-167-generic
	Compiler: gcc 7.5.0

To view detailed results, visit:
https://lab.dpdk.org/results/dashboard/patchsets/30669/

UNH-IOL DPDK Community Lab

To manage your email subscriptions, visit: 
https://lab.dpdk.org/results/dashboard/preferences/subscriptions/