From mboxrd@z Thu Jan  1 00:00:00 1970
Return-Path: <test-report-bounces@dpdk.org>
Received: from mails.dpdk.org (mails.dpdk.org [217.70.189.124])
	by inbox.dpdk.org (Postfix) with ESMTP id C786045705
	for <public@inbox.dpdk.org>; Wed, 31 Jul 2024 22:32:23 +0200 (CEST)
Received: from mails.dpdk.org (localhost [127.0.0.1])
	by mails.dpdk.org (Postfix) with ESMTP id C166D4067E;
	Wed, 31 Jul 2024 22:32:23 +0200 (CEST)
Received: from mail-ot1-f98.google.com (mail-ot1-f98.google.com
 [209.85.210.98]) by mails.dpdk.org (Postfix) with ESMTP id 21AEA400D5
 for <test-report@dpdk.org>; Wed, 31 Jul 2024 22:32:16 +0200 (CEST)
Received: by mail-ot1-f98.google.com with SMTP id
 46e09a7af769-7093b53f315so2267562a34.2
 for <test-report@dpdk.org>; Wed, 31 Jul 2024 13:32:16 -0700 (PDT)
DKIM-Signature: v=1; a=rsa-sha256; c=relaxed/relaxed;
 d=iol.unh.edu; s=unh-iol; t=1722457935; x=1723062735; darn=dpdk.org;
 h=references:in-reply-to:cc:to:from:subject:message-id:date:from:to
 :cc:subject:date:message-id:reply-to;
 bh=goKyawvtXQxYFKcA/OKExcvV+kklR3+Kmb+iXPeuJN0=;
 b=A34TbXyJljXcURknh6FSiZ9E4A0Y8RPwukYM4SsOk8cALMmnYuqVXDqAAb/oJPpyx5
 o63pYA6yR7hdSqEWokhlP0tbbU4Y19RHn4lGAwyCJF3K6zInWpbBotmNjVwglXqsOmyT
 wm6dnNDnQrGpxY/a9qTDEDULwK1LPESFuxq4I=
X-Google-DKIM-Signature: v=1; a=rsa-sha256; c=relaxed/relaxed;
 d=1e100.net; s=20230601; t=1722457935; x=1723062735;
 h=references:in-reply-to:cc:to:from:subject:message-id:date
 :x-gm-message-state:from:to:cc:subject:date:message-id:reply-to;
 bh=goKyawvtXQxYFKcA/OKExcvV+kklR3+Kmb+iXPeuJN0=;
 b=QDkYQ2w50bb9h4i0meWmi420A9+JWp/Mkmpem3bbWe5SpTQT/vm91cJwH18gRmlcLt
 Uj7iHLVPvVdftPi0xARn0zEhhvSwdqUw2ikRYhyiGKUYZVv5tBOiyWNLmluFUqeokV1c
 B3P42UEHL4FxXe6b3iZUInIcO8SlctCSp9ZwC/aLnOHwYEQe0IKPcvFpfSply6ctOCpQ
 e7Eb4M/8DXb2DKWnI33eITSjOcP3qZVH8k/ldNKCu6ZaDso4VIF3n4H4RnExjVpFb6LV
 52Qiy89EMB+B8cCNhwKEIpDgSzZlBAQCLP7sSsLEG9RgHIDouFBKMqznTSB8qDdWBqB1
 HgvQ==
X-Gm-Message-State: AOJu0YxDv2EkMDIRbTepBqwjGQRozTnDmi/vJAjGRXPJKoUNGMMHFXOl
 Rf6J7AZrrJlvhaT0GCbWPcGz0Lf4g7Vp0WzOwWnfwGbVP1dmrb3eH6Ps/d0F+LFoeN7mX+8aVCk
 uTd21ws5MQu7Q3RQEkyz6VN/vviMjUeE65zuYD2oK46v3197gAFdIxPlQ
X-Google-Smtp-Source: AGHT+IHijFutCJ2LhzuhHxI+jnTeVSS3pbsDaFK4W93lg4noOkS/w5Cgyny14qLj/sKjxvoGcGdLiQu+FnYa
X-Received: by 2002:a05:6358:12a3:b0:1ac:65e9:1678 with SMTP id
 e5c5f4694b2df-1af2ee4f300mr105484455d.22.1722457935190; 
 Wed, 31 Jul 2024 13:32:15 -0700 (PDT)
Received: from postal.iol.unh.edu (postal.iol.unh.edu.
 [2606:4100:3880:1234::84]) by smtp-relay.gmail.com with ESMTPS id
 6a1803df08f44-6bb3f960e66sm6629266d6.46.2024.07.31.13.32.15
 (version=TLS1_2 cipher=ECDHE-ECDSA-AES128-GCM-SHA256 bits=128/128);
 Wed, 31 Jul 2024 13:32:15 -0700 (PDT)
X-Relaying-Domain: iol.unh.edu
Date: Wed, 31 Jul 2024 13:32:15 -0700 (PDT)
Message-ID: <66aa9f4f.050a0220.231b3f.8489SMTPIN_ADDED_MISSING@mx.google.com>
Received: from [172.21.0.6] (unknown [172.18.0.240])
 by postal.iol.unh.edu (Postfix) with ESMTP id DB25D605C351;
 Wed, 31 Jul 2024 16:32:14 -0400 (EDT)
Subject: |SUCCESS| pw142787 [PATCH] doc: announce change in crypto queue setu
From: dpdklab@iol.unh.edu
To: Test Report <test-report@dpdk.org>
Cc: dpdk-test-reports@iol.unh.edu
In-Reply-To: <20240731112037.1440890-1-gakhil@marvell.com>
References: <20240731112037.1440890-1-gakhil@marvell.com>
Content-Type: text/plain
X-BeenThere: test-report@dpdk.org
X-Mailman-Version: 2.1.29
Precedence: list
List-Id: automatic DPDK test reports <test-report.dpdk.org>
List-Unsubscribe: <https://mails.dpdk.org/options/test-report>,
 <mailto:test-report-request@dpdk.org?subject=unsubscribe>
List-Archive: <http://mails.dpdk.org/archives/test-report/>
List-Post: <mailto:test-report@dpdk.org>
List-Help: <mailto:test-report-request@dpdk.org?subject=help>
List-Subscribe: <https://mails.dpdk.org/listinfo/test-report>,
 <mailto:test-report-request@dpdk.org?subject=subscribe>
Errors-To: test-report-bounces@dpdk.org

Test-Label: iol-compile-amd64-testing
Test-Status: SUCCESS
http://dpdk.org/patch/142787

_Testing PASS_

Submitter: Akhil Goyal <gakhil@marvell.com>
Date: Wednesday, July 31 2024 11:20:37 
DPDK git baseline: Repo:dpdk
  Branch: master
  CommitID:1d245ca8239d947258b3ae7cc4d8df97ef527852

142787 --> testing pass

Upstream job id: Windows-Compile-DPDK-Meson#23994

Test environment and result as below:

+---------------------+--------------------+----------------------+
|     Environment     | dpdk_meson_compile | dpdk_mingw64_compile |
+=====================+====================+======================+
| Windows Server 2022 | PASS               | PASS                 |
+---------------------+--------------------+----------------------+
| FreeBSD 13.3        | PASS               | SKIPPED              |
+---------------------+--------------------+----------------------+
| FreeBSD 14.1        | PASS               | SKIPPED              |
+---------------------+--------------------+----------------------+
| Windows Server 2019 | PASS               | PASS                 |
+---------------------+--------------------+----------------------+


Windows Server 2022
	Kernel: 10.0.20348.2031
	Compiler: clang 15.0.7, gcc 8.1.0 (MinGW), and MSVC VS 17.9

FreeBSD 13.3
	Kernel: 13.3-RELEASE-p1
	Compiler: clang 17.0.6

FreeBSD 14.1
	Kernel: 14.1
	Compiler: clang 18.1.5

Windows Server 2019
	Kernel: 10.0.17763
	Compiler: clang 14.0 and gcc 8.1.0 (MinGW)

To view detailed results, visit:
https://lab.dpdk.org/results/dashboard/patchsets/30675/

UNH-IOL DPDK Community Lab

To manage your email subscriptions, visit: 
https://lab.dpdk.org/results/dashboard/preferences/subscriptions/