From mboxrd@z Thu Jan  1 00:00:00 1970
Return-Path: <test-report-bounces@dpdk.org>
Received: from mails.dpdk.org (mails.dpdk.org [217.70.189.124])
	by inbox.dpdk.org (Postfix) with ESMTP id 2151845705
	for <public@inbox.dpdk.org>; Wed, 31 Jul 2024 22:38:05 +0200 (CEST)
Received: from mails.dpdk.org (localhost [127.0.0.1])
	by mails.dpdk.org (Postfix) with ESMTP id 1FC3C4111C;
	Wed, 31 Jul 2024 22:38:05 +0200 (CEST)
Received: from mail-pl1-f225.google.com (mail-pl1-f225.google.com
 [209.85.214.225])
 by mails.dpdk.org (Postfix) with ESMTP id 20C8A40676
 for <test-report@dpdk.org>; Wed, 31 Jul 2024 22:37:58 +0200 (CEST)
Received: by mail-pl1-f225.google.com with SMTP id
 d9443c01a7336-1fd90c2fc68so48439265ad.1
 for <test-report@dpdk.org>; Wed, 31 Jul 2024 13:37:58 -0700 (PDT)
DKIM-Signature: v=1; a=rsa-sha256; c=relaxed/relaxed;
 d=iol.unh.edu; s=unh-iol; t=1722458277; x=1723063077; darn=dpdk.org;
 h=references:in-reply-to:cc:to:from:subject:message-id:date:from:to
 :cc:subject:date:message-id:reply-to;
 bh=QLfhoZjBjWdfQ5LBrrjeRynOfPtt5UkkCMbjY+LcdvI=;
 b=ZkAIyGC8jwkjda+DBT+VGpmMjUh8lf8liOQZCgHmFQmsWgWtJdd9tIM1ZaLs8M2qBm
 ECjndGmMMoXBNdOjrvO4VGTpTanjHCBlZLSixf2jwPfgngahL/2cMZYcNDK4ozIytica
 owqyd6eaYaAvh9GD4Ft9Is2w1Mb64BGa0X6EU=
X-Google-DKIM-Signature: v=1; a=rsa-sha256; c=relaxed/relaxed;
 d=1e100.net; s=20230601; t=1722458277; x=1723063077;
 h=references:in-reply-to:cc:to:from:subject:message-id:date
 :x-gm-message-state:from:to:cc:subject:date:message-id:reply-to;
 bh=QLfhoZjBjWdfQ5LBrrjeRynOfPtt5UkkCMbjY+LcdvI=;
 b=GikAsQCi8br/4ZlWQKV5TUeWXXX0W9bAyRr1Elx60z5yllU1tydmHHy+8IVcZsTLA3
 BzIpsWr0jQaKNYGO/nsBVMt2NkT2JHvD8Mmv4j1e2q7K3e0l7QRE16EQcxG51t905zpa
 bcWx94jtvJOiEC9NgknjoMs322afAhw6Vvl7mM0j7zDYv/IpF0W1j7RyhIjAzr8V0XP5
 r8yt2Ovn7UTIHf9AA7HKYRoIZATpczJ+U/+gT6Y7rEJo5tWdWgEJC+bc1o0m2jcvzExA
 /BFIbg77Vu9MuNJIrGkkJ8D2duNKracC1djg5Xd6CD6rTg49vliBskGIdEEwpMlS58dD
 As9w==
X-Gm-Message-State: AOJu0Ywa/ojCcTEAfN1fMs0x3rtYsLEpPvPk2VfO93cNKI5Bkkt2Ka3Z
 S2wC3/Qx8n4l466ajFmZH6qBYg5d2GVzvQLB/nATo0hyaP5TWEAMn/R3dYDYPxBvBCB0Wmroi58
 x4k+4Hx42wrnMqbEH3EF+n34KxHBsR6k5Zwu5RR9b
X-Google-Smtp-Source: AGHT+IGaoxdJFVpEXUXJrJoZCJ7JBqVKxetBFYA0VFbWvqAZiPZMOk34sY2Ib58fkak7EWXoSMjvfuTfRYq5
X-Received: by 2002:a17:902:dac8:b0:1fd:6d6d:68e4 with SMTP id
 d9443c01a7336-1ff4d2462eamr6122055ad.57.1722458277277; 
 Wed, 31 Jul 2024 13:37:57 -0700 (PDT)
Received: from postal.iol.unh.edu (postal.iol.unh.edu. [132.177.123.84])
 by smtp-relay.gmail.com with ESMTPS id
 d9443c01a7336-1fed7cb839dsm5273675ad.51.2024.07.31.13.37.57
 (version=TLS1_2 cipher=ECDHE-ECDSA-AES128-GCM-SHA256 bits=128/128);
 Wed, 31 Jul 2024 13:37:57 -0700 (PDT)
X-Relaying-Domain: iol.unh.edu
Date: Wed, 31 Jul 2024 13:37:57 -0700 (PDT)
Message-ID: <66aaa0a5.170a0220.47a58.f8f1SMTPIN_ADDED_MISSING@mx.google.com>
Received: from [172.21.0.9] (unknown [172.18.0.240])
 by postal.iol.unh.edu (Postfix) with ESMTP id 6E8CD605C351;
 Wed, 31 Jul 2024 16:37:56 -0400 (EDT)
Subject: |PENDING| pw142780 [PATCH] [v1,1/1] mldev: introduce data type conve
From: dpdklab@iol.unh.edu
To: Test Report <test-report@dpdk.org>
Cc: dpdk-test-reports@iol.unh.edu
In-Reply-To: <20240731063250.9008-1-syalavarthi@marvell.com>
References: <20240731063250.9008-1-syalavarthi@marvell.com>
Content-Type: text/plain
X-BeenThere: test-report@dpdk.org
X-Mailman-Version: 2.1.29
Precedence: list
List-Id: automatic DPDK test reports <test-report.dpdk.org>
List-Unsubscribe: <https://mails.dpdk.org/options/test-report>,
 <mailto:test-report-request@dpdk.org?subject=unsubscribe>
List-Archive: <http://mails.dpdk.org/archives/test-report/>
List-Post: <mailto:test-report@dpdk.org>
List-Help: <mailto:test-report-request@dpdk.org?subject=help>
List-Subscribe: <https://mails.dpdk.org/listinfo/test-report>,
 <mailto:test-report-request@dpdk.org?subject=subscribe>
Errors-To: test-report-bounces@dpdk.org

Test-Label: iol-compile-amd64-testing
Test-Status: PENDING
http://dpdk.org/patch/142780

_Testing pending_

Submitter: Srikanth Yalavarthi <syalavarthi@marvell.com>
Date: Wednesday, July 31 2024 06:32:49 
DPDK git baseline: Repo:dpdk
  Branch: master
  CommitID:1d245ca8239d947258b3ae7cc4d8df97ef527852

142780 --> testing pending

Upstream job id: Windows-Compile-DPDK-VS#2681

Test environment and result as below:

+---------------------+--------------------+----------------------+------------------+-------------------+-------------------+
|     Environment     | dpdk_meson_compile | dpdk_mingw64_compile | dpdk_compile_ovs | dpdk_compile_spdk | dpdk_msvc_compile |
+=====================+====================+======================+==================+===================+===================+
| Windows Server 2022 | PASS               | PASS                 | SKIPPED          | SKIPPED           | PASS              |
+---------------------+--------------------+----------------------+------------------+-------------------+-------------------+
| Windows Server 2019 | PASS               | PASS                 | SKIPPED          | SKIPPED           | SKIPPED           |
+---------------------+--------------------+----------------------+------------------+-------------------+-------------------+
| FreeBSD 13.3        | PASS               | SKIPPED              | SKIPPED          | SKIPPED           | SKIPPED           |
+---------------------+--------------------+----------------------+------------------+-------------------+-------------------+
| FreeBSD 14.1        | PASS               | SKIPPED              | SKIPPED          | SKIPPED           | SKIPPED           |
+---------------------+--------------------+----------------------+------------------+-------------------+-------------------+
| CentOS Stream 8     | PEND               | SKIPPED              | PEND             | PEND              | SKIPPED           |
+---------------------+--------------------+----------------------+------------------+-------------------+-------------------+
| CentOS Stream 9     | PEND               | SKIPPED              | PEND             | PEND              | SKIPPED           |
+---------------------+--------------------+----------------------+------------------+-------------------+-------------------+
| Debian Bullseye     | PEND               | SKIPPED              | PEND             | PEND              | SKIPPED           |
+---------------------+--------------------+----------------------+------------------+-------------------+-------------------+
| Debian 12           | PEND               | SKIPPED              | PEND             | PEND              | SKIPPED           |
+---------------------+--------------------+----------------------+------------------+-------------------+-------------------+
| Fedora 37           | PEND               | SKIPPED              | PEND             | PEND              | SKIPPED           |
+---------------------+--------------------+----------------------+------------------+-------------------+-------------------+
| Fedora 38 (Clang)   | PEND               | SKIPPED              | PEND             | PEND              | SKIPPED           |
+---------------------+--------------------+----------------------+------------------+-------------------+-------------------+
| Fedora 38           | PEND               | SKIPPED              | PEND             | PEND              | SKIPPED           |
+---------------------+--------------------+----------------------+------------------+-------------------+-------------------+
| Fedora 39 (Clang)   | PEND               | SKIPPED              | PEND             | PEND              | SKIPPED           |
+---------------------+--------------------+----------------------+------------------+-------------------+-------------------+
| Fedora 39           | PEND               | SKIPPED              | PEND             | PEND              | SKIPPED           |
+---------------------+--------------------+----------------------+------------------+-------------------+-------------------+
| Fedora 40 (Clang)   | PEND               | SKIPPED              | PEND             | PEND              | SKIPPED           |
+---------------------+--------------------+----------------------+------------------+-------------------+-------------------+
| Fedora 40           | PEND               | SKIPPED              | PEND             | PEND              | SKIPPED           |
+---------------------+--------------------+----------------------+------------------+-------------------+-------------------+
| openSUSE Leap 15    | PEND               | SKIPPED              | PEND             | SKIPPED           | SKIPPED           |
+---------------------+--------------------+----------------------+------------------+-------------------+-------------------+
| RHEL8               | PEND               | SKIPPED              | PEND             | SKIPPED           | SKIPPED           |
+---------------------+--------------------+----------------------+------------------+-------------------+-------------------+
| RHEL9               | PEND               | SKIPPED              | PEND             | SKIPPED           | SKIPPED           |
+---------------------+--------------------+----------------------+------------------+-------------------+-------------------+
| Ubuntu 20.04        | PEND               | SKIPPED              | PEND             | SKIPPED           | SKIPPED           |
+---------------------+--------------------+----------------------+------------------+-------------------+-------------------+
| Ubuntu 22.04        | PEND               | SKIPPED              | PEND             | PEND              | SKIPPED           |
+---------------------+--------------------+----------------------+------------------+-------------------+-------------------+
| Ubuntu 24.04        | PEND               | SKIPPED              | PEND             | PEND              | SKIPPED           |
+---------------------+--------------------+----------------------+------------------+-------------------+-------------------+
| Alpine              | PEND               | SKIPPED              | PEND             | SKIPPED           | SKIPPED           |
+---------------------+--------------------+----------------------+------------------+-------------------+-------------------+


Windows Server 2022
	Kernel: 10.0.20348.2031
	Compiler: clang 15.0.7, gcc 8.1.0 (MinGW), and MSVC VS 17.9

Windows Server 2019
	Kernel: 10.0.17763
	Compiler: clang 14.0 and gcc 8.1.0 (MinGW)

FreeBSD 13.3
	Kernel: 13.3-RELEASE-p1
	Compiler: clang 17.0.6

FreeBSD 14.1
	Kernel: 14.1
	Compiler: clang 18.1.5

CentOS Stream 8
	Kernel: 5.4.0-167-generic
	Compiler: gcc 8.5.0 20210514

CentOS Stream 9
	Kernel: 5.4.0-167-generic
	Compiler: gcc 11.4.1 20230605

Debian Bullseye
	Kernel: 5.4.0-167-generic
	Compiler: gcc 10.2.1-6

Debian 12
	Kernel: Container Host Kernel
	Compiler: gcc 12.2.0

Fedora 37
	Kernel: Depends on container host system
	Compiler: gcc 12.3.1

Fedora 38 (Clang)
	Kernel: Depends on container host
	Compiler: clang 16.0.6

Fedora 38
	Kernel: Depends on container host
	Compiler: gcc 13.2.1

Fedora 39 (Clang)
	Kernel: Depends on container host
	Compiler: clang 17.0.6

Fedora 39
	Kernel: Depends on container host
	Compiler: gcc 13.2.1

Fedora 40 (Clang)
	Kernel: Depends on container host
	Compiler: clang 18.1.6

Fedora 40
	Kernel: Depends on container host
	Compiler: gcc 14.1.1

openSUSE Leap 15
	Kernel: 5.4.0-167-generic
	Compiler: gcc 7.5.0

RHEL8
	Kernel: 5.4.0-167-generic
	Compiler: gcc 8.5.0 20210514 (Red Hat 8.5.0-20)

RHEL9
	Kernel: Depends on container host
	Compiler: gcc 11.4.1

Ubuntu 20.04
	Kernel: 5.4.0-167-generic
	Compiler: gcc 9.4.0-1ubuntu1~20.04.1

Ubuntu 22.04
	Kernel: 5.4.0-167-generic
	Compiler: gcc 11.4.0

Ubuntu 24.04
	Kernel: 5.4.0-167-generic
	Compiler: gcc 13.2.0

Alpine
	Kernel: 5.4.0-167-generic
	Compiler: gcc (Alpine 13.2.1_git20231014) 13.2.1 20231014

To view detailed results, visit:
https://lab.dpdk.org/results/dashboard/patchsets/30669/

UNH-IOL DPDK Community Lab

To manage your email subscriptions, visit: 
https://lab.dpdk.org/results/dashboard/preferences/subscriptions/