From mboxrd@z Thu Jan  1 00:00:00 1970
Return-Path: <test-report-bounces@dpdk.org>
Received: from mails.dpdk.org (mails.dpdk.org [217.70.189.124])
	by inbox.dpdk.org (Postfix) with ESMTP id F2BB245705
	for <public@inbox.dpdk.org>; Wed, 31 Jul 2024 23:48:59 +0200 (CEST)
Received: from mails.dpdk.org (localhost [127.0.0.1])
	by mails.dpdk.org (Postfix) with ESMTP id E2B2540E3B;
	Wed, 31 Jul 2024 23:48:59 +0200 (CEST)
Received: from mail-pl1-f227.google.com (mail-pl1-f227.google.com
 [209.85.214.227])
 by mails.dpdk.org (Postfix) with ESMTP id 53ACE40B9B
 for <test-report@dpdk.org>; Wed, 31 Jul 2024 23:48:58 +0200 (CEST)
Received: by mail-pl1-f227.google.com with SMTP id
 d9443c01a7336-1fd9e6189d5so49549445ad.3
 for <test-report@dpdk.org>; Wed, 31 Jul 2024 14:48:58 -0700 (PDT)
DKIM-Signature: v=1; a=rsa-sha256; c=relaxed/relaxed;
 d=iol.unh.edu; s=unh-iol; t=1722462537; x=1723067337; darn=dpdk.org;
 h=references:in-reply-to:cc:to:from:subject:message-id:date:from:to
 :cc:subject:date:message-id:reply-to;
 bh=zgRcWQsY866E8bKDBdUnc8nI+AP1gpRafO0E/wmEwaY=;
 b=h4/aD7llnoNLhJhunqVb9QL7H8rt089wENQGrMtIxd1VqhlOoTeX9RbeEOO4tDC2NE
 jRJHlor98sn3kaVrgu9/zmSzdIbgSCaKkUzoASYzk+3BHoTON2S752daadthVWmDzXsp
 yLR5iECERAJcpWUiuRDnvbTepj9hseUTj2UI0=
X-Google-DKIM-Signature: v=1; a=rsa-sha256; c=relaxed/relaxed;
 d=1e100.net; s=20230601; t=1722462537; x=1723067337;
 h=references:in-reply-to:cc:to:from:subject:message-id:date
 :x-gm-message-state:from:to:cc:subject:date:message-id:reply-to;
 bh=zgRcWQsY866E8bKDBdUnc8nI+AP1gpRafO0E/wmEwaY=;
 b=beJtR81LaKJD9wxvo0tUcCbXRPgx+9zLmnrISJqHGMHN3VAvxxChovN5vs3YB04BeG
 Fa/Qlrct7F3AjvRovLGuLBM3Xr0ZWousFqVlrgNmBi3nkirEf/T0H1g1idX8jWkbrTd/
 OMTgVOC8YP88fVTqHIFcbSoA42aTESwhQlgY/g4ucLdAahacLz7n/05BQAxdQpB0L43G
 XenxtjJfczxeHqBxq/T4OLNW5uLSE3gGvrTqOgedqdrkpRiDv/uG8+GSe8mRgcy/kZxA
 5b4YKtxEH136bGbEP85IIeesBgNT1eIA1oWIu89d6eHLetRc8FS6IMJRTebOoxe3Iuo1
 sm0Q==
X-Gm-Message-State: AOJu0Ywk0vB1jKexv77r1z2iIHtcOB1qUsX85SYuY9wIqbwbfyb7FulD
 iIwp8Eexa9dr6/KQgEQDcLtsxohNhXL4CvaDTRXp4E3a3uA9M+dzbavmyhMDvlIsP6aRqg4LqwP
 WlgJg/W1Kd/KOm5t6exOB5Q1sS6ek4Ags3E/0T/Id
X-Google-Smtp-Source: AGHT+IHKkh/YizNtMH5RduQO0aUDgr9JLjgg/UAAK6Xp4qjaFD0mCQatO5y+0rPudJSOjjpEhJpBmWa3/XJE
X-Received: by 2002:a17:903:2302:b0:1fd:ae10:7246 with SMTP id
 d9443c01a7336-1ff4ce56e0amr10663205ad.5.1722462537254; 
 Wed, 31 Jul 2024 14:48:57 -0700 (PDT)
Received: from postal.iol.unh.edu (postal.iol.unh.edu. [132.177.123.84])
 by smtp-relay.gmail.com with ESMTPS id
 d9443c01a7336-1fed7cdec8csm5250235ad.66.2024.07.31.14.48.57
 (version=TLS1_2 cipher=ECDHE-ECDSA-AES128-GCM-SHA256 bits=128/128);
 Wed, 31 Jul 2024 14:48:57 -0700 (PDT)
X-Relaying-Domain: iol.unh.edu
Date: Wed, 31 Jul 2024 14:48:57 -0700 (PDT)
Message-ID: <66aab149.170a0220.2213b1.f216SMTPIN_ADDED_MISSING@mx.google.com>
Received: from [172.21.0.6] (unknown [172.18.0.240])
 by postal.iol.unh.edu (Postfix) with ESMTP id 74686605C351;
 Wed, 31 Jul 2024 17:48:56 -0400 (EDT)
Subject: |SUCCESS| pw142780 [PATCH] [v1,1/1] mldev: introduce data type conve
From: dpdklab@iol.unh.edu
To: Test Report <test-report@dpdk.org>
Cc: dpdk-test-reports@iol.unh.edu
In-Reply-To: <20240731063250.9008-1-syalavarthi@marvell.com>
References: <20240731063250.9008-1-syalavarthi@marvell.com>
Content-Type: text/plain
X-BeenThere: test-report@dpdk.org
X-Mailman-Version: 2.1.29
Precedence: list
List-Id: automatic DPDK test reports <test-report.dpdk.org>
List-Unsubscribe: <https://mails.dpdk.org/options/test-report>,
 <mailto:test-report-request@dpdk.org?subject=unsubscribe>
List-Archive: <http://mails.dpdk.org/archives/test-report/>
List-Post: <mailto:test-report@dpdk.org>
List-Help: <mailto:test-report-request@dpdk.org?subject=help>
List-Subscribe: <https://mails.dpdk.org/listinfo/test-report>,
 <mailto:test-report-request@dpdk.org?subject=subscribe>
Errors-To: test-report-bounces@dpdk.org

Test-Label: iol-compile-amd64-testing
Test-Status: SUCCESS
http://dpdk.org/patch/142780

_Testing PASS_

Submitter: Srikanth Yalavarthi <syalavarthi@marvell.com>
Date: Wednesday, July 31 2024 06:32:49 
DPDK git baseline: Repo:dpdk
  Branch: master
  CommitID:1d245ca8239d947258b3ae7cc4d8df97ef527852

142780 --> testing pass

Upstream job id: Generic-DPDK-Compile-Meson#282446

Test environment and result as below:

+---------------------+--------------------+----------------------+------------------+-------------------+-------------------+
|     Environment     | dpdk_meson_compile | dpdk_mingw64_compile | dpdk_compile_ovs | dpdk_compile_spdk | dpdk_msvc_compile |
+=====================+====================+======================+==================+===================+===================+
| Windows Server 2022 | PASS               | PASS                 | SKIPPED          | SKIPPED           | PASS              |
+---------------------+--------------------+----------------------+------------------+-------------------+-------------------+
| Windows Server 2019 | PASS               | PASS                 | SKIPPED          | SKIPPED           | SKIPPED           |
+---------------------+--------------------+----------------------+------------------+-------------------+-------------------+
| FreeBSD 13.3        | PASS               | SKIPPED              | SKIPPED          | SKIPPED           | SKIPPED           |
+---------------------+--------------------+----------------------+------------------+-------------------+-------------------+
| FreeBSD 14.1        | PASS               | SKIPPED              | SKIPPED          | SKIPPED           | SKIPPED           |
+---------------------+--------------------+----------------------+------------------+-------------------+-------------------+
| CentOS Stream 8     | PASS               | SKIPPED              | PASS             | PASS              | SKIPPED           |
+---------------------+--------------------+----------------------+------------------+-------------------+-------------------+
| CentOS Stream 9     | PASS               | SKIPPED              | PASS             | PASS              | SKIPPED           |
+---------------------+--------------------+----------------------+------------------+-------------------+-------------------+
| Debian Bullseye     | PASS               | SKIPPED              | PASS             | PASS              | SKIPPED           |
+---------------------+--------------------+----------------------+------------------+-------------------+-------------------+
| Debian 12           | PASS               | SKIPPED              | PASS             | PASS              | SKIPPED           |
+---------------------+--------------------+----------------------+------------------+-------------------+-------------------+
| Fedora 37           | PASS               | SKIPPED              | PASS             | PASS              | SKIPPED           |
+---------------------+--------------------+----------------------+------------------+-------------------+-------------------+
| Fedora 38 (Clang)   | PASS               | SKIPPED              | PASS             | PASS              | SKIPPED           |
+---------------------+--------------------+----------------------+------------------+-------------------+-------------------+
| Fedora 38           | PASS               | SKIPPED              | PASS             | PASS              | SKIPPED           |
+---------------------+--------------------+----------------------+------------------+-------------------+-------------------+
| Fedora 39 (Clang)   | PASS               | SKIPPED              | PASS             | PASS              | SKIPPED           |
+---------------------+--------------------+----------------------+------------------+-------------------+-------------------+
| Fedora 39           | PASS               | SKIPPED              | PASS             | PASS              | SKIPPED           |
+---------------------+--------------------+----------------------+------------------+-------------------+-------------------+
| Fedora 40 (Clang)   | PASS               | SKIPPED              | PASS             | PASS              | SKIPPED           |
+---------------------+--------------------+----------------------+------------------+-------------------+-------------------+
| Fedora 40           | PASS               | SKIPPED              | PASS             | PASS              | SKIPPED           |
+---------------------+--------------------+----------------------+------------------+-------------------+-------------------+
| openSUSE Leap 15    | PASS               | SKIPPED              | PASS             | SKIPPED           | SKIPPED           |
+---------------------+--------------------+----------------------+------------------+-------------------+-------------------+
| RHEL8               | PASS               | SKIPPED              | PASS             | SKIPPED           | SKIPPED           |
+---------------------+--------------------+----------------------+------------------+-------------------+-------------------+
| RHEL9               | PASS               | SKIPPED              | PASS             | SKIPPED           | SKIPPED           |
+---------------------+--------------------+----------------------+------------------+-------------------+-------------------+
| Ubuntu 20.04        | PASS               | SKIPPED              | PASS             | SKIPPED           | SKIPPED           |
+---------------------+--------------------+----------------------+------------------+-------------------+-------------------+
| Ubuntu 22.04        | PASS               | SKIPPED              | PASS             | PASS              | SKIPPED           |
+---------------------+--------------------+----------------------+------------------+-------------------+-------------------+
| Ubuntu 24.04        | PASS               | SKIPPED              | PASS             | PASS              | SKIPPED           |
+---------------------+--------------------+----------------------+------------------+-------------------+-------------------+
| Alpine              | PASS               | SKIPPED              | PASS             | SKIPPED           | SKIPPED           |
+---------------------+--------------------+----------------------+------------------+-------------------+-------------------+


Windows Server 2022
	Kernel: 10.0.20348.2031
	Compiler: clang 15.0.7, gcc 8.1.0 (MinGW), and MSVC VS 17.9

Windows Server 2019
	Kernel: 10.0.17763
	Compiler: clang 14.0 and gcc 8.1.0 (MinGW)

FreeBSD 13.3
	Kernel: 13.3-RELEASE-p1
	Compiler: clang 17.0.6

FreeBSD 14.1
	Kernel: 14.1
	Compiler: clang 18.1.5

CentOS Stream 8
	Kernel: 5.4.0-167-generic
	Compiler: gcc 8.5.0 20210514

CentOS Stream 9
	Kernel: 5.4.0-167-generic
	Compiler: gcc 11.4.1 20230605

Debian Bullseye
	Kernel: 5.4.0-167-generic
	Compiler: gcc 10.2.1-6

Debian 12
	Kernel: Container Host Kernel
	Compiler: gcc 12.2.0

Fedora 37
	Kernel: Depends on container host system
	Compiler: gcc 12.3.1

Fedora 38 (Clang)
	Kernel: Depends on container host
	Compiler: clang 16.0.6

Fedora 38
	Kernel: Depends on container host
	Compiler: gcc 13.2.1

Fedora 39 (Clang)
	Kernel: Depends on container host
	Compiler: clang 17.0.6

Fedora 39
	Kernel: Depends on container host
	Compiler: gcc 13.2.1

Fedora 40 (Clang)
	Kernel: Depends on container host
	Compiler: clang 18.1.6

Fedora 40
	Kernel: Depends on container host
	Compiler: gcc 14.1.1

openSUSE Leap 15
	Kernel: 5.4.0-167-generic
	Compiler: gcc 7.5.0

RHEL8
	Kernel: 5.4.0-167-generic
	Compiler: gcc 8.5.0 20210514 (Red Hat 8.5.0-20)

RHEL9
	Kernel: Depends on container host
	Compiler: gcc 11.4.1

Ubuntu 20.04
	Kernel: 5.4.0-167-generic
	Compiler: gcc 9.4.0-1ubuntu1~20.04.1

Ubuntu 22.04
	Kernel: 5.4.0-167-generic
	Compiler: gcc 11.4.0

Ubuntu 24.04
	Kernel: 5.4.0-167-generic
	Compiler: gcc 13.2.0

Alpine
	Kernel: 5.4.0-167-generic
	Compiler: gcc (Alpine 13.2.1_git20231014) 13.2.1 20231014

To view detailed results, visit:
https://lab.dpdk.org/results/dashboard/patchsets/30669/

UNH-IOL DPDK Community Lab

To manage your email subscriptions, visit: 
https://lab.dpdk.org/results/dashboard/preferences/subscriptions/