From mboxrd@z Thu Jan  1 00:00:00 1970
Return-Path: <test-report-bounces@dpdk.org>
Received: from mails.dpdk.org (mails.dpdk.org [217.70.189.124])
	by inbox.dpdk.org (Postfix) with ESMTP id 693D645707
	for <public@inbox.dpdk.org>; Thu,  1 Aug 2024 01:22:18 +0200 (CEST)
Received: from mails.dpdk.org (localhost [127.0.0.1])
	by mails.dpdk.org (Postfix) with ESMTP id 61C31402BD;
	Thu,  1 Aug 2024 01:22:18 +0200 (CEST)
Received: from mail-pl1-f227.google.com (mail-pl1-f227.google.com
 [209.85.214.227])
 by mails.dpdk.org (Postfix) with ESMTP id 5FD384027E
 for <test-report@dpdk.org>; Thu,  1 Aug 2024 01:22:16 +0200 (CEST)
Received: by mail-pl1-f227.google.com with SMTP id
 d9443c01a7336-1fd9e70b592so44209485ad.3
 for <test-report@dpdk.org>; Wed, 31 Jul 2024 16:22:16 -0700 (PDT)
DKIM-Signature: v=1; a=rsa-sha256; c=relaxed/relaxed;
 d=iol.unh.edu; s=unh-iol; t=1722468135; x=1723072935; darn=dpdk.org;
 h=references:in-reply-to:cc:to:from:subject:message-id:date:from:to
 :cc:subject:date:message-id:reply-to;
 bh=c4ijEaQj9XKTlmJQIBtdzY30XqtL2GYmGSTxfpyq8hg=;
 b=BgKdLQ7ZWl99igL+lktY9mZsr6hs4jDIFbnXD8qeXg7Smuk7219eNP2VlvVfSzBKJH
 QVo8mrQnQFBmEn3+KmRQLjU+IZPVcd8WBjUgIRE+dG81w1scGFYHW5W5sIHpGma+TuUN
 HIgHKXQaYhgxU4fUHc4RbyCQ8wjFvV2NDvVi8=
X-Google-DKIM-Signature: v=1; a=rsa-sha256; c=relaxed/relaxed;
 d=1e100.net; s=20230601; t=1722468135; x=1723072935;
 h=references:in-reply-to:cc:to:from:subject:message-id:date
 :x-gm-message-state:from:to:cc:subject:date:message-id:reply-to;
 bh=c4ijEaQj9XKTlmJQIBtdzY30XqtL2GYmGSTxfpyq8hg=;
 b=QVGFYAwa/nFPapNs8xpCQikGGYB/UkQhTG5AQC/YKEkfc/jjIopFmXNIHjm2ydsAuy
 1A9lwehEson2mlQ8NWAbuuKi46kRFjIN7mfJjlJUE21jzKX0Ij2DvA6zD1eLBDZxfIm/
 bnZWmVGIqAviYcW7xdR7Y4DNYP1kIRu+azr8os7f2Izmrtfd1x5rKgmqFE0fpu8X3TTq
 VyBEv1gy4PEWRmFi/AFHVocRwJWi1Kinel7QGPH1lOPBskR8yc3aB6xGZQhzvM5v8XLZ
 aW11SL2MrZK5jOoWDthvByYdHa5MrLpPsZFixtqyIyh36KSiklpHNDXsrFWA0yutFZQE
 vwmA==
X-Gm-Message-State: AOJu0Yxn/m0S1UUUMV4J5Cl23kLJKCGMFgi/U9xN7Pzd4O6ewl+7rjL3
 PbWj0A7OnmA3nVD3LqxE++8FH22N8ZDb+G+5Z9tYbmKus9WY06ViHDEPC0vVUYoA8NIWo668SWK
 aG2jU+1TVoNUMnl/GAb/V2KA6+BZCFxPn85bf9mUDQr5aQYp4nVoADqTQ
X-Google-Smtp-Source: AGHT+IEM8NYVLp2c+ZjbimjWGV5unx6J61gTzTCPjICxFDhoCFe4ZdYf3ui+zkRny4Pm24obXxD09ZjisaF0
X-Received: by 2002:a17:902:ce83:b0:1fc:5462:7eb7 with SMTP id
 d9443c01a7336-1ff4d25a28amr9884275ad.58.1722468135548; 
 Wed, 31 Jul 2024 16:22:15 -0700 (PDT)
Received: from postal.iol.unh.edu (postal.iol.unh.edu.
 [2606:4100:3880:1234::84]) by smtp-relay.gmail.com with ESMTPS id
 d9443c01a7336-1fed7cd5944sm4871905ad.60.2024.07.31.16.22.15
 (version=TLS1_2 cipher=ECDHE-ECDSA-AES128-GCM-SHA256 bits=128/128);
 Wed, 31 Jul 2024 16:22:15 -0700 (PDT)
X-Relaying-Domain: iol.unh.edu
Date: Wed, 31 Jul 2024 16:22:15 -0700 (PDT)
Message-ID: <66aac727.170a0220.1f5d2a.d24eSMTPIN_ADDED_MISSING@mx.google.com>
Received: from [172.21.0.8] (unknown [172.18.0.240])
 by postal.iol.unh.edu (Postfix) with ESMTP id B14BC605C351;
 Wed, 31 Jul 2024 19:22:14 -0400 (EDT)
Subject: |PENDING| pw142787 [PATCH] doc: announce change in crypto queue setu
From: dpdklab@iol.unh.edu
To: Test Report <test-report@dpdk.org>
Cc: dpdk-test-reports@iol.unh.edu
In-Reply-To: <20240731112037.1440890-1-gakhil@marvell.com>
References: <20240731112037.1440890-1-gakhil@marvell.com>
Content-Type: text/plain
X-BeenThere: test-report@dpdk.org
X-Mailman-Version: 2.1.29
Precedence: list
List-Id: automatic DPDK test reports <test-report.dpdk.org>
List-Unsubscribe: <https://mails.dpdk.org/options/test-report>,
 <mailto:test-report-request@dpdk.org?subject=unsubscribe>
List-Archive: <http://mails.dpdk.org/archives/test-report/>
List-Post: <mailto:test-report@dpdk.org>
List-Help: <mailto:test-report-request@dpdk.org?subject=help>
List-Subscribe: <https://mails.dpdk.org/listinfo/test-report>,
 <mailto:test-report-request@dpdk.org?subject=subscribe>
Errors-To: test-report-bounces@dpdk.org

Test-Label: iol-unit-amd64-testing
Test-Status: PENDING
http://dpdk.org/patch/142787

_Testing pending_

Submitter: Akhil Goyal <gakhil@marvell.com>
Date: Wednesday, July 31 2024 11:20:37 
DPDK git baseline: Repo:dpdk
  Branch: master
  CommitID:1d245ca8239d947258b3ae7cc4d8df97ef527852

142787 --> testing pending

Upstream job id: Generic-Unit-Test-DPDK#247139

Test environment and result as below:

+---------------------+----------------+
|     Environment     | dpdk_unit_test |
+=====================+================+
| CentOS Stream 9     | PASS           |
+---------------------+----------------+
| CentOS Stream 8     | PASS           |
+---------------------+----------------+
| Debian Bullseye     | PASS           |
+---------------------+----------------+
| Debian 12           | PASS           |
+---------------------+----------------+
| Windows Server 2019 | PASS           |
+---------------------+----------------+
| Fedora 37           | PASS           |
+---------------------+----------------+
| Fedora 38 (Clang)   | PEND           |
+---------------------+----------------+
| Fedora 38           | PASS           |
+---------------------+----------------+
| Fedora 39           | PEND           |
+---------------------+----------------+
| Fedora 39 (Clang)   | PEND           |
+---------------------+----------------+
| Windows Server 2022 | PASS           |
+---------------------+----------------+
| Fedora 40           | PEND           |
+---------------------+----------------+
| Fedora 40 (Clang)   | PEND           |
+---------------------+----------------+
| openSUSE Leap 15    | PEND           |
+---------------------+----------------+
| RHEL8               | PEND           |
+---------------------+----------------+
| RHEL9               | PEND           |
+---------------------+----------------+
| Ubuntu 20.04        | PEND           |
+---------------------+----------------+
| Ubuntu 22.04        | PEND           |
+---------------------+----------------+
| Ubuntu 24.04        | PEND           |
+---------------------+----------------+


CentOS Stream 9
	Kernel: 5.4.0-167-generic
	Compiler: gcc 11.4.1 20230605

CentOS Stream 8
	Kernel: 5.4.0-167-generic
	Compiler: gcc 8.5.0 20210514

Debian Bullseye
	Kernel: 5.4.0-167-generic
	Compiler: gcc 10.2.1-6

Debian 12
	Kernel: Container Host Kernel
	Compiler: gcc 12.2.0

Windows Server 2019
	Kernel: 10.0.17763
	Compiler: clang 14.0 and gcc 8.1.0 (MinGW)

Fedora 37
	Kernel: Depends on container host system
	Compiler: gcc 12.3.1

Fedora 38 (Clang)
	Kernel: Depends on container host
	Compiler: clang 16.0.6

Fedora 38
	Kernel: Depends on container host
	Compiler: gcc 13.2.1

Fedora 39
	Kernel: Depends on container host
	Compiler: gcc 13.2.1

Fedora 39 (Clang)
	Kernel: Depends on container host
	Compiler: clang 17.0.6

Windows Server 2022
	Kernel: 10.0.20348.2031
	Compiler: clang 15.0.7, gcc 8.1.0 (MinGW), and MSVC VS 17.9

Fedora 40
	Kernel: Depends on container host
	Compiler: gcc 14.1.1

Fedora 40 (Clang)
	Kernel: Depends on container host
	Compiler: clang 18.1.6

openSUSE Leap 15
	Kernel: 5.4.0-167-generic
	Compiler: gcc 7.5.0

RHEL8
	Kernel: 5.4.0-167-generic
	Compiler: gcc 8.5.0 20210514 (Red Hat 8.5.0-20)

RHEL9
	Kernel: Depends on container host
	Compiler: gcc 11.4.1

Ubuntu 20.04
	Kernel: 5.4.0-167-generic
	Compiler: gcc 9.4.0-1ubuntu1~20.04.1

Ubuntu 22.04
	Kernel: 5.4.0-167-generic
	Compiler: gcc 11.4.0

Ubuntu 24.04
	Kernel: 5.4.0-167-generic
	Compiler: gcc 13.2.0

To view detailed results, visit:
https://lab.dpdk.org/results/dashboard/patchsets/30675/

UNH-IOL DPDK Community Lab

To manage your email subscriptions, visit: 
https://lab.dpdk.org/results/dashboard/preferences/subscriptions/