From mboxrd@z Thu Jan  1 00:00:00 1970
Return-Path: <test-report-bounces@dpdk.org>
Received: from mails.dpdk.org (mails.dpdk.org [217.70.189.124])
	by inbox.dpdk.org (Postfix) with ESMTP id 3F3C64570B
	for <public@inbox.dpdk.org>; Thu,  1 Aug 2024 02:54:45 +0200 (CEST)
Received: from mails.dpdk.org (localhost [127.0.0.1])
	by mails.dpdk.org (Postfix) with ESMTP id 379D8402BD;
	Thu,  1 Aug 2024 02:54:45 +0200 (CEST)
Received: from mail-yw1-f225.google.com (mail-yw1-f225.google.com
 [209.85.128.225])
 by mails.dpdk.org (Postfix) with ESMTP id 196FF4027E
 for <test-report@dpdk.org>; Thu,  1 Aug 2024 02:54:44 +0200 (CEST)
Received: by mail-yw1-f225.google.com with SMTP id
 00721157ae682-65f880c56b1so49731377b3.3
 for <test-report@dpdk.org>; Wed, 31 Jul 2024 17:54:44 -0700 (PDT)
DKIM-Signature: v=1; a=rsa-sha256; c=relaxed/relaxed;
 d=iol.unh.edu; s=unh-iol; t=1722473683; x=1723078483; darn=dpdk.org;
 h=references:in-reply-to:cc:to:from:subject:message-id:date:from:to
 :cc:subject:date:message-id:reply-to;
 bh=2ZBS5mghWGUi0VcLcL38SujXGS4Pwu+FDMSJFIRVRaM=;
 b=Fw6DKuk5t6uRRnFPmO+AqkhvXsI7ZhLYr6sxXb0MrZnXnwoY9Yp4FTh6dY4huFRUdz
 wLXPb8XGyWoeKrH55xxsuSZnjEluaetCQu4uFjFmXqcBprRqMo+GFtEW6wR/rjszVHB+
 HmclbvKwbLJ/UluynXeMlOtsmeN8Z/Np2DOxI=
X-Google-DKIM-Signature: v=1; a=rsa-sha256; c=relaxed/relaxed;
 d=1e100.net; s=20230601; t=1722473683; x=1723078483;
 h=references:in-reply-to:cc:to:from:subject:message-id:date
 :x-gm-message-state:from:to:cc:subject:date:message-id:reply-to;
 bh=2ZBS5mghWGUi0VcLcL38SujXGS4Pwu+FDMSJFIRVRaM=;
 b=dVSAmp3Ycy32mYuQTHA+idg3rA+Ulmv9vsCxRaULAs7gi3otFSawBVmwe74gqvBXkP
 hzbAOJIj5zw7c776kFi86CG2umMz632s+9jnBUxVuk3j1aJT5M9LjxEJcXU7mLTWdyyw
 rWBZgcV1fmtcoIndAc+r3SPQLcjqDKCrfSkbtGd7QaGHb3zN3CAAlBde8hHcF8Rg8Sbu
 Bvrpg4Ag7t9KKXbcgbRcDuVsr6kfE5URbGndYuh/kQu9XWhzuIwKb4zpOAeS5Bm3mumk
 m/2Bk3n0yNgckF/LJDeWm7WEzdAXqY166QNdBXyBqHn6U/wjZbPTIQ/qSQLhgpTfnwxg
 qEgA==
X-Gm-Message-State: AOJu0Yxs0l1o2ZTYkrcadgmMHxDatTes45Yq1zRubMU5Gk94XUuRKqRI
 cc6rvRLfyqpEl7Ai1JRV3wos7sRQGQv2Px/sCV8OYkhtaHH4wJQ6xZRX8LdavxegcljH78HJ7hp
 vYjeg5TWKmqZQrKudLBdI0aFDtBvgnr8+LAb/BUo58piByZcBpiH9MLo1
X-Google-Smtp-Source: AGHT+IFic3+kIkubXGuAt6MFUWDuXHtAo+5P6rp1Q3tETt7wlYGDRETByRMP0S8bnWjPaFC4arH0t/+zM9i6
X-Received: by 2002:a0d:fd01:0:b0:62a:530:472f with SMTP id
 00721157ae682-6874d9c252amr10223617b3.32.1722473683318; 
 Wed, 31 Jul 2024 17:54:43 -0700 (PDT)
Received: from postal.iol.unh.edu (postal.iol.unh.edu.
 [2606:4100:3880:1234::84]) by smtp-relay.gmail.com with ESMTPS id
 00721157ae682-6756b7cfb0csm9540907b3.70.2024.07.31.17.54.43
 (version=TLS1_2 cipher=ECDHE-ECDSA-AES128-GCM-SHA256 bits=128/128);
 Wed, 31 Jul 2024 17:54:43 -0700 (PDT)
X-Relaying-Domain: iol.unh.edu
Date: Wed, 31 Jul 2024 17:54:43 -0700 (PDT)
Message-ID: <66aadcd3.0d0a0220.d86f6.980dSMTPIN_ADDED_MISSING@mx.google.com>
Received: from [172.21.0.6] (unknown [172.18.0.240])
 by postal.iol.unh.edu (Postfix) with ESMTP id EC07E605C351;
 Wed, 31 Jul 2024 20:54:42 -0400 (EDT)
Subject: |PENDING| pw142772-142773 [PATCH] [v2,2/2] doc: remove use of -n 4 o
From: dpdklab@iol.unh.edu
To: Test Report <test-report@dpdk.org>
Cc: dpdk-test-reports@iol.unh.edu
In-Reply-To: <20240731043846.78174-2-stephen@networkplumber.org>
References: <20240731043846.78174-2-stephen@networkplumber.org>
Content-Type: text/plain
X-BeenThere: test-report@dpdk.org
X-Mailman-Version: 2.1.29
Precedence: list
List-Id: automatic DPDK test reports <test-report.dpdk.org>
List-Unsubscribe: <https://mails.dpdk.org/options/test-report>,
 <mailto:test-report-request@dpdk.org?subject=unsubscribe>
List-Archive: <http://mails.dpdk.org/archives/test-report/>
List-Post: <mailto:test-report@dpdk.org>
List-Help: <mailto:test-report-request@dpdk.org?subject=help>
List-Subscribe: <https://mails.dpdk.org/listinfo/test-report>,
 <mailto:test-report-request@dpdk.org?subject=subscribe>
Errors-To: test-report-bounces@dpdk.org

Test-Label: iol-unit-amd64-testing
Test-Status: PENDING
http://dpdk.org/patch/142773

_Testing pending_

Submitter: Stephen Hemminger <stephen@networkplumber.org>
Date: Wednesday, July 31 2024 04:38:21 
DPDK git baseline: Repo:dpdk
  Branch: master
  CommitID:b3485f4293997d35b6daecc3437bb0c183a51fb3

142772-142773 --> testing pending

Upstream job id: Generic-Unit-Test-DPDK#247223

Test environment and result as below:

+---------------------+----------------+
|     Environment     | dpdk_unit_test |
+=====================+================+
| CentOS Stream 8     | PASS           |
+---------------------+----------------+
| CentOS Stream 9     | PASS           |
+---------------------+----------------+
| Debian Bullseye     | PASS           |
+---------------------+----------------+
| Debian 12           | PASS           |
+---------------------+----------------+
| Fedora 37           | PASS           |
+---------------------+----------------+
| Fedora 38           | PASS           |
+---------------------+----------------+
| Fedora 38 (Clang)   | PASS           |
+---------------------+----------------+
| Fedora 39           | PASS           |
+---------------------+----------------+
| Fedora 39 (Clang)   | PASS           |
+---------------------+----------------+
| Fedora 40           | PASS           |
+---------------------+----------------+
| Fedora 40 (Clang)   | PASS           |
+---------------------+----------------+
| openSUSE Leap 15    | PASS           |
+---------------------+----------------+
| RHEL8               | PASS           |
+---------------------+----------------+
| RHEL9               | PASS           |
+---------------------+----------------+
| Ubuntu 20.04        | PASS           |
+---------------------+----------------+
| Ubuntu 22.04        | PEND           |
+---------------------+----------------+
| Ubuntu 24.04        | PEND           |
+---------------------+----------------+
| Windows Server 2019 | PASS           |
+---------------------+----------------+
| Windows Server 2022 | PASS           |
+---------------------+----------------+


CentOS Stream 8
	Kernel: 5.4.0-167-generic
	Compiler: gcc 8.5.0 20210514

CentOS Stream 9
	Kernel: 5.4.0-167-generic
	Compiler: gcc 11.4.1 20230605

Debian Bullseye
	Kernel: 5.4.0-167-generic
	Compiler: gcc 10.2.1-6

Debian 12
	Kernel: Container Host Kernel
	Compiler: gcc 12.2.0

Fedora 37
	Kernel: Depends on container host system
	Compiler: gcc 12.3.1

Fedora 38
	Kernel: Depends on container host
	Compiler: gcc 13.2.1

Fedora 38 (Clang)
	Kernel: Depends on container host
	Compiler: clang 16.0.6

Fedora 39
	Kernel: Depends on container host
	Compiler: gcc 13.2.1

Fedora 39 (Clang)
	Kernel: Depends on container host
	Compiler: clang 17.0.6

Fedora 40
	Kernel: Depends on container host
	Compiler: gcc 14.1.1

Fedora 40 (Clang)
	Kernel: Depends on container host
	Compiler: clang 18.1.6

openSUSE Leap 15
	Kernel: 5.4.0-167-generic
	Compiler: gcc 7.5.0

RHEL8
	Kernel: 5.4.0-167-generic
	Compiler: gcc 8.5.0 20210514 (Red Hat 8.5.0-20)

RHEL9
	Kernel: Depends on container host
	Compiler: gcc 11.4.1

Ubuntu 20.04
	Kernel: 5.4.0-167-generic
	Compiler: gcc 9.4.0-1ubuntu1~20.04.1

Ubuntu 22.04
	Kernel: 5.4.0-167-generic
	Compiler: gcc 11.4.0

Ubuntu 24.04
	Kernel: 5.4.0-167-generic
	Compiler: gcc 13.2.0

Windows Server 2019
	Kernel: 10.0.17763
	Compiler: clang 14.0 and gcc 8.1.0 (MinGW)

Windows Server 2022
	Kernel: 10.0.20348.2031
	Compiler: clang 15.0.7, gcc 8.1.0 (MinGW), and MSVC VS 17.9

To view detailed results, visit:
https://lab.dpdk.org/results/dashboard/patchsets/30662/

UNH-IOL DPDK Community Lab

To manage your email subscriptions, visit: 
https://lab.dpdk.org/results/dashboard/preferences/subscriptions/