From mboxrd@z Thu Jan  1 00:00:00 1970
Return-Path: <test-report-bounces@dpdk.org>
Received: from mails.dpdk.org (mails.dpdk.org [217.70.189.124])
	by inbox.dpdk.org (Postfix) with ESMTP id 8F2664570C
	for <public@inbox.dpdk.org>; Thu,  1 Aug 2024 04:47:25 +0200 (CEST)
Received: from mails.dpdk.org (localhost [127.0.0.1])
	by mails.dpdk.org (Postfix) with ESMTP id 64FED402BD;
	Thu,  1 Aug 2024 04:47:25 +0200 (CEST)
Received: from mail-pf1-f225.google.com (mail-pf1-f225.google.com
 [209.85.210.225])
 by mails.dpdk.org (Postfix) with ESMTP id 5F4FE4027E
 for <test-report@dpdk.org>; Thu,  1 Aug 2024 04:47:24 +0200 (CEST)
Received: by mail-pf1-f225.google.com with SMTP id
 d2e1a72fcca58-70d19c525b5so4563635b3a.2
 for <test-report@dpdk.org>; Wed, 31 Jul 2024 19:47:24 -0700 (PDT)
DKIM-Signature: v=1; a=rsa-sha256; c=relaxed/relaxed;
 d=iol.unh.edu; s=unh-iol; t=1722480443; x=1723085243; darn=dpdk.org;
 h=references:in-reply-to:cc:to:from:subject:message-id:date:from:to
 :cc:subject:date:message-id:reply-to;
 bh=TUHw4htogxrIvyIq0WdpRhql/oYphLZy5dYzQBKayVI=;
 b=MkrDXck2V0ySFF1LrIDpGZvYRgn8LCttZXtwLyMUJgJhRyIhKgCItGf3yOYBW5cdb1
 eH9+Ff7IgbAJG5eT/FhcCEROxrnT9n/Dwrdkf6UAsHCNQ7VKAfB8IAlJjbvnapwsDTsK
 P3po18WKw69UMJz3Cdkr9SbG3IYao81df32vY=
X-Google-DKIM-Signature: v=1; a=rsa-sha256; c=relaxed/relaxed;
 d=1e100.net; s=20230601; t=1722480443; x=1723085243;
 h=references:in-reply-to:cc:to:from:subject:message-id:date
 :x-gm-message-state:from:to:cc:subject:date:message-id:reply-to;
 bh=TUHw4htogxrIvyIq0WdpRhql/oYphLZy5dYzQBKayVI=;
 b=gy9YDT12b5cNk3x8eKwfJZIewtFR3xzxTOcaEfCN3DUzuzn8TUU2ZwbUWNq2cdeJbx
 NL+Y25KpK3HdERekK8HDoDSqEDwp7qcuAka0yttiRFtf9g8pLmmyDYdScsQwSJPXUJZB
 wPFPF8BOmaNcdjSkwCYFOMaYI6biUi08gWxE3SSQwaZ3pPtA9x7qnyXsmcMj81VHlrLU
 +IRobxIp6ZHc6CLK4CIOqyDDrLqgWtaZiuaHGqOIZ4Pz8TpWTMoEl6kgt7H7Va7VgekV
 vYHMMIcCBxI5k0DeMowmd+ZKbvhANiRZRXVDpAlEGcjtSFJRGotjoWVEnPhlbXm9RwS4
 RRFw==
X-Gm-Message-State: AOJu0Yz3GhvHL8fmBpZK3aIr6AMIurXBv1pIEY6lJVzr0x3UahzkRDz1
 PiDHujisBExegO/k3RdLaMQstzmEVkvDgsx5Q/bg/rX/WlV4MFkO20wXqCl/mFG1c4TyfN5i1+O
 rhF28x0Sj9abRsrIZxtURcqMS+vKSYIiVP+eMjcHU
X-Google-Smtp-Source: AGHT+IFLJwIGBJy02Jt2tOg1WjcZesIKVXYZKn7WuoxoCwFmTAdmXRTBdKHXzbBB91g4+QogdjrONE/nI1m8
X-Received: by 2002:a05:6a00:2388:b0:70e:98e3:1b9d with SMTP id
 d2e1a72fcca58-7105d716163mr1411104b3a.18.1722480443442; 
 Wed, 31 Jul 2024 19:47:23 -0700 (PDT)
Received: from postal.iol.unh.edu (postal.iol.unh.edu. [132.177.123.84])
 by smtp-relay.gmail.com with ESMTPS id
 41be03b00d2f7-7ae8c8177e0sm294273a12.10.2024.07.31.19.47.23
 (version=TLS1_2 cipher=ECDHE-ECDSA-AES128-GCM-SHA256 bits=128/128);
 Wed, 31 Jul 2024 19:47:23 -0700 (PDT)
X-Relaying-Domain: iol.unh.edu
Date: Wed, 31 Jul 2024 19:47:23 -0700 (PDT)
Message-ID: <66aaf73b.630a0220.da066.493cSMTPIN_ADDED_MISSING@mx.google.com>
Received: from [172.21.0.7] (unknown [172.18.0.240])
 by postal.iol.unh.edu (Postfix) with ESMTP id AF5B0605C351;
 Wed, 31 Jul 2024 22:47:22 -0400 (EDT)
Subject: |PENDING| pw142785 [PATCH] doc: add tested platforms with NVIDIA NIC
From: dpdklab@iol.unh.edu
To: Test Report <test-report@dpdk.org>
Cc: dpdk-test-reports@iol.unh.edu
In-Reply-To: <20240731111503.79928-1-rasland@nvidia.com>
References: <20240731111503.79928-1-rasland@nvidia.com>
Content-Type: text/plain
X-BeenThere: test-report@dpdk.org
X-Mailman-Version: 2.1.29
Precedence: list
List-Id: automatic DPDK test reports <test-report.dpdk.org>
List-Unsubscribe: <https://mails.dpdk.org/options/test-report>,
 <mailto:test-report-request@dpdk.org?subject=unsubscribe>
List-Archive: <http://mails.dpdk.org/archives/test-report/>
List-Post: <mailto:test-report@dpdk.org>
List-Help: <mailto:test-report-request@dpdk.org?subject=help>
List-Subscribe: <https://mails.dpdk.org/listinfo/test-report>,
 <mailto:test-report-request@dpdk.org?subject=subscribe>
Errors-To: test-report-bounces@dpdk.org

Test-Label: iol-compile-amd64-testing
Test-Status: PENDING
http://dpdk.org/patch/142785

_Testing pending_

Submitter: Raslan Darawsheh <rasland@nvidia.com>
Date: Wednesday, July 31 2024 11:15:03 
DPDK git baseline: Repo:dpdk
  Branch: master
  CommitID:1d245ca8239d947258b3ae7cc4d8df97ef527852

142785 --> testing pending

Upstream job id: Generic-DPDK-Compile-Meson#282599

Test environment and result as below:

+---------------------+----------------------+--------------------+-------------------+------------------+-------------------+
|     Environment     | dpdk_mingw64_compile | dpdk_meson_compile | dpdk_msvc_compile | dpdk_compile_ovs | dpdk_compile_spdk |
+=====================+======================+====================+===================+==================+===================+
| Windows Server 2019 | PASS                 | PASS               | SKIPPED           | SKIPPED          | SKIPPED           |
+---------------------+----------------------+--------------------+-------------------+------------------+-------------------+
| Windows Server 2022 | PASS                 | PASS               | PASS              | SKIPPED          | SKIPPED           |
+---------------------+----------------------+--------------------+-------------------+------------------+-------------------+
| FreeBSD 13.3        | SKIPPED              | PASS               | SKIPPED           | SKIPPED          | SKIPPED           |
+---------------------+----------------------+--------------------+-------------------+------------------+-------------------+
| FreeBSD 14.1        | SKIPPED              | PASS               | SKIPPED           | SKIPPED          | SKIPPED           |
+---------------------+----------------------+--------------------+-------------------+------------------+-------------------+
| CentOS Stream 8     | SKIPPED              | PASS               | SKIPPED           | PASS             | PASS              |
+---------------------+----------------------+--------------------+-------------------+------------------+-------------------+
| CentOS Stream 9     | SKIPPED              | PASS               | SKIPPED           | PASS             | PASS              |
+---------------------+----------------------+--------------------+-------------------+------------------+-------------------+
| Debian Bullseye     | SKIPPED              | PASS               | SKIPPED           | PASS             | PASS              |
+---------------------+----------------------+--------------------+-------------------+------------------+-------------------+
| Debian 12           | SKIPPED              | PASS               | SKIPPED           | PASS             | PASS              |
+---------------------+----------------------+--------------------+-------------------+------------------+-------------------+
| Fedora 37           | SKIPPED              | PASS               | SKIPPED           | PASS             | PASS              |
+---------------------+----------------------+--------------------+-------------------+------------------+-------------------+
| Fedora 38 (Clang)   | SKIPPED              | PASS               | SKIPPED           | PASS             | PASS              |
+---------------------+----------------------+--------------------+-------------------+------------------+-------------------+
| Fedora 38           | SKIPPED              | PASS               | SKIPPED           | PASS             | PASS              |
+---------------------+----------------------+--------------------+-------------------+------------------+-------------------+
| Fedora 39 (Clang)   | SKIPPED              | PASS               | SKIPPED           | PASS             | PASS              |
+---------------------+----------------------+--------------------+-------------------+------------------+-------------------+
| Fedora 39           | SKIPPED              | PASS               | SKIPPED           | PASS             | PASS              |
+---------------------+----------------------+--------------------+-------------------+------------------+-------------------+
| Fedora 40 (Clang)   | SKIPPED              | PASS               | SKIPPED           | PASS             | PEND              |
+---------------------+----------------------+--------------------+-------------------+------------------+-------------------+
| Fedora 40           | SKIPPED              | PASS               | SKIPPED           | PASS             | PASS              |
+---------------------+----------------------+--------------------+-------------------+------------------+-------------------+
| openSUSE Leap 15    | SKIPPED              | PASS               | SKIPPED           | PASS             | SKIPPED           |
+---------------------+----------------------+--------------------+-------------------+------------------+-------------------+
| RHEL8               | SKIPPED              | PASS               | SKIPPED           | PASS             | SKIPPED           |
+---------------------+----------------------+--------------------+-------------------+------------------+-------------------+
| RHEL9               | SKIPPED              | PASS               | SKIPPED           | PASS             | SKIPPED           |
+---------------------+----------------------+--------------------+-------------------+------------------+-------------------+
| Ubuntu 20.04        | SKIPPED              | PASS               | SKIPPED           | PASS             | SKIPPED           |
+---------------------+----------------------+--------------------+-------------------+------------------+-------------------+
| Ubuntu 22.04        | SKIPPED              | PASS               | SKIPPED           | PASS             | PASS              |
+---------------------+----------------------+--------------------+-------------------+------------------+-------------------+
| Ubuntu 24.04        | SKIPPED              | PEND               | SKIPPED           | PEND             | PEND              |
+---------------------+----------------------+--------------------+-------------------+------------------+-------------------+
| Alpine              | SKIPPED              | PEND               | SKIPPED           | PEND             | SKIPPED           |
+---------------------+----------------------+--------------------+-------------------+------------------+-------------------+


Windows Server 2019
	Kernel: 10.0.17763
	Compiler: clang 14.0 and gcc 8.1.0 (MinGW)

Windows Server 2022
	Kernel: 10.0.20348.2031
	Compiler: clang 15.0.7, gcc 8.1.0 (MinGW), and MSVC VS 17.9

FreeBSD 13.3
	Kernel: 13.3-RELEASE-p1
	Compiler: clang 17.0.6

FreeBSD 14.1
	Kernel: 14.1
	Compiler: clang 18.1.5

CentOS Stream 8
	Kernel: 5.4.0-167-generic
	Compiler: gcc 8.5.0 20210514

CentOS Stream 9
	Kernel: 5.4.0-167-generic
	Compiler: gcc 11.4.1 20230605

Debian Bullseye
	Kernel: 5.4.0-167-generic
	Compiler: gcc 10.2.1-6

Debian 12
	Kernel: Container Host Kernel
	Compiler: gcc 12.2.0

Fedora 37
	Kernel: Depends on container host system
	Compiler: gcc 12.3.1

Fedora 38 (Clang)
	Kernel: Depends on container host
	Compiler: clang 16.0.6

Fedora 38
	Kernel: Depends on container host
	Compiler: gcc 13.2.1

Fedora 39 (Clang)
	Kernel: Depends on container host
	Compiler: clang 17.0.6

Fedora 39
	Kernel: Depends on container host
	Compiler: gcc 13.2.1

Fedora 40 (Clang)
	Kernel: Depends on container host
	Compiler: clang 18.1.6

Fedora 40
	Kernel: Depends on container host
	Compiler: gcc 14.1.1

openSUSE Leap 15
	Kernel: 5.4.0-167-generic
	Compiler: gcc 7.5.0

RHEL8
	Kernel: 5.4.0-167-generic
	Compiler: gcc 8.5.0 20210514 (Red Hat 8.5.0-20)

RHEL9
	Kernel: Depends on container host
	Compiler: gcc 11.4.1

Ubuntu 20.04
	Kernel: 5.4.0-167-generic
	Compiler: gcc 9.4.0-1ubuntu1~20.04.1

Ubuntu 22.04
	Kernel: 5.4.0-167-generic
	Compiler: gcc 11.4.0

Ubuntu 24.04
	Kernel: 5.4.0-167-generic
	Compiler: gcc 13.2.0

Alpine
	Kernel: 5.4.0-167-generic
	Compiler: gcc (Alpine 13.2.1_git20231014) 13.2.1 20231014

To view detailed results, visit:
https://lab.dpdk.org/results/dashboard/patchsets/30673/

UNH-IOL DPDK Community Lab

To manage your email subscriptions, visit: 
https://lab.dpdk.org/results/dashboard/preferences/subscriptions/