From mboxrd@z Thu Jan  1 00:00:00 1970
Return-Path: <test-report-bounces@dpdk.org>
Received: from mails.dpdk.org (mails.dpdk.org [217.70.189.124])
	by inbox.dpdk.org (Postfix) with ESMTP id 17B4B45708
	for <public@inbox.dpdk.org>; Thu,  1 Aug 2024 06:14:39 +0200 (CEST)
Received: from mails.dpdk.org (localhost [127.0.0.1])
	by mails.dpdk.org (Postfix) with ESMTP id 0F728402BD;
	Thu,  1 Aug 2024 06:14:39 +0200 (CEST)
Received: from mail-ot1-f98.google.com (mail-ot1-f98.google.com
 [209.85.210.98]) by mails.dpdk.org (Postfix) with ESMTP id 34C004027E
 for <test-report@dpdk.org>; Thu,  1 Aug 2024 06:14:37 +0200 (CEST)
Received: by mail-ot1-f98.google.com with SMTP id
 46e09a7af769-7093705c708so6635903a34.1
 for <test-report@dpdk.org>; Wed, 31 Jul 2024 21:14:37 -0700 (PDT)
DKIM-Signature: v=1; a=rsa-sha256; c=relaxed/relaxed;
 d=iol.unh.edu; s=unh-iol; t=1722485676; x=1723090476; darn=dpdk.org;
 h=references:in-reply-to:cc:to:from:subject:message-id:date:from:to
 :cc:subject:date:message-id:reply-to;
 bh=YQjWQK90dmrknM8J17ZZdUWkGSP1YGoKjY8dPHPDtZ0=;
 b=Z/lwlEFO/LWBUFZ9lORnzx+EGF87RQ/jI0AaZaAOC7qNjYIhzyik5ZJnF2DnIvPHt+
 yJ8FN1C68EQbLezIngvKBDNcWkendLPIEN9+02tA3ruaYkEK5qr6b9gX8mM1tNvfH2xH
 CoLsy7JpWXrGZ2njwC1EQ1UcWQ7eZFFvATOEs=
X-Google-DKIM-Signature: v=1; a=rsa-sha256; c=relaxed/relaxed;
 d=1e100.net; s=20230601; t=1722485676; x=1723090476;
 h=references:in-reply-to:cc:to:from:subject:message-id:date
 :x-gm-message-state:from:to:cc:subject:date:message-id:reply-to;
 bh=YQjWQK90dmrknM8J17ZZdUWkGSP1YGoKjY8dPHPDtZ0=;
 b=rwCZI8t28V0zYsZJVPeVgC4fpohCZsWb0ackozWWL0qS6nk6MmCSeJMTMSNCvtp82w
 wdBOF/F+EexU6XHxHDJ8vLC9D9THNqtn4fqazWstGRVKzHvYrU1zCDTaG/J2QSJUmqHW
 0we0jXAalcNsDNXMFwTgNKiED2Xzwjx1bIx3o854HbCXLpsX9mfxbLvnW/K4fWT26UA2
 JrVsDG6DhO+OpUixJOuMt5FciGBbsI0I0WSEzg+Ui+74dz8yXT+DNSglPfL0uId8IMtg
 Ot3SoGNQbrjoWB5V9eOVgqsp1eiGXi0XJKcPOavQpK/eHcmXknGuGZVZ6Pms7yaOtGcu
 0vjQ==
X-Gm-Message-State: AOJu0Yy5G6Gk1vLRZy51KjXlHs+c6gR1E+w64mVWGXyRLfWiDwOyhRXl
 xt9K6uQW/lizT5AJ/AGufF2QMB3Df1HIyQBLYkeBz2X4tAWfCe4XqexfthFuEq3fk1nIYrhhFBw
 8A+gPnvOumWAtRhqcnTt5+9hsYb04LIxgdbUL4Sn/HwDh3J7RisKKdibO
X-Google-Smtp-Source: AGHT+IGEh1nfj+65/7Rw37vnhye3BjbdNsA+GnlzULHSWphI7MuMZO6ykTH1QtxnuIsaTQr7r4ZOPfWFgQjq
X-Received: by 2002:a05:6359:4c81:b0:1aa:b860:f10e with SMTP id
 e5c5f4694b2df-1af2ed8f47fmr171867455d.15.1722485676093; 
 Wed, 31 Jul 2024 21:14:36 -0700 (PDT)
Received: from postal.iol.unh.edu (postal.iol.unh.edu.
 [2606:4100:3880:1234::84]) by smtp-relay.gmail.com with ESMTPS id
 6a1803df08f44-6bb3f922b0asm6345226d6.33.2024.07.31.21.14.36
 (version=TLS1_2 cipher=ECDHE-ECDSA-AES128-GCM-SHA256 bits=128/128);
 Wed, 31 Jul 2024 21:14:36 -0700 (PDT)
X-Relaying-Domain: iol.unh.edu
Date: Wed, 31 Jul 2024 21:14:36 -0700 (PDT)
Message-ID: <66ab0bac.050a0220.25683d.58e2SMTPIN_ADDED_MISSING@mx.google.com>
Received: from [172.21.0.7] (unknown [172.18.0.240])
 by postal.iol.unh.edu (Postfix) with ESMTP id C68D6605C351;
 Thu,  1 Aug 2024 00:14:35 -0400 (EDT)
Subject: |PENDING| pw142791 [PATCH] [RFC,v3,1/1] buildtools: add vscode confi
From: dpdklab@iol.unh.edu
To: Test Report <test-report@dpdk.org>
Cc: dpdk-test-reports@iol.unh.edu
In-Reply-To: <de9fbb94025e11cae08cf3f343f673d9e635ceb3.1722432797.git.anatoly.burakov@intel.com>
References: <de9fbb94025e11cae08cf3f343f673d9e635ceb3.1722432797.git.anatoly.burakov@intel.com>
Content-Type: text/plain
X-BeenThere: test-report@dpdk.org
X-Mailman-Version: 2.1.29
Precedence: list
List-Id: automatic DPDK test reports <test-report.dpdk.org>
List-Unsubscribe: <https://mails.dpdk.org/options/test-report>,
 <mailto:test-report-request@dpdk.org?subject=unsubscribe>
List-Archive: <http://mails.dpdk.org/archives/test-report/>
List-Post: <mailto:test-report@dpdk.org>
List-Help: <mailto:test-report-request@dpdk.org?subject=help>
List-Subscribe: <https://mails.dpdk.org/listinfo/test-report>,
 <mailto:test-report-request@dpdk.org?subject=subscribe>
Errors-To: test-report-bounces@dpdk.org

Test-Label: iol-compile-arm64-testing
Test-Status: PENDING
http://dpdk.org/patch/142791

_Testing pending_

Submitter: Anatoly Burakov <anatoly.burakov@intel.com>
Date: Wednesday, July 31 2024 13:33:49 
DPDK git baseline: Repo:dpdk
  Branch: master
  CommitID:76fa7797c09d5b6bb4aaed8a8f48a3afd6fb2548

142791 --> testing pending

Upstream job id: Generic-DPDK-Compile-Meson#282689

Test environment and result as below:

+----------------------------------------+--------------------+
|              Environment               | dpdk_meson_compile |
+========================================+====================+
| RHEL9 (ARM)                            | PASS               |
+----------------------------------------+--------------------+
| Ubuntu 20.04 ARM GCC Cross Compile     | PEND               |
+----------------------------------------+--------------------+
| Ubuntu 20.04 ARM SVE                   | PASS               |
+----------------------------------------+--------------------+
| Debian 12 with MUSDK                   | PASS               |
+----------------------------------------+--------------------+
| Fedora 37 (ARM)                        | PASS               |
+----------------------------------------+--------------------+
| Fedora 38 (ARM)                        | PASS               |
+----------------------------------------+--------------------+
| Fedora 38 (ARM Clang)                  | PASS               |
+----------------------------------------+--------------------+
| Fedora 39 (ARM)                        | PASS               |
+----------------------------------------+--------------------+
| Fedora 39 (ARM Clang)                  | PASS               |
+----------------------------------------+--------------------+
| Fedora 40 (ARM)                        | PEND               |
+----------------------------------------+--------------------+
| Fedora 40 (ARM Clang)                  | PASS               |
+----------------------------------------+--------------------+
| Ubuntu 20.04 (ARM)                     | PASS               |
+----------------------------------------+--------------------+
| Ubuntu 22.04 (ARM)                     | PASS               |
+----------------------------------------+--------------------+
| Ubuntu 24.04 (ARM)                     | PASS               |
+----------------------------------------+--------------------+
| CentOS Stream 9 (ARM)                  | PASS               |
+----------------------------------------+--------------------+
| Debian 11 (Buster) (ARM)               | PASS               |
+----------------------------------------+--------------------+
| Debian 12 (arm)                        | PEND               |
+----------------------------------------+--------------------+
| Ubuntu 20.04 ARM Clang Cross Compile   | PEND               |
+----------------------------------------+--------------------+
| Ubuntu 20.04 aarch32 GCC Cross Compile | PASS               |
+----------------------------------------+--------------------+


RHEL9 (ARM)
	Kernel: Depends on container host
	Compiler: gcc 11.4.1

Ubuntu 20.04 ARM GCC Cross Compile
	Kernel: 5.4.0-167-generic
	Compiler: aarch64-linux-gnu-gcc (Ubuntu 9.4.0-1ubuntu1~20.04.2) 9.4.0

Ubuntu 20.04 ARM SVE
	Kernel: 5.4.0-167-generic
	Compiler: gcc (Ubuntu 10.5.0-1ubuntu1~20.04) 10.5.0

Debian 12 with MUSDK
	Kernel: Container Host Kernel
	Compiler: gcc 12.2.0

Fedora 37 (ARM)
	Kernel: Depends on container host
	Compiler: gcc 12.3.1

Fedora 38 (ARM)
	Kernel: Depends on container host
	Compiler: gcc 13.2.1

Fedora 38 (ARM Clang)
	Kernel: Depends on container host
	Compiler: clang 16.0.6

Fedora 39 (ARM)
	Kernel: Depends on container host
	Compiler: gcc 13.2.1

Fedora 39 (ARM Clang)
	Kernel: Depends on container host
	Compiler: clang 17.0.6

Fedora 40 (ARM)
	Kernel: Depends on container host
	Compiler: gcc 14.1.1

Fedora 40 (ARM Clang)
	Kernel: Depends on container host
	Compiler: clang 18.1.6

Ubuntu 20.04 (ARM)
	Kernel: Container Host Kernel
	Compiler: gcc 9.4.0

Ubuntu 22.04 (ARM)
	Kernel: Container Host Kernel
	Compiler: gcc 11.4.0

Ubuntu 24.04 (ARM)
	Kernel: 5.4.0-167-generic
	Compiler: gcc 13.2.0

CentOS Stream 9 (ARM)
	Kernel: Container Host Kernel
	Compiler: gcc 11.4.1

Debian 11 (Buster) (ARM)
	Kernel: Container Host Kernel
	Compiler: gcc 10.2.1

Debian 12 (arm)
	Kernel: Container Host Kernel
	Compiler: gcc 12.2.0

Ubuntu 20.04 ARM Clang Cross Compile
	Kernel: 5.4.0-72-generic
	Compiler: clang 10.0.0-4ubuntu1

Ubuntu 20.04 aarch32 GCC Cross Compile
	Kernel: 5.4.0-167-generic
	Compiler: gcc 9.4.0

To view detailed results, visit:
https://lab.dpdk.org/results/dashboard/patchsets/30678/

UNH-IOL DPDK Community Lab

To manage your email subscriptions, visit: 
https://lab.dpdk.org/results/dashboard/preferences/subscriptions/