From mboxrd@z Thu Jan  1 00:00:00 1970
Return-Path: <test-report-bounces@dpdk.org>
Received: from mails.dpdk.org (mails.dpdk.org [217.70.189.124])
	by inbox.dpdk.org (Postfix) with ESMTP id 383F14570D
	for <public@inbox.dpdk.org>; Thu,  1 Aug 2024 08:39:57 +0200 (CEST)
Received: from mails.dpdk.org (localhost [127.0.0.1])
	by mails.dpdk.org (Postfix) with ESMTP id 2FF2340EDC;
	Thu,  1 Aug 2024 08:39:57 +0200 (CEST)
Received: from mail-oi1-f225.google.com (mail-oi1-f225.google.com
 [209.85.167.225])
 by mails.dpdk.org (Postfix) with ESMTP id BCC9340E2C
 for <test-report@dpdk.org>; Thu,  1 Aug 2024 08:39:55 +0200 (CEST)
Received: by mail-oi1-f225.google.com with SMTP id
 5614622812f47-3d9e13ef8edso4356131b6e.2
 for <test-report@dpdk.org>; Wed, 31 Jul 2024 23:39:55 -0700 (PDT)
DKIM-Signature: v=1; a=rsa-sha256; c=relaxed/relaxed;
 d=iol.unh.edu; s=unh-iol; t=1722494395; x=1723099195; darn=dpdk.org;
 h=references:in-reply-to:cc:to:from:subject:message-id:date:from:to
 :cc:subject:date:message-id:reply-to;
 bh=J6M0qtykFUVg/StNkz6j7HmSwSdcx+w79I6zpVpZ4hU=;
 b=bx+LaLQhau5nYWGsrPjvL+4dpewT+vaxiyXG9MhEyHzHtN6w88Osd0iwUDeeKPucSs
 3SQWhDUFrYP1fSATfYRBKJGnRzY2DsoqHIrRvbBQVvcoNQfAlgftVtEqtuRXGazqhKV1
 T2SH7CVuCiqKN77Gcoe5/I6oK7oxfL2KQkGPc=
X-Google-DKIM-Signature: v=1; a=rsa-sha256; c=relaxed/relaxed;
 d=1e100.net; s=20230601; t=1722494395; x=1723099195;
 h=references:in-reply-to:cc:to:from:subject:message-id:date
 :x-gm-message-state:from:to:cc:subject:date:message-id:reply-to;
 bh=J6M0qtykFUVg/StNkz6j7HmSwSdcx+w79I6zpVpZ4hU=;
 b=LyR9FHjYNPZmTURfLpb5Y7gSiIa4nSOzCabTmj2+tkfK5DSMYiSeX6/tf7BCPhS+DZ
 GGSIbxoIGVDCD+EH4XeQGKSlRLkhdn7yfVRlU4//VV0XoAIAUeE+YkqXyU8o1id8MSC+
 5ayH0lCN736j/bE4REAsv652yO8zcRQhh1PEt7SCih472yiOf1IdPf33jc2GQGe6paQe
 m6Fn9bYTQdwFFyLeroq+ZszsoqqYE5adNPuSi/3AsLx7+7HcmcPO3lntgZpuNcu5mudR
 c+ZDsfqbLI8JKKuRVxSG5PwkGVDxDVsJs15kXTaNH2eRcm9/D/goOJXy2XxZuUN6y4P6
 /OYw==
X-Gm-Message-State: AOJu0YwebqFo7trclH/v+txC6E8m+5yoroOng+E1M3xHfuZyFPLie40d
 ULy+wpzquM4quVFz7jeAJOq9j246XoLT3PwbLyeA/Pei6Yo4pBtJwksYardtpb6gSF5+4cUh9OQ
 N5yhhVohqGRD7uN7Y+W4KMlJ/89949x4IFUE77Bv5tiqq8JWJo5Y2EaQO
X-Google-Smtp-Source: AGHT+IEyiLpLs6Ih6VfAk7d5cu0a4m2eKRpIF9WVEbDTVOVMqqFy7+X89RAf9g4+Cr0/eMumMUZwMuY67SlD
X-Received: by 2002:a05:6870:f150:b0:25e:19fe:f233 with SMTP id
 586e51a60fabf-2687a6fb6d1mr1637365fac.32.1722494394924; 
 Wed, 31 Jul 2024 23:39:54 -0700 (PDT)
Received: from postal.iol.unh.edu (postal.iol.unh.edu.
 [2606:4100:3880:1234::84]) by smtp-relay.gmail.com with ESMTPS id
 d2e1a72fcca58-70ead91ad13sm829766b3a.24.2024.07.31.23.39.54
 (version=TLS1_2 cipher=ECDHE-ECDSA-AES128-GCM-SHA256 bits=128/128);
 Wed, 31 Jul 2024 23:39:54 -0700 (PDT)
X-Relaying-Domain: iol.unh.edu
Date: Wed, 31 Jul 2024 23:39:54 -0700 (PDT)
Message-ID: <66ab2dba.050a0220.2687a2.1974SMTPIN_ADDED_MISSING@mx.google.com>
Received: from [172.21.0.9] (unknown [172.18.0.240])
 by postal.iol.unh.edu (Postfix) with ESMTP id 10BDF605C351;
 Thu,  1 Aug 2024 02:39:54 -0400 (EDT)
Subject: |SUCCESS| pw142788-142789 [PATCH] [2/2] app/crypto-perf: test queue 
From: dpdklab@iol.unh.edu
To: Test Report <test-report@dpdk.org>
Cc: dpdk-test-reports@iol.unh.edu
In-Reply-To: <20240731115445.1771803-2-gakhil@marvell.com>
References: <20240731115445.1771803-2-gakhil@marvell.com>
Content-Type: text/plain
X-BeenThere: test-report@dpdk.org
X-Mailman-Version: 2.1.29
Precedence: list
List-Id: automatic DPDK test reports <test-report.dpdk.org>
List-Unsubscribe: <https://mails.dpdk.org/options/test-report>,
 <mailto:test-report-request@dpdk.org?subject=unsubscribe>
List-Archive: <http://mails.dpdk.org/archives/test-report/>
List-Post: <mailto:test-report@dpdk.org>
List-Help: <mailto:test-report-request@dpdk.org?subject=help>
List-Subscribe: <https://mails.dpdk.org/listinfo/test-report>,
 <mailto:test-report-request@dpdk.org?subject=subscribe>
Errors-To: test-report-bounces@dpdk.org

Test-Label: iol-unit-arm64-testing
Test-Status: SUCCESS
http://dpdk.org/patch/142789

_Testing PASS_

Submitter: Akhil Goyal <gakhil@marvell.com>
Date: Wednesday, July 31 2024 11:54:45 
DPDK git baseline: Repo:dpdk
  Branch: master
  CommitID:4b5abe7ec1ed2d43a285599bbba23f62ac049d8f

142788-142789 --> testing pass

Upstream job id: Generic-Unit-Test-DPDK#247385

Test environment and result as below:

+-----------------------------+----------------+--------------+---------------------------+------------------------------+
|         Environment         | dpdk_unit_test | lpm_autotest | cryptodev_sw_zuc_autotest | cryptodev_sw_snow3g_autotest |
+=============================+================+==============+===========================+==============================+
| CentOS Stream 9 (ARM)       | PASS           | SKIPPED      | SKIPPED                   | SKIPPED                      |
+-----------------------------+----------------+--------------+---------------------------+------------------------------+
| Debian 11 (Buster) (ARM)    | PASS           | SKIPPED      | SKIPPED                   | SKIPPED                      |
+-----------------------------+----------------+--------------+---------------------------+------------------------------+
| Debian 12 (arm)             | PASS           | SKIPPED      | PASS                      | PASS                         |
+-----------------------------+----------------+--------------+---------------------------+------------------------------+
| Fedora 37 (ARM)             | PASS           | SKIPPED      | SKIPPED                   | SKIPPED                      |
+-----------------------------+----------------+--------------+---------------------------+------------------------------+
| Fedora 38 (ARM Clang)       | PASS           | SKIPPED      | SKIPPED                   | SKIPPED                      |
+-----------------------------+----------------+--------------+---------------------------+------------------------------+
| Fedora 38 (ARM)             | PASS           | SKIPPED      | SKIPPED                   | SKIPPED                      |
+-----------------------------+----------------+--------------+---------------------------+------------------------------+
| Fedora 39 (ARM Clang)       | PASS           | SKIPPED      | SKIPPED                   | SKIPPED                      |
+-----------------------------+----------------+--------------+---------------------------+------------------------------+
| Fedora 39 (ARM)             | PASS           | SKIPPED      | SKIPPED                   | SKIPPED                      |
+-----------------------------+----------------+--------------+---------------------------+------------------------------+
| 32-bit Ubuntu 20.04.4 (ARM) | PASS           | SKIPPED      | SKIPPED                   | SKIPPED                      |
+-----------------------------+----------------+--------------+---------------------------+------------------------------+
| Fedora 40 (ARM)             | PASS           | SKIPPED      | SKIPPED                   | SKIPPED                      |
+-----------------------------+----------------+--------------+---------------------------+------------------------------+
| Fedora 40 (ARM Clang)       | PASS           | SKIPPED      | SKIPPED                   | SKIPPED                      |
+-----------------------------+----------------+--------------+---------------------------+------------------------------+
| RHEL9 (ARM)                 | PASS           | SKIPPED      | SKIPPED                   | SKIPPED                      |
+-----------------------------+----------------+--------------+---------------------------+------------------------------+
| Ubuntu 20.04 (ARM)          | PASS           | SKIPPED      | SKIPPED                   | SKIPPED                      |
+-----------------------------+----------------+--------------+---------------------------+------------------------------+
| Ubuntu 22.04 (ARM)          | PASS           | SKIPPED      | SKIPPED                   | SKIPPED                      |
+-----------------------------+----------------+--------------+---------------------------+------------------------------+
| Ubuntu 24.04 (ARM)          | PASS           | SKIPPED      | SKIPPED                   | SKIPPED                      |
+-----------------------------+----------------+--------------+---------------------------+------------------------------+
| Ubuntu 20.04 ARM SVE        | SKIPPED        | PASS         | SKIPPED                   | SKIPPED                      |
+-----------------------------+----------------+--------------+---------------------------+------------------------------+


CentOS Stream 9 (ARM)
	Kernel: Container Host Kernel
	Compiler: gcc 11.4.1

Debian 11 (Buster) (ARM)
	Kernel: Container Host Kernel
	Compiler: gcc 10.2.1

Debian 12 (arm)
	Kernel: Container Host Kernel
	Compiler: gcc 12.2.0

Fedora 37 (ARM)
	Kernel: Depends on container host
	Compiler: gcc 12.3.1

Fedora 38 (ARM Clang)
	Kernel: Depends on container host
	Compiler: clang 16.0.6

Fedora 38 (ARM)
	Kernel: Depends on container host
	Compiler: gcc 13.2.1

Fedora 39 (ARM Clang)
	Kernel: Depends on container host
	Compiler: clang 17.0.6

Fedora 39 (ARM)
	Kernel: Depends on container host
	Compiler: gcc 13.2.1

32-bit Ubuntu 20.04.4 (ARM)
	Kernel: 5.4.0-155-generic aarch64
	Compiler: gcc 9.4

Fedora 40 (ARM)
	Kernel: Depends on container host
	Compiler: gcc 14.1.1

Fedora 40 (ARM Clang)
	Kernel: Depends on container host
	Compiler: clang 18.1.6

RHEL9 (ARM)
	Kernel: Depends on container host
	Compiler: gcc 11.4.1

Ubuntu 20.04 (ARM)
	Kernel: Container Host Kernel
	Compiler: gcc 9.4.0

Ubuntu 22.04 (ARM)
	Kernel: Container Host Kernel
	Compiler: gcc 11.4.0

Ubuntu 24.04 (ARM)
	Kernel: 5.4.0-167-generic
	Compiler: gcc 13.2.0

Ubuntu 20.04 ARM SVE
	Kernel: 5.4.0-167-generic
	Compiler: gcc (Ubuntu 10.5.0-1ubuntu1~20.04) 10.5.0

To view detailed results, visit:
https://lab.dpdk.org/results/dashboard/patchsets/30676/

UNH-IOL DPDK Community Lab

To manage your email subscriptions, visit: 
https://lab.dpdk.org/results/dashboard/preferences/subscriptions/