From mboxrd@z Thu Jan  1 00:00:00 1970
Return-Path: <test-report-bounces@dpdk.org>
Received: from mails.dpdk.org (mails.dpdk.org [217.70.189.124])
	by inbox.dpdk.org (Postfix) with ESMTP id C14544570D
	for <public@inbox.dpdk.org>; Thu,  1 Aug 2024 09:00:54 +0200 (CEST)
Received: from mails.dpdk.org (localhost [127.0.0.1])
	by mails.dpdk.org (Postfix) with ESMTP id BD73640EDC;
	Thu,  1 Aug 2024 09:00:54 +0200 (CEST)
Received: from mail-io1-f98.google.com (mail-io1-f98.google.com
 [209.85.166.98]) by mails.dpdk.org (Postfix) with ESMTP id DD1C240E2C
 for <test-report@dpdk.org>; Thu,  1 Aug 2024 09:00:52 +0200 (CEST)
Received: by mail-io1-f98.google.com with SMTP id
 ca18e2360f4ac-81f8f0197abso296456939f.2
 for <test-report@dpdk.org>; Thu, 01 Aug 2024 00:00:52 -0700 (PDT)
DKIM-Signature: v=1; a=rsa-sha256; c=relaxed/relaxed;
 d=iol.unh.edu; s=unh-iol; t=1722495652; x=1723100452; darn=dpdk.org;
 h=references:in-reply-to:cc:to:from:subject:message-id:date:from:to
 :cc:subject:date:message-id:reply-to;
 bh=u9/BMXM3F6WvVj0wiRer7Z3AGMNqfm0ls5TTCXOV6Y4=;
 b=XWHw+NOc1Wy3ymN5XJyv5lrRYwRksdcRsAUZt/dmhiWT+HhlJPuetS6fexqIfoja2/
 QNj/UVIxtDYr1XBpgATF9KobitFUeS+qKSAOFOUMMVrtJwRD5PoKod1xDP4TbRrsCGxk
 8euE9Bd126sZQcsPmXBb52sxbai38xA2it62Q=
X-Google-DKIM-Signature: v=1; a=rsa-sha256; c=relaxed/relaxed;
 d=1e100.net; s=20230601; t=1722495652; x=1723100452;
 h=references:in-reply-to:cc:to:from:subject:message-id:date
 :x-gm-message-state:from:to:cc:subject:date:message-id:reply-to;
 bh=u9/BMXM3F6WvVj0wiRer7Z3AGMNqfm0ls5TTCXOV6Y4=;
 b=bVBUj8Vy/1lG04XsSJo+RsTZomcyA0m6lkzkVUyRS2PMqem0apBYGgLwMChfREcQWT
 Jrz6WmbhKl78zSHYGERbLbVTJouAgApdL5g7FN+DwOqrPdEZ1WksBD/b1l45W69jaAG0
 /aPvLq0NAZIoZfAQdDfwLAyt3K5STBX4ZYpkpeVs6c3ZC4+qSe4Ud8v1EyG+tjO08CQ4
 BfJRPTBkWqNrlhQeHq2c0RvQzC3Qw6cESxdTRwgZKdZe+2J+oMV1XhNYWppKAmAPnnJ/
 19YamFjF2gWbl5YkZ505u1CAwt+BJhp23j+md4/jsHRNNQzOSGYf5mQTa+uIjOH27hRC
 9GkQ==
X-Gm-Message-State: AOJu0YyD0WlKaCdi7IeltftYKvWBu7YpD6hvL/+QK45PTdXKTb2FBrmi
 XFaQgLeWfjm8eM1GfXyvgIcnSBPdWalnE/N1udnTQ2CYBpbeA4f+xk7aMLH9gnSDTECQBGiTdaA
 IAUjN5IDaakaKAhU+/WRAcKWJntVnloeYpALJJ+rI51UwXs8Oer7YCbcB
X-Google-Smtp-Source: AGHT+IFmQDUraavieEPhBeEREan2Xx8Fmot46xGhWtF6Qxb0hmhpVSPOLyRJAxz5yyDe9A/tlZLsu0iRnglo
X-Received: by 2002:a05:6602:634b:b0:7f6:2819:b099 with SMTP id
 ca18e2360f4ac-81fcc2480e6mr197978439f.16.1722495651842; 
 Thu, 01 Aug 2024 00:00:51 -0700 (PDT)
Received: from postal.iol.unh.edu (postal.iol.unh.edu.
 [2606:4100:3880:1234::84]) by smtp-relay.gmail.com with ESMTPS id
 ca18e2360f4ac-81f7d770e25sm46352439f.16.2024.08.01.00.00.51
 (version=TLS1_2 cipher=ECDHE-ECDSA-AES128-GCM-SHA256 bits=128/128);
 Thu, 01 Aug 2024 00:00:51 -0700 (PDT)
X-Relaying-Domain: iol.unh.edu
Date: Thu, 01 Aug 2024 00:00:51 -0700 (PDT)
Message-ID: <66ab32a3.050a0220.a5bce.babeSMTPIN_ADDED_MISSING@mx.google.com>
Received: from [172.21.0.9] (unknown [172.18.0.240])
 by postal.iol.unh.edu (Postfix) with ESMTP id 6FA53605C351;
 Thu,  1 Aug 2024 03:00:51 -0400 (EDT)
Subject: |PENDING| pw142788-142789 [PATCH] [2/2] app/crypto-perf: test queue 
From: dpdklab@iol.unh.edu
To: Test Report <test-report@dpdk.org>
Cc: dpdk-test-reports@iol.unh.edu
In-Reply-To: <20240731115445.1771803-2-gakhil@marvell.com>
References: <20240731115445.1771803-2-gakhil@marvell.com>
Content-Type: text/plain
X-BeenThere: test-report@dpdk.org
X-Mailman-Version: 2.1.29
Precedence: list
List-Id: automatic DPDK test reports <test-report.dpdk.org>
List-Unsubscribe: <https://mails.dpdk.org/options/test-report>,
 <mailto:test-report-request@dpdk.org?subject=unsubscribe>
List-Archive: <http://mails.dpdk.org/archives/test-report/>
List-Post: <mailto:test-report@dpdk.org>
List-Help: <mailto:test-report-request@dpdk.org?subject=help>
List-Subscribe: <https://mails.dpdk.org/listinfo/test-report>,
 <mailto:test-report-request@dpdk.org?subject=subscribe>
Errors-To: test-report-bounces@dpdk.org

Test-Label: iol-unit-amd64-testing
Test-Status: PENDING
http://dpdk.org/patch/142789

_Testing pending_

Submitter: Akhil Goyal <gakhil@marvell.com>
Date: Wednesday, July 31 2024 11:54:45 
DPDK git baseline: Repo:dpdk
  Branch: master
  CommitID:4b5abe7ec1ed2d43a285599bbba23f62ac049d8f

142788-142789 --> testing pending

Upstream job id: Generic-Unit-Test-DPDK#247395

Test environment and result as below:

+---------------------+----------------+
|     Environment     | dpdk_unit_test |
+=====================+================+
| Windows Server 2022 | PASS           |
+---------------------+----------------+
| CentOS Stream 8     | PASS           |
+---------------------+----------------+
| CentOS Stream 9     | PASS           |
+---------------------+----------------+
| Windows Server 2019 | PASS           |
+---------------------+----------------+
| Debian Bullseye     | PASS           |
+---------------------+----------------+
| Debian 12           | PASS           |
+---------------------+----------------+
| Fedora 37           | PASS           |
+---------------------+----------------+
| Fedora 38           | PASS           |
+---------------------+----------------+
| Fedora 38 (Clang)   | PASS           |
+---------------------+----------------+
| Fedora 39 (Clang)   | PASS           |
+---------------------+----------------+
| Fedora 39           | PASS           |
+---------------------+----------------+
| Fedora 40           | PASS           |
+---------------------+----------------+
| Fedora 40 (Clang)   | PASS           |
+---------------------+----------------+
| openSUSE Leap 15    | PASS           |
+---------------------+----------------+
| RHEL8               | PASS           |
+---------------------+----------------+
| Ubuntu 20.04        | PASS           |
+---------------------+----------------+
| RHEL9               | PASS           |
+---------------------+----------------+
| Ubuntu 22.04        | PEND           |
+---------------------+----------------+
| Ubuntu 24.04        | PEND           |
+---------------------+----------------+


Windows Server 2022
	Kernel: 10.0.20348.2031
	Compiler: clang 15.0.7, gcc 8.1.0 (MinGW), and MSVC VS 17.9

CentOS Stream 8
	Kernel: 5.4.0-167-generic
	Compiler: gcc 8.5.0 20210514

CentOS Stream 9
	Kernel: 5.4.0-167-generic
	Compiler: gcc 11.4.1 20230605

Windows Server 2019
	Kernel: 10.0.17763
	Compiler: clang 14.0 and gcc 8.1.0 (MinGW)

Debian Bullseye
	Kernel: 5.4.0-167-generic
	Compiler: gcc 10.2.1-6

Debian 12
	Kernel: Container Host Kernel
	Compiler: gcc 12.2.0

Fedora 37
	Kernel: Depends on container host system
	Compiler: gcc 12.3.1

Fedora 38
	Kernel: Depends on container host
	Compiler: gcc 13.2.1

Fedora 38 (Clang)
	Kernel: Depends on container host
	Compiler: clang 16.0.6

Fedora 39 (Clang)
	Kernel: Depends on container host
	Compiler: clang 17.0.6

Fedora 39
	Kernel: Depends on container host
	Compiler: gcc 13.2.1

Fedora 40
	Kernel: Depends on container host
	Compiler: gcc 14.1.1

Fedora 40 (Clang)
	Kernel: Depends on container host
	Compiler: clang 18.1.6

openSUSE Leap 15
	Kernel: 5.4.0-167-generic
	Compiler: gcc 7.5.0

RHEL8
	Kernel: 5.4.0-167-generic
	Compiler: gcc 8.5.0 20210514 (Red Hat 8.5.0-20)

Ubuntu 20.04
	Kernel: 5.4.0-167-generic
	Compiler: gcc 9.4.0-1ubuntu1~20.04.1

RHEL9
	Kernel: Depends on container host
	Compiler: gcc 11.4.1

Ubuntu 22.04
	Kernel: 5.4.0-167-generic
	Compiler: gcc 11.4.0

Ubuntu 24.04
	Kernel: 5.4.0-167-generic
	Compiler: gcc 13.2.0

To view detailed results, visit:
https://lab.dpdk.org/results/dashboard/patchsets/30676/

UNH-IOL DPDK Community Lab

To manage your email subscriptions, visit: 
https://lab.dpdk.org/results/dashboard/preferences/subscriptions/